BEGIN:VCALENDAR
VERSION:2.0
PRODID:-//Yvelines Infos - ECPv6.0.2//NONSGML v1.0//EN
CALSCALE:GREGORIAN
METHOD:PUBLISH
X-ORIGINAL-URL:https://www.yvelines-infos.fr
X-WR-CALDESC:Évènements pour Yvelines Infos
REFRESH-INTERVAL;VALUE=DURATION:PT1H
X-Robots-Tag:noindex
X-PUBLISHED-TTL:PT1H
BEGIN:VTIMEZONE
TZID:Europe/Paris
BEGIN:DAYLIGHT
TZOFFSETFROM:+0100
TZOFFSETTO:+0200
TZNAME:CEST
DTSTART:20180325T010000
END:DAYLIGHT
BEGIN:STANDARD
TZOFFSETFROM:+0200
TZOFFSETTO:+0100
TZNAME:CET
DTSTART:20181028T010000
END:STANDARD
END:VTIMEZONE
BEGIN:VEVENT
DTSTART;TZID=Europe/Paris:20181213T200000
DTEND;TZID=Europe/Paris:20181213T211000
DTSTAMP:20260423T132516
CREATED:20180912T085701Z
LAST-MODIFIED:20180912T085701Z
UID:352466-1544731200-1544735400@www.yvelines-infos.fr
SUMMARY:QUAND JE SERAI GRANDE...  TU SERAS UNE FEMME\, MA FILLE
DESCRIPTION:Jeudi 13 décembre 2018 / 20h \nThéâtre \nDe Catherine HAUSEUX \nMise en scène : Stéphane Daurat \nAvec Catherine Hauseux \n  \nCOMPAGNIE CARAVANE \n  \nÊtre une femme.\nAvec les rêves que l’on avait petite fille.\nAvec les rêves que l’on a pour nos filles.\nQuand je serai grande… est un hymne à la liberté.\nQuatre personnages. Inspirés de nombreux entretiens avec des femmes de 18 à 92 ans.\nQuatre parcours individuels devenant universels.\nQuatre générations de femmes\, incarnées par une seule Un spectacle résolument humaniste\, touchant par sa générosité et sa justesse. \n« Un texte profond\, drôle et poétique. Un bel hommage aux femmes. » Paristribu.com \n« Une pièce pleine d’humour\, délicate et émouvante. » AgendaTheatre.fr \n« La performance de l’actrice est exemplaire\, fine et subtile. » AviNews \n  \n  \nDurée : 1h10 \nPlein tarif 24 € / Tarif jeune & réduit 15 € / Tarif abonné 18 € • Tarif jeune abonné 12 €
URL:https://www.yvelines-infos.fr/agenda/serai-grande-seras-femme-fille/
LOCATION:Centre culturel Jean Vilar 44 allée des Épines 78160 Marly-le-Roi\, 44 allée des Épines\, Marly-le-Roi\, 78160
ATTACH;FMTTYPE=image/jpeg:https://www.yvelines-infos.fr/content/uploads/2018/visuel-quand-je-serai-grande.jpg
ORGANIZER;CN="Centre%20culturel%20Jean%20Vilar":MAILTO:accueil@ccjeanvilar.fr
GEO:48.8761727;2.0970687
X-APPLE-STRUCTURED-LOCATION;VALUE=URI;X-ADDRESS=Centre culturel Jean Vilar 44 allée des Épines 78160 Marly-le-Roi 44 allée des Épines Marly-le-Roi 78160;X-APPLE-RADIUS=500;X-TITLE=44 allée des Épines:geo:2.0970687,48.8761727
END:VEVENT
END:VCALENDAR