BEGIN:VCALENDAR
VERSION:2.0
PRODID:-//Yvelines Infos - ECPv6.0.2//NONSGML v1.0//EN
CALSCALE:GREGORIAN
METHOD:PUBLISH
X-ORIGINAL-URL:https://www.yvelines-infos.fr
X-WR-CALDESC:Évènements pour Yvelines Infos
REFRESH-INTERVAL;VALUE=DURATION:PT1H
X-Robots-Tag:noindex
X-PUBLISHED-TTL:PT1H
BEGIN:VTIMEZONE
TZID:Europe/Paris
BEGIN:DAYLIGHT
TZOFFSETFROM:+0100
TZOFFSETTO:+0200
TZNAME:CEST
DTSTART:20180325T010000
END:DAYLIGHT
BEGIN:STANDARD
TZOFFSETFROM:+0200
TZOFFSETTO:+0100
TZNAME:CET
DTSTART:20181028T010000
END:STANDARD
BEGIN:DAYLIGHT
TZOFFSETFROM:+0100
TZOFFSETTO:+0200
TZNAME:CEST
DTSTART:20190331T010000
END:DAYLIGHT
BEGIN:STANDARD
TZOFFSETFROM:+0200
TZOFFSETTO:+0100
TZNAME:CET
DTSTART:20191027T010000
END:STANDARD
BEGIN:DAYLIGHT
TZOFFSETFROM:+0100
TZOFFSETTO:+0200
TZNAME:CEST
DTSTART:20200329T010000
END:DAYLIGHT
BEGIN:STANDARD
TZOFFSETFROM:+0200
TZOFFSETTO:+0100
TZNAME:CET
DTSTART:20201025T010000
END:STANDARD
BEGIN:DAYLIGHT
TZOFFSETFROM:+0100
TZOFFSETTO:+0200
TZNAME:CEST
DTSTART:20210328T010000
END:DAYLIGHT
BEGIN:STANDARD
TZOFFSETFROM:+0200
TZOFFSETTO:+0100
TZNAME:CET
DTSTART:20211031T010000
END:STANDARD
END:VTIMEZONE
BEGIN:VEVENT
DTSTART;TZID=Europe/Paris:20180324T203000
DTEND;TZID=Europe/Paris:20180324T220000
DTSTAMP:20260423T123042
CREATED:20170911T141537Z
LAST-MODIFIED:20170911T141537Z
UID:343279-1521923400-1521928800@www.yvelines-infos.fr
SUMMARY:Théâtre : Le Misanthrope
DESCRIPTION:Le Misanthrope est l’histoire d’un couple impossible. L’histoire de deux êtres qui s’aiment mais que la société sépare. La pièce montre un Alceste amoureux et sincère qui se bat contre l’hypocrisie généralisée face à une Célimène qui se moque de tout sans vergogne. On peut voir en elle une simple coquette médisante\, mais ce serait minimiser la profondeur de l’écriture de Molière. Célimène est une jeune veuve qui brille par son indépendance\, son envie de liberté\, sa volonté de jouir de la vie. Elle aime Alceste\, oui\, mais ne veut pas de la prison qu’il lui propose. \nLa Compagnie Viva est soutenue par le Centre culturel depuis une dizaine d’années. Elle produit des oeuvres classiques dans des mises en scène résolument modernes et esthétiques. \nTexte Molière adaptation\, mise en scène et scénographie Anthony Magnier distribution en cours – Compagnie Viva
URL:https://www.yvelines-infos.fr/agenda/theatre-le-misanthrope/
LOCATION:Centre culturel Jean Vilar\, 44 allée des Épines\, Marly-le-Roi\, 78160\, France
ATTACH;FMTTYPE=image/jpeg:https://www.yvelines-infos.fr/content/uploads/2017/Le-Misanthrope©D.R.jpg
ORGANIZER;CN="Centre%20culturel%20Jean%20Vilar":MAILTO:accueil@ccjeanvilar.fr
GEO:48.8761727;2.0970687
X-APPLE-STRUCTURED-LOCATION;VALUE=URI;X-ADDRESS=Centre culturel Jean Vilar 44 allée des Épines Marly-le-Roi 78160 France;X-APPLE-RADIUS=500;X-TITLE=44 allée des Épines:geo:2.0970687,48.8761727
END:VEVENT
BEGIN:VEVENT
DTSTART;TZID=Europe/Paris:20180407T203000
DTEND;TZID=Europe/Paris:20180407T213000
DTSTAMP:20260423T123042
CREATED:20170912T092056Z
LAST-MODIFIED:20170912T092056Z
UID:343367-1523133000-1523136600@www.yvelines-infos.fr
SUMMARY:Concert : Les Joyeux Urbains\, La Tournée des 20 ans
DESCRIPTION:Irrévérencieux et décalés\, les terribles Joyeux Urbains reviennent en force pour faire revivre 20 années de spectacles loufoques et de chansons acides. Dans ce nouveau spectacle best of\, les Joyeux Urbains déclinent leur pop satirique rehaussée d’une bonne dose d’absurde\, d’humour décalé et de surprises. \nAvec une élégance contenue\, chansons d’amour et textes nostalgiques s’entrecroisent dans une mélodieuse alchimie rythmée par ukulélé\, guitare\, basse\, synthé\, cajun ou encore batterie. \nLes Joyeux Urbains délivrent des textes uniques et inattendus où l’humour se forme sous une plume poétique soulignant\, d’un air un brin moqueur\, une incisive vérité. \nMise en scène Sébastien Lalanne avec David Roquier\, Arnaud Joyet\, Emmanuel Urbanet\, Mathieu Rieusset et Manu Riquier – ADL productions
URL:https://www.yvelines-infos.fr/agenda/concert-joyeux-urbains-tournee-20-ans/
LOCATION:Centre culturel Jean Vilar\, 44 allée des Épines\, Marly-le-Roi\, 78160\, France
ATTACH;FMTTYPE=image/jpeg:https://www.yvelines-infos.fr/content/uploads/2017/Joyeux-Urbains-©Najim-Chaoui.jpg
ORGANIZER;CN="Centre%20culturel%20Jean%20Vilar":MAILTO:accueil@ccjeanvilar.fr
GEO:48.8761727;2.0970687
X-APPLE-STRUCTURED-LOCATION;VALUE=URI;X-ADDRESS=Centre culturel Jean Vilar 44 allée des Épines Marly-le-Roi 78160 France;X-APPLE-RADIUS=500;X-TITLE=44 allée des Épines:geo:2.0970687,48.8761727
END:VEVENT
BEGIN:VEVENT
DTSTART;TZID=Europe/Paris:20201128T203000
DTEND;TZID=Europe/Paris:20201128T223000
DTSTAMP:20260423T123042
CREATED:20200624T092919Z
LAST-MODIFIED:20200624T092919Z
UID:367859-1606595400-1606602600@www.yvelines-infos.fr
SUMMARY:UN MONDE FOU
DESCRIPTION:Théâtre \nSamedi 28 novembre à 20h30 \nDe Becky MODE\nMise en scène : Éric Métayer\nDirection artistique : Andréa Bescond\nTraduction : Attica Guedj et Stephan Meldegg\nAvec Éric Métayer \n984 PRODUCTIONS / MATRIOSHKA DIFFUSION  \nActeur au chômage\, Sam arrondit ses fins de mois comme standardiste aux réservations d’un grand restaurant. Entre les caprices des VIP\, le chef qui le harcèle\, l’arrivée du critique gastronomique et les tâches les plus ingrates qu’on lui demande d’exécuter\, Sam entrevoit des signes d’un avenir meilleur. \nÉric Métayer joue Sam et… tous ses interlocuteurs !! Cette trentaine de personnages nous montre un raccourci du monde saisissant. En caméléon virtuose\, Éric Métayer s’approprie leurs voix et leurs corps et dévoile derrière la performance (saluée par un Molière du Seul en Scène)\, une émouvante humanité. \n« Un acteur d’une espèce rare\, un animal polymorphe et polyphonique\, doué d’un système moteur extravagant\, d’une énergie fabuleuse et d’une élasticité physique peu commune. » Le Figaro \n​« Éric Métayer est d’une admirable légèreté. La rapidité de sa touche\, de sa stylisation\, évoque davantage notre monde fou et indifférent que bien des réalismes dramatiques. » Télérama \nTarif unique : 25 € \nDurée : 1h40
URL:https://www.yvelines-infos.fr/agenda/un-monde-fou/
LOCATION:Centre culturel Jean Vilar\, 44 allée des Épines\, Marly-le-Roi\, 78160\, France
ATTACH;FMTTYPE=image/jpeg:https://www.yvelines-infos.fr/content/uploads/2020/photo-16-hd.jpg
ORGANIZER;CN="Centre%20culturel%20Jean%20Vilar":MAILTO:accueil@ccjeanvilar.fr
GEO:48.8761727;2.0970687
X-APPLE-STRUCTURED-LOCATION;VALUE=URI;X-ADDRESS=Centre culturel Jean Vilar 44 allée des Épines Marly-le-Roi 78160 France;X-APPLE-RADIUS=500;X-TITLE=44 allée des Épines:geo:2.0970687,48.8761727
END:VEVENT
BEGIN:VEVENT
DTSTART;TZID=Europe/Paris:20210108T203000
DTEND;TZID=Europe/Paris:20210108T220000
DTSTAMP:20260423T123042
CREATED:20200624T092621Z
LAST-MODIFIED:20200624T092621Z
UID:367875-1610137800-1610143200@www.yvelines-infos.fr
SUMMARY:CHAGRIN D’ÉCOLE
DESCRIPTION:Théâtre \nVendredi 8 janvier à 20h30 \nDe Daniel PENNAC\nAdaptation et interprétation : Laurent Natrella\nMise en scène et adaptation : Christèle Wurmser \nATELIER THÉÂTRE ACTUEL / ZD PRODUCTIONS  \nCancre exemplaire avant de devenir professeur et auteur de renom\, Daniel Pennac nous invite à partager dans la joie ses réflexions sur un sujet éminemment sérieux\, l’école. Laurent Natrella s’empare avec enthousiasme de cette réflexion pédagogique. En un tour de passe-passe\, il nous transforme en une classe tantôt bruyante tantôt attentive\, mais toujours complice face à ce professeur qui ne cache ni son bonheur lorsqu’il sort un élève de son zéro perpétuel\, ni son sentiment d’échec lorsqu’il doit s’avouer à lui-même que cette fois\, il n’y arrivera jamais. Un véritable éloge de la transmission\, écrit avec humour et tendresse. \n« Laurent Natrella\, interprète aigu et profond\, nous offre un spectacle fraternel. » Le Figaro \n« Charmeur\, enjôleur\, il incarne avec un naturel confondant ce professeur qui a enchanté notre adolescence. Il conquiert les cœurs de ses élèves-spectateurs. Bravo ! » Médiapart \nPlein tarif 24 € / Tarif jeune & réduit 15 € \nDurée : 1h15
URL:https://www.yvelines-infos.fr/agenda/chagrin-decole/
LOCATION:Centre culturel Jean Vilar\, 44 allée des Épines\, Marly-le-Roi\, 78160\, France
ATTACH;FMTTYPE=image/jpeg:https://www.yvelines-infos.fr/content/uploads/2020/chagrin-decole-20180131-05vp.jpg
ORGANIZER;CN="Centre%20culturel%20Jean%20Vilar":MAILTO:accueil@ccjeanvilar.fr
GEO:48.8761727;2.0970687
X-APPLE-STRUCTURED-LOCATION;VALUE=URI;X-ADDRESS=Centre culturel Jean Vilar 44 allée des Épines Marly-le-Roi 78160 France;X-APPLE-RADIUS=500;X-TITLE=44 allée des Épines:geo:2.0970687,48.8761727
END:VEVENT
BEGIN:VEVENT
DTSTART;TZID=Europe/Paris:20210324T153000
DTEND;TZID=Europe/Paris:20210324T163000
DTSTAMP:20260423T123042
CREATED:20200624T091037Z
LAST-MODIFIED:20200624T091037Z
UID:367916-1616599800-1616603400@www.yvelines-infos.fr
SUMMARY:LA PÊCHE AU BONHEUR
DESCRIPTION:Conte musical \nMercredi 24 mars à 15h30 \nDe et avec Chloé LACAN \nADL PRODUCTIONS\n \nC’est l’histoire d’une « petite bonne femme » qui grandit\, qui aime\, se trompe et recommence. Elle prend la route pour la vie avec\, pour tout bagage\, ses mots et son courage. Dans ce voyage parsemé de rencontres et d’embûches\, d’ogres\, d’ours ou de Bernard l’Hermite\, elle va découvrir comment vaincre ses peurs et celles des autres. \nChloé Lacan raconte tout en jouant et joue en racontant\, passant de l’accordéon au ukulélé. Avec humour et poésie\, elle invite les petites oreilles à chanter\, jouer et entrer dans l’histoire. \n« Sa poésie nous fait craquer.  »  FIP \n« Avec son accordéon et ses histoires décalées\, sa rage poétique\, elle déboule avec l’air d’une petite sœur de Chaplin.  ». Télérama\n\nDE 6 ANS À 10 ANS \nPlein tarif : 10 €  / Tarif jeune & réduit : 9 € \nDurée : 1h \nGoûter offert au foyer après le spectacle
URL:https://www.yvelines-infos.fr/agenda/la-peche-au-bonheur/
LOCATION:Centre culturel Jean Vilar\, 44 allée des Épines\, Marly-le-Roi\, 78160\, France
ATTACH;FMTTYPE=image/png:https://www.yvelines-infos.fr/content/uploads/2020/1-2.png
ORGANIZER;CN="Centre%20culturel%20Jean%20Vilar":MAILTO:accueil@ccjeanvilar.fr
GEO:48.8761727;2.0970687
X-APPLE-STRUCTURED-LOCATION;VALUE=URI;X-ADDRESS=Centre culturel Jean Vilar 44 allée des Épines Marly-le-Roi 78160 France;X-APPLE-RADIUS=500;X-TITLE=44 allée des Épines:geo:2.0970687,48.8761727
END:VEVENT
END:VCALENDAR