BEGIN:VCALENDAR
VERSION:2.0
PRODID:-//Yvelines Infos - ECPv6.0.2//NONSGML v1.0//EN
CALSCALE:GREGORIAN
METHOD:PUBLISH
X-WR-CALNAME:Yvelines Infos
X-ORIGINAL-URL:https://www.yvelines-infos.fr
X-WR-CALDESC:Évènements pour Yvelines Infos
REFRESH-INTERVAL;VALUE=DURATION:PT1H
X-Robots-Tag:noindex
X-PUBLISHED-TTL:PT1H
BEGIN:VTIMEZONE
TZID:Europe/Paris
BEGIN:DAYLIGHT
TZOFFSETFROM:+0100
TZOFFSETTO:+0200
TZNAME:CEST
DTSTART:20170326T010000
END:DAYLIGHT
BEGIN:STANDARD
TZOFFSETFROM:+0200
TZOFFSETTO:+0100
TZNAME:CET
DTSTART:20171029T010000
END:STANDARD
END:VTIMEZONE
BEGIN:VEVENT
DTSTART;TZID=Europe/Paris:20171013T203000
DTEND;TZID=Europe/Paris:20171013T220000
DTSTAMP:20260423T163743
CREATED:20170718T125302Z
LAST-MODIFIED:20170720T093105Z
UID:341824-1507926600-1507932000@www.yvelines-infos.fr
SUMMARY:Răscoala
DESCRIPTION:Danse \nCe spectacle réunit neuf danseurs\, une chanteuse et deux musiciens et mêle danse contemporaine\, danse en suspension sur drisse\, chant et musique instrumentale\, dans une scénographie permettant l’illusion de corps se mouvant malgré eux. \nLes danseurs sont emmenés dans un voyage en trois dimensions. L’envol\, seul ou à plusieurs\, permet de créer des architectures et de défier la notion d’espace\, dans un spectacle inédit et innovant\, où les corps décollent\, s’envolent\, se portent et s’emmènent. \nInspirée à sa source par le réalisateur Emir Kusturica\, (Le Temps des Gitans\, Chat Noir Chat Blanc\, Papa est en voyage d’affaires)\, Răscoala évoque par le mouvement dansé et volé\, le thème de l’esprit et du corps nomades. À l’image de ces films\, la Compagnie Inosbadan cherche à donner à la gestuelle une impression d’irréel. \ndirection artistique et mise en scène T. Lazebnik • régisseur général et création lumière N. Lamatière • création sonore S. Giniaux • assistant chorégraphique Q. Bérenger • chanteuse Norig • danseurs M. Nayrolles\, A. Beghelli\, L. Belot\, M. Vian\, Q. Bérenger\, C. Arnoult\, A. Lauouvea\, D. Fardoun et A. Couturier \nSoutiens et partenaires ADCI production\, Noir Puma\, Studios Micadanses \nCompagnie Inosbadan \nen partenariat avec la Ville de Marly-le-Roi \nplein tarif : 24 €\ntarif jeune & réduit : 15 €\ntarif abonné : 18 €\ntarif jeune abonné : 12 € \n 
URL:https://www.yvelines-infos.fr/agenda/rascoala/
LOCATION:Centre culturel Jean Vila\, 44 allée des Épines\, Marly-le-Roi\, 78160\, France
ATTACH;FMTTYPE=image/jpeg:https://www.yvelines-infos.fr/content/uploads/2017/RASCOALA©D.R.jpg
GEO:48.8761727;2.0970687
X-APPLE-STRUCTURED-LOCATION;VALUE=URI;X-ADDRESS=Centre culturel Jean Vila 44 allée des Épines Marly-le-Roi 78160 France;X-APPLE-RADIUS=500;X-TITLE=44 allée des Épines:geo:2.0970687,48.8761727
END:VEVENT
END:VCALENDAR