BEGIN:VCALENDAR
VERSION:2.0
PRODID:-//Yvelines Infos - ECPv6.0.2//NONSGML v1.0//EN
CALSCALE:GREGORIAN
METHOD:PUBLISH
X-ORIGINAL-URL:https://www.yvelines-infos.fr
X-WR-CALDESC:Évènements pour Yvelines Infos
REFRESH-INTERVAL;VALUE=DURATION:PT1H
X-Robots-Tag:noindex
X-PUBLISHED-TTL:PT1H
BEGIN:VTIMEZONE
TZID:Europe/Paris
BEGIN:DAYLIGHT
TZOFFSETFROM:+0100
TZOFFSETTO:+0200
TZNAME:CEST
DTSTART:20180325T010000
END:DAYLIGHT
BEGIN:STANDARD
TZOFFSETFROM:+0200
TZOFFSETTO:+0100
TZNAME:CET
DTSTART:20181028T010000
END:STANDARD
END:VTIMEZONE
BEGIN:VEVENT
DTSTART;TZID=Europe/Paris:20180324T100000
DTEND;TZID=Europe/Paris:20180324T170000
DTSTAMP:20260423T101228
CREATED:20180320T095429Z
LAST-MODIFIED:20180320T101322Z
UID:348276-1521885600-1521910800@www.yvelines-infos.fr
SUMMARY:Première fête du centre commercial Debussy (Sartrouville)
DESCRIPTION:OPERATION COUP DE COEUR pour la 1ère Fête du Centre Commercial Debussy\, 80 rue Louise Michel 78500 SARTROUVILLE\, le 24 mars 2018\, Parrainée par l’AQVD\, avec la participation exceptionnelle de PIPO le CLOWN. \nDe 10 heures à 17 heures vous êtes invités à venir gagner des réductions chez les commerçants\, ainsi que de nombreux lots de Tombola\, dont le tirage aura lieu vers 16 heures. Les billets sont en vente dès maintenant chez les commerçants. \nhttp://aqvd.free.fr/debussy.html \n 
URL:https://www.yvelines-infos.fr/agenda/premiere-fete-centre-commercial-debussy-sartrouville/
LOCATION:Centre commercial Debussy\, 80 rue Louise Michel\, Sartrouville\, 78500\, France
GEO:48.9363099;2.1633172
X-APPLE-STRUCTURED-LOCATION;VALUE=URI;X-ADDRESS=Centre commercial Debussy 80 rue Louise Michel Sartrouville 78500 France;X-APPLE-RADIUS=500;X-TITLE=80 rue Louise Michel:geo:2.1633172,48.9363099
END:VEVENT
END:VCALENDAR