BEGIN:VCALENDAR
VERSION:2.0
PRODID:-//Yvelines Infos - ECPv6.0.2//NONSGML v1.0//EN
CALSCALE:GREGORIAN
METHOD:PUBLISH
X-ORIGINAL-URL:https://www.yvelines-infos.fr
X-WR-CALDESC:Évènements pour Yvelines Infos
REFRESH-INTERVAL;VALUE=DURATION:PT1H
X-Robots-Tag:noindex
X-PUBLISHED-TTL:PT1H
BEGIN:VTIMEZONE
TZID:Europe/Paris
BEGIN:DAYLIGHT
TZOFFSETFROM:+0100
TZOFFSETTO:+0200
TZNAME:CEST
DTSTART:20220327T010000
END:DAYLIGHT
BEGIN:STANDARD
TZOFFSETFROM:+0200
TZOFFSETTO:+0100
TZNAME:CET
DTSTART:20221030T010000
END:STANDARD
END:VTIMEZONE
BEGIN:VEVENT
DTSTART;TZID=Europe/Paris:20220326T203000
DTEND;TZID=Europe/Paris:20220326T203000
DTSTAMP:20260423T043755
CREATED:20220322T150320Z
LAST-MODIFIED:20220322T150320Z
UID:384058-1648326600-1648326600@www.yvelines-infos.fr
SUMMARY:CALI
DESCRIPTION:Retour sur la route pour l’éternel « adulescent » de la chanson française : Cali revient bientôt avce un nouveau disque plein d’amour et de lumière ! Ce n’est pas un hasard si le mot heureux apparaît aussi régulièrement dans ses textes. Car si ce n’est le bonheur qui porte Cali dans sa course effrénée vers la pureté\, cela y ressemble beaucoup. Le chanteur\, désormais quinquagénaire\, s’est adjoint le talentueux Augustin Charnet\, jeune pianiste et compositeur touche-à-tout\, pour façonner ce nouvel opus en totale liberté. Une aventure de plus pour un homme solaire et ébloui par la vie\, libertaire et engagé\, têtu et poète. Cali nous embarque dans sa cavale\, tel un prêcheur de joie fulgurante\, un prescripteur d’émotions élégantes. Il n’a pas à nous le demander deux fois : on le suit avec allégresse !
URL:https://www.yvelines-infos.fr/agenda/cali/
LOCATION:C.O.S.E.C // Mureaux\, Rue Salvador Allende\, Les Mureaux\, 78130
ATTACH;FMTTYPE=image/jpeg:https://www.yvelines-infos.fr/content/uploads/2022/csm-2015-11-14-cali-fuseaux-saint-dizier-c-yann-orhan-d278a0a9ce.jpg
END:VEVENT
END:VCALENDAR