BEGIN:VCALENDAR
VERSION:2.0
PRODID:-//Yvelines Infos - ECPv6.0.2//NONSGML v1.0//EN
CALSCALE:GREGORIAN
METHOD:PUBLISH
X-ORIGINAL-URL:https://www.yvelines-infos.fr
X-WR-CALDESC:Évènements pour Yvelines Infos
REFRESH-INTERVAL;VALUE=DURATION:PT1H
X-Robots-Tag:noindex
X-PUBLISHED-TTL:PT1H
BEGIN:VTIMEZONE
TZID:Europe/Paris
BEGIN:DAYLIGHT
TZOFFSETFROM:+0100
TZOFFSETTO:+0200
TZNAME:CEST
DTSTART:20190331T010000
END:DAYLIGHT
BEGIN:STANDARD
TZOFFSETFROM:+0200
TZOFFSETTO:+0100
TZNAME:CET
DTSTART:20191027T010000
END:STANDARD
END:VTIMEZONE
BEGIN:VEVENT
DTSTART;TZID=Europe/Paris:20191012T103000
DTEND;TZID=Europe/Paris:20191012T123000
DTSTAMP:20260423T045618
CREATED:20190926T151817Z
LAST-MODIFIED:20190926T151817Z
UID:362179-1570876200-1570883400@www.yvelines-infos.fr
SUMMARY:Un Brunch Polar aux Essarts-le-Roi
DESCRIPTION:Un meurtre à la bibliothèque ? L’équipe de la bibliothèque a besoin de vous pour résoudre cet horrible crime. Rendez-vous le Samedi 12 octobre de 10h30 à 12h30 pour un brunch\, suivi d’une enquête. \nAvec la Compagnie Simagine. \nA partir de 14 ans \nVenez participer à résolution de l’enquête policière « Gare aux morilles » aux côtés de deux comédiennes qui vous dévoileront progressivement l’intrigue. Trouvez le coupable parmi plusieurs suspects à l’aide de votre carnet de détective. \nBrunch offert. \nSur réservation au 01 30 46 488 88 ou bibliotheque-accueil@essarts-le-roi.org
URL:https://www.yvelines-infos.fr/agenda/un-brunch-polar-aux-essarts-le-roi/
LOCATION:Bibliothèque municipale Les Essarts-le-Roi\, 18 rue du 11 Novembre 1918\, Les Essarts-le-Roi\, 78690
ATTACH;FMTTYPE=image/jpeg:https://www.yvelines-infos.fr/content/uploads/2019/2019-brunch-polar.jpg
ORGANIZER;CN="Mairie%20des%20Essarts-le-Roi":MAILTO:communication@essarts-le-roi.org
END:VEVENT
END:VCALENDAR