BEGIN:VCALENDAR
VERSION:2.0
PRODID:-//Yvelines Infos - ECPv6.0.2//NONSGML v1.0//EN
CALSCALE:GREGORIAN
METHOD:PUBLISH
X-ORIGINAL-URL:https://www.yvelines-infos.fr
X-WR-CALDESC:Évènements pour Yvelines Infos
REFRESH-INTERVAL;VALUE=DURATION:PT1H
X-Robots-Tag:noindex
X-PUBLISHED-TTL:PT1H
BEGIN:VTIMEZONE
TZID:Europe/Paris
BEGIN:DAYLIGHT
TZOFFSETFROM:+0100
TZOFFSETTO:+0200
TZNAME:CEST
DTSTART:20170326T010000
END:DAYLIGHT
BEGIN:STANDARD
TZOFFSETFROM:+0200
TZOFFSETTO:+0100
TZNAME:CET
DTSTART:20171029T010000
END:STANDARD
BEGIN:DAYLIGHT
TZOFFSETFROM:+0100
TZOFFSETTO:+0200
TZNAME:CEST
DTSTART:20180325T010000
END:DAYLIGHT
BEGIN:STANDARD
TZOFFSETFROM:+0200
TZOFFSETTO:+0100
TZNAME:CET
DTSTART:20181028T010000
END:STANDARD
BEGIN:DAYLIGHT
TZOFFSETFROM:+0100
TZOFFSETTO:+0200
TZNAME:CEST
DTSTART:20190331T010000
END:DAYLIGHT
BEGIN:STANDARD
TZOFFSETFROM:+0200
TZOFFSETTO:+0100
TZNAME:CET
DTSTART:20191027T010000
END:STANDARD
BEGIN:DAYLIGHT
TZOFFSETFROM:+0100
TZOFFSETTO:+0200
TZNAME:CEST
DTSTART:20200329T010000
END:DAYLIGHT
BEGIN:STANDARD
TZOFFSETFROM:+0200
TZOFFSETTO:+0100
TZNAME:CET
DTSTART:20201025T010000
END:STANDARD
BEGIN:DAYLIGHT
TZOFFSETFROM:+0100
TZOFFSETTO:+0200
TZNAME:CEST
DTSTART:20210328T010000
END:DAYLIGHT
BEGIN:STANDARD
TZOFFSETFROM:+0200
TZOFFSETTO:+0100
TZNAME:CET
DTSTART:20211031T010000
END:STANDARD
BEGIN:DAYLIGHT
TZOFFSETFROM:+0100
TZOFFSETTO:+0200
TZNAME:CEST
DTSTART:20220327T010000
END:DAYLIGHT
BEGIN:STANDARD
TZOFFSETFROM:+0200
TZOFFSETTO:+0100
TZNAME:CET
DTSTART:20221030T010000
END:STANDARD
END:VTIMEZONE
BEGIN:VEVENT
DTSTART;TZID=Europe/Paris:20170916T100000
DTEND;TZID=Europe/Paris:20170917T180000
DTSTAMP:20260422T184156
CREATED:20170704T130733Z
LAST-MODIFIED:20170704T131028Z
UID:341390-1505556000-1505671200@www.yvelines-infos.fr
SUMMARY:Rencontres "Agricultures et Patrimoines"
DESCRIPTION:La Bergerie nationale organise\, un week-end ludique et instructif autour de l’agro-écologie et du développement durable lors de ses rencontres « Agricultures et Patrimoines » les samedi 16 et dimanche 17 septembre de 10h à 18h \nCette manifestation gratuite qui s’inscrit dans le cadre des journées européennes du Patrimoine sera l’occasion pour petits et grands de découvrir le patrimoine agricole\, naturel et culturel de la Bergerie nationale. Dans une ambiance conviviale\, la Bergerie Nationale proposera des visites guidées\, des démonstrations\, des stands animés par des exposants passionnés\, des ateliers pratiques et des animations pour les enfants (soins aux animaux\, traite des vaches\, balades à poneys et à dos d’ânes\, piscine de paille…) et une restauration rapide à base de produits du terroir.
URL:https://www.yvelines-infos.fr/agenda/rencontres-agricultures-patrimoines/
LOCATION:BERGERIE NATIONALE\, PARC DU CHATEAU\, RAMBOUILLET\, 78120
ATTACH;FMTTYPE=image/jpeg:https://www.yvelines-infos.fr/content/uploads/2017/Le-pigeonnier-de-la-Bergerie-nationale-a-Rambouillet-800x600_visuel_large-e1676996025693.jpg
GEO:48.6453914;1.8173758
X-APPLE-STRUCTURED-LOCATION;VALUE=URI;X-ADDRESS=BERGERIE NATIONALE PARC DU CHATEAU RAMBOUILLET 78120;X-APPLE-RADIUS=500;X-TITLE=PARC DU CHATEAU:geo:1.8173758,48.6453914
END:VEVENT
BEGIN:VEVENT
DTSTART;TZID=Europe/Paris:20180609T110000
DTEND;TZID=Europe/Paris:20180610T180000
DTSTAMP:20260422T184156
CREATED:20180612T122407Z
LAST-MODIFIED:20180612T122407Z
UID:350800-1528542000-1528653600@www.yvelines-infos.fr
SUMMARY:La Vache\, entre tradition et modernité
DESCRIPTION:Le samedi 9 et le dimanche 10 juin de 11h à 18h\nUn week-end autour de la vache et des produits laitiers \nLes nouveautés 2018 : \nAnimations en continu pour les enfants\n> Les voix lactées : espace rencontres et échanges gastronomiques\n> Du petit-déjeuner au goûter\, plein de produits laitiers à déguster ! \nRestauration\n• Les 9 et 10 juin : déjeuner et goûter\nÀ base de produits laitiers. Produits sélectionnés par Ludovic Bisot\, fromager et meilleur ouvrier de France 2015.\nRéservation et tarifs au 01 61 08 68 70 ou animation.bn@educagri.fr\n\n• Le 10 juin de 8h30 à 12h : petit-déjeuner complet bio et local\nEn partenariat avec les Agriculteurs biologiques d’Île-de-France. \nVisite thématique De la fourche à la fourchette :\nVisite de l’étable et soins aux animaux.\nDécouverte du chemin du lait aux produits laitiers.\n3 visites par jour : 12h\, 14h et 16h. \nAnimations en continu de 11h à 18h (pause le midi) \n• Le petit technicien agricole (pour enfants et adultes)\nAnimation autour de la salle de traite\, en partenariat avec la Maison du lait.\n• Le petit artiste (pour enfants de 3 à 8 ans)\nAtelier peinture et maquillage sur le thème de la vache.\n• Le petit laborantin (pour enfants de 8 à 12 ans et adultes)\nExpériences sur les composants du lait et les bactéries. \nLes voix lactées (tout public) / Espace rencontres et échanges gastronomiques : Fabrication de fromages et dégustation / Conférences / Producteurs locaux / Exposition laitière / Échographie des vaches / Gastronomie… \nSpectacle avec les Camarguais du Vexin :\nTranshumance\, manipulation et contention bovine avec 8 chevaux.\nCavaliers en tenue traditionnelle et harnachement gardian.\n3 spectacles par jour : 11h\, 15h et 17h
URL:https://www.yvelines-infos.fr/agenda/vache-entre-tradition-modernite-2/
LOCATION:BERGERIE NATIONALE\, PARC DU CHATEAU\, RAMBOUILLET\, 78120
ATTACH;FMTTYPE=image/jpeg:https://www.yvelines-infos.fr/content/uploads/2018/flyersvache2018-1.jpg
GEO:48.6453914;1.8173758
X-APPLE-STRUCTURED-LOCATION;VALUE=URI;X-ADDRESS=BERGERIE NATIONALE PARC DU CHATEAU RAMBOUILLET 78120;X-APPLE-RADIUS=500;X-TITLE=PARC DU CHATEAU:geo:1.8173758,48.6453914
END:VEVENT
BEGIN:VEVENT
DTSTART;TZID=Europe/Paris:20180609T110000
DTEND;TZID=Europe/Paris:20180610T180000
DTSTAMP:20260422T184156
CREATED:20180529T102815Z
LAST-MODIFIED:20180529T102815Z
UID:350484-1528542000-1528653600@www.yvelines-infos.fr
SUMMARY:La vache\, entre tradition et modernité
DESCRIPTION:Le samedi 9 et le dimanche 10 juin de 11h à 18h\nUn week-end autour de la vache et des produits laitiers \nLes nouveautés 2018 :\n> Animations en continu pour les enfants\n> Les voix lactées : espace rencontres et échanges gastronomiques\n> Du petit-déjeuner au goûter\, plein de produits laitiers à déguster ! \nRestauration /Réservation et tarifs au 01 61 08 68 70 ou animation.bn@educagri.fr\n• 9 et 10 juin : déjeuner et goûter\nÀ base de produits laitiers. Produits sélectionnés par Ludovic Bisot\, fromager et meilleur ouvrier de France 2015.\n• 10 juin de 8h30 à 12h : petit-déjeuner complet bio et local\nEn partenariat avec les Agriculteurs biologiques d’Île-de-France. \nVisite thématique De la fourche à la fourchette :\nVisite de l’étable et soins aux animaux.\nDécouverte du chemin du lait aux produits laitiers.\n3 visites par jour : 12h\, 14h et 16h. \nAnimations en continu de 11h à 18h (pause le midi)\n• Le petit technicien agricole (pour enfants et adultes)\nAnimation autour de la salle de traite\, en partenariat avec la Maison du lait.\n• Le petit artiste (pour enfants de 3 à 8 ans)\nAtelier peinture et maquillage sur le thème de la vache.\n• Le petit laborantin (pour enfants de 8 à 12 ans et adultes)\nExpériences sur les composants du lait et les bactéries. \nLes voix lactées (tout public) / Espace rencontres et échanges gastronomiques : Fabrication de fromages et dégustation / Conférences / Producteurs locaux / Exposition laitière / Échographie des vaches / Gastronomie… \nSpectacle avec les Camarguais du Vexin :\nTranshumance\, manipulation et contention bovine avec 8 chevaux.\nCavaliers en tenue traditionnelle et harnachement gardian.\n3 spectacles par jour : 11h\, 15h et 17h
URL:https://www.yvelines-infos.fr/agenda/vache-entre-tradition-modernite/
LOCATION:BERGERIE NATIONALE\, PARC DU CHATEAU\, RAMBOUILLET\, 78120
ATTACH;FMTTYPE=image/jpeg:https://www.yvelines-infos.fr/content/uploads/2018/flyersvache2018.jpg
GEO:48.6453914;1.8173758
X-APPLE-STRUCTURED-LOCATION;VALUE=URI;X-ADDRESS=BERGERIE NATIONALE PARC DU CHATEAU RAMBOUILLET 78120;X-APPLE-RADIUS=500;X-TITLE=PARC DU CHATEAU:geo:1.8173758,48.6453914
END:VEVENT
BEGIN:VEVENT
DTSTART;TZID=Europe/Paris:20190406T110000
DTEND;TZID=Europe/Paris:20190407T180000
DTSTAMP:20260422T184156
CREATED:20190401T125342Z
LAST-MODIFIED:20190401T125446Z
UID:356947-1554548400-1554660000@www.yvelines-infos.fr
SUMMARY:Fête de la tonte et de la laine
DESCRIPTION:En plein cœur de Rambouillet\, venez participer à la tonte de plus de 100 brebis ! Petits et grands pourront s’initier à la récolte de la laine autour de divers ateliers ludiques et artistiques\, et profiter d’un délicieux déjeuner sur place. \nEntre la visite des bergeries et la découverte du mouton Mérinos\, les oeuvres artistiques présentées\, le travail de la laine\, les démonstrations de tonte et de chiens de troupeau\, les balades thématiques en calèche\, le marché des créateurs…\, tout le monde pourra composer son programme lors de ce week-end de printemps ! \nLe programme :\nTout au long de ce week-end\, vous pourrez approcher les animaux et différents ateliers vous seront proposés : \nArtistique \n\nCréons des « têtes de laine » : exposition participative d’œuvres en laine.\nLaine & ateliers créatifs.\nSpectacle & laine (les 2 après-midi).\n\nTechnique \n\nDe nombreux professionnels répondent à vos questions et débattent de sujets d’actualités. Table ronde « Une filière laine en France» le 6 à 16h30.\nEspace tonte: + de 100 brebis seront tondues en 2 jours.\nDémonstrations de chiens de berger.\nMarché des artisans.\nLa fibre textile & pédaler pour la paix: démonstrations et ateliers participatifs de cardage\, teinture\, feutrage…\nCafé tricot & thé crochet.\n\nScientifique \n\nLaine & sciences. Animation à partir d’expériences: la capacité d’absorption de l’humidité\, l’isolation du froid et de la chaleur…\n\nEnvironnementale \n\nMoutons & calèche : Pâturage et biodiversité. Mais aussi… Découverte sensorielle de l’exploitation agricole\, de la ferme pédagogique et des produits de la Bergerie.\n\nTombo’laine : A vous d’estimer le poids des toisons tondues ! \nA l’occasion de cet événement\, la Bergerie Nationale de Rambouillet vous propose un déjeuner\, autour d’un menu complet : \n\nAgneau de la bergerie / frites\ndessert (pâtisserie maison)\nboisson (bière\, limonade ou jus de fruit\,…)\ncafé offert\n\n\n\nDemandez le programme de ce week-end ! \n\n\nRestauration sur place à base de produits fermiers\, en salle ou en extérieur suivant le temps\nRéservation recommandée au 01 61 08 68 70 ou sur le site internet.\nDécouvrez aussi la ferme dans un lieu historique \n\nLa Bergerie Nationale créée par Louis XVI est une exploitation agricole mais également une ferme pédagogique\, ouverte au public. Elle est aussi support de formation\, de démonstration et d’éducation au développement durable. \nEt pour faire plaisir à toute la famille\nTraite des vaches\, visite de l’exploitation agricole et découverte des animaux de la ferme. \nTarifs :\n\n\n\n\nEntrée + déjeuner Menu Adulte (à partir de 13 ans) : 20€\n\n\nEntrée + déjeuner Menu Enfant (de 3 à 12 ans) : 15€\n\nEntrée seule – Adulte : 6€\n\n\nEntrée seule – Enfant (de 3 à 12 ans) : 4€\n\n\n\nEntrée Enfant (moins de 3 ans) : Gratuit
URL:https://www.yvelines-infos.fr/agenda/fete-de-la-tonte-et-de-la-laine/
LOCATION:BERGERIE NATIONALE\, PARC DU CHATEAU\, RAMBOUILLET\, 78120
ATTACH;FMTTYPE=image/jpeg:https://www.yvelines-infos.fr/content/uploads/2019/vignette-tonte-et-laine-01.jpg
GEO:48.6453914;1.8173758
X-APPLE-STRUCTURED-LOCATION;VALUE=URI;X-ADDRESS=BERGERIE NATIONALE PARC DU CHATEAU RAMBOUILLET 78120;X-APPLE-RADIUS=500;X-TITLE=PARC DU CHATEAU:geo:1.8173758,48.6453914
END:VEVENT
BEGIN:VEVENT
DTSTART;VALUE=DATE:20190518
DTEND;VALUE=DATE:20190520
DTSTAMP:20260422T184156
CREATED:20190424T100135Z
LAST-MODIFIED:20190424T100135Z
UID:358030-1558137600-1558310399@www.yvelines-infos.fr
SUMMARY:Salon des Métiers d’Art et de la Création
DESCRIPTION:Le salon des Métiers d’Art de l’AAART est un événement créé en partenariat avec  la Bergerie Nationale et soutenu par le Parc Naturel Régional de la Haute Vallée de Chevreuse (PNR)\, le Château et la Mairie de Rambouillet et les Ateliers d’Art de France. \nUne opportunité unique de voir rassemblés en un seul lieu plus de 60 artisans d’art et créateursd’exception\, de la Vallée de Chevreuse et d’autres régions de France. En vous proposant des créations Made in France\, les artisans d’art vous font découvrir un savoir-faire\, une exigence de qualité et la passion de leur métier. \nLes artisans d’art sont des professionnels qui créent et réalisent dans leur atelier\, des pièces uniques et des petites séries Made in France. \nArt textile\, bijoux en argent\, verre…\, céramique\, cirier\, conservation restauration de tableaux\, émaux\, encadreur\, enluminures\, globes terrestres\, gravure sur cuivre\, luminaires\, maroquinerie\, miniaturiste\, mobilier\, mosaïque\, mosaïque de coquilles d’œufs\, objets en ciment\, peintre en décors\, photographie au collodion humide\, relieur\, savons biologiques\, sculpteur de carton\, sculpteur métal\, sculpture lumineuse\, stylos\, tapisserie d’ameublement\, tisserande\, tourneur sur bois\, vannerie\, vêtements\, vitrail. \n… autant d’occasions de découvrir des créations originales et uniques. Liste des exposants
URL:https://www.yvelines-infos.fr/agenda/salon-des-metiers-dart-et-de-la-creation/
LOCATION:BERGERIE NATIONALE\, PARC DU CHATEAU\, RAMBOUILLET\, 78120
ATTACH;FMTTYPE=image/png:https://www.yvelines-infos.fr/content/uploads/2019/capture-decran-2019-04-24-a-11-57-52.png
ORGANIZER;CN="L%E2%80%99AAART%20%3A%20Association%20des%20Artisans%20d%E2%80%99Art%20de%20la%20Vall%C3%A9e%20de%20Chevreuse":MAILTO:contact@aaart-valleedechevreuse.fr
GEO:48.6453914;1.8173758
X-APPLE-STRUCTURED-LOCATION;VALUE=URI;X-ADDRESS=BERGERIE NATIONALE PARC DU CHATEAU RAMBOUILLET 78120;X-APPLE-RADIUS=500;X-TITLE=PARC DU CHATEAU:geo:1.8173758,48.6453914
END:VEVENT
BEGIN:VEVENT
DTSTART;TZID=Europe/Paris:20190602T083000
DTEND;TZID=Europe/Paris:20190602T120000
DTSTAMP:20260422T184156
CREATED:20190510T080537Z
LAST-MODIFIED:20190510T080754Z
UID:358459-1559464200-1559476800@www.yvelines-infos.fr
SUMMARY:Fête du lait bio
DESCRIPTION:LA BERGERIE NATIONALE DE RAMBOUILLET\nLa Bergerie Nationale\, au coeur du domaine national (ex résidence présidentielle)\, est située à 50 km au sud ouest de Paris. Depuis plus de deux siècles elle conduit sa mission d’expérimentation et s’attache à démontrer aujourd’hui les vertus de l’agriculture multifonctionnelle dans une démarche de développement durable. \nProfitez de la visite libre de la ferme et du petit déjeuner bio et local. \nPRIX: 6€ ADULTE\nTARIF RÉDUIT: 4€ DEMANDEUR D’EMPLOI/ ÉTUDIANT 3€ ENFANT GRATUIT -3 ANS \nCes tarifs comprennent un petit-déjeuner gourmand composé de produits biologiques locaux. L’accès aux animations de la Bergerie Nationale fera l’objet d’un supplément. \nDe 8h30 à 12h00
URL:https://www.yvelines-infos.fr/agenda/fete-du-lait-bio/
LOCATION:BERGERIE NATIONALE\, PARC DU CHATEAU\, RAMBOUILLET\, 78120
ATTACH;FMTTYPE=image/png:https://www.yvelines-infos.fr/content/uploads/2019/capture-decran-2019-05-10-a-10-02-58.png
GEO:48.6453914;1.8173758
X-APPLE-STRUCTURED-LOCATION;VALUE=URI;X-ADDRESS=BERGERIE NATIONALE PARC DU CHATEAU RAMBOUILLET 78120;X-APPLE-RADIUS=500;X-TITLE=PARC DU CHATEAU:geo:1.8173758,48.6453914
END:VEVENT
BEGIN:VEVENT
DTSTART;VALUE=DATE:20190629
DTEND;VALUE=DATE:20190701
DTSTAMP:20260422T184156
CREATED:20190620T131420Z
LAST-MODIFIED:20190620T131420Z
UID:359632-1561766400-1561939199@www.yvelines-infos.fr
SUMMARY:Festival de la Bergerie
DESCRIPTION:Samedi 29  juin\n• Ouverture à 18h.\n• CONCERTS : Spicy Tartar Club Band\, Rooster Social Club\, Debout sur le Zinc.\n• Animations : street art\, film projeté sur le colombier\, speed-ball\, jeux en bois…\n• Feu d’artifice. \n\n\nPetite restauration locale : frites\, sandwich merguez/saucisse de la Bergerie\, glaces de la Bergerie… \nDimanche 30  juin\n\n• Ouverture à 11h30.\n• MÉCHOUI  / tarif unique : repas et entrée à la ferme = 26 €\nLa recette est entièrement reversée pour la rénovation du colombier.\nLes montants versés sont défiscalisables à hauteur de 66 %.\n\nAu menu :\nVerre et planche apéro\,\nmouton à la broche-gratin dauphinois\,\nyaourt de la Bergerie\, tarte aux fruits de saison\, café. \n>>  Réservation obligatoire du repas (limité à 400 personnes)  <<\n01 61 08 68 86 ou animation.bn(at)educagri.fr
URL:https://www.yvelines-infos.fr/agenda/festival-de-la-bergerie/
LOCATION:BERGERIE NATIONALE\, PARC DU CHATEAU\, RAMBOUILLET\, 78120
ATTACH;FMTTYPE=image/jpeg:https://www.yvelines-infos.fr/content/uploads/2019/b06693aafd.jpg
GEO:48.6453914;1.8173758
X-APPLE-STRUCTURED-LOCATION;VALUE=URI;X-ADDRESS=BERGERIE NATIONALE PARC DU CHATEAU RAMBOUILLET 78120;X-APPLE-RADIUS=500;X-TITLE=PARC DU CHATEAU:geo:1.8173758,48.6453914
END:VEVENT
BEGIN:VEVENT
DTSTART;TZID=Europe/Paris:20190818T160000
DTEND;TZID=Europe/Paris:20190822T170000
DTSTAMP:20260422T184156
CREATED:20181204T153325Z
LAST-MODIFIED:20181204T153325Z
UID:354009-1566144000-1566493200@www.yvelines-infos.fr
SUMMARY:Randonnée Paris-Brest-Paris
DESCRIPTION:La randonnée Paris-Brest-Paris rassemble tous les 4 ans plus de 6.000 participants ; 65 nationalités sont représentées au sein des groupes de randonneurs\, composant 60% des effectifs. \nInitiée en 1891 dans sa version course\, c’est en 1931 que le Paris-Brest-Paris se convertit au format randonneurs. \nAprès plusieurs éditions en partance de l’agglomération de St Quentin en Yvelines\, c’est Rambouillet qui sera la ville hôte pour l’édition 2019 ; la Bergerie Nationale\, le parc du château\, ainsi que le centre-ville vont proposer à cette organisation un cadre exceptionnel. \nMythique\, grandiose\, le Paris-Brest-Paris est le graal de tout cyclotouriste qui pratique la longue distance. \nTout au long des 1.200 km du parcours\, les randonneurs vont pouvoir une nouvelle fois apprécier la convivialité des régions traversées\, l’énorme engouement et la disponibilité des 2.500 bénévoles assurant l’accueil dans les villes-étapes\, tout en fournissant les efforts nécessaires pour rejoindre l’arrivée en sillonnant les routes du parcours concocté par les organisateurs. \nC’est l’Audax Club Parisien (ACP)\, club affilié à la Fédération Française de Cyclotourisme\, qui assure intégralement l’organisation de cet événement.
URL:https://www.yvelines-infos.fr/agenda/randonnee-paris-brest-paris/
LOCATION:BERGERIE NATIONALE\, PARC DU CHATEAU\, RAMBOUILLET\, 78120
ATTACH;FMTTYPE=image/jpeg:https://www.yvelines-infos.fr/content/uploads/2018/logo-pbp-2018-10-19.jpg
GEO:48.6453914;1.8173758
X-APPLE-STRUCTURED-LOCATION;VALUE=URI;X-ADDRESS=BERGERIE NATIONALE PARC DU CHATEAU RAMBOUILLET 78120;X-APPLE-RADIUS=500;X-TITLE=PARC DU CHATEAU:geo:1.8173758,48.6453914
END:VEVENT
BEGIN:VEVENT
DTSTART;TZID=Europe/Paris:20191215T100000
DTEND;TZID=Europe/Paris:20191215T183000
DTSTAMP:20260422T184156
CREATED:20191008T154741Z
LAST-MODIFIED:20191008T154741Z
UID:362426-1576404000-1576434600@www.yvelines-infos.fr
SUMMARY:Marché de Noël Bergerie Nationale
DESCRIPTION:Marché de Noël au coeur de l’exploitation agricole de la Bergerie Nationale. Plus de 40 producteurs et artisans viennent vendre leurs fabrications et produits locaux.\nPetite restauration sur place\nENTREE GRATUITE
URL:https://www.yvelines-infos.fr/agenda/marche-de-noel-bergerie-nationale/
LOCATION:BERGERIE NATIONALE\, PARC DU CHATEAU\, RAMBOUILLET\, 78120
ATTACH;FMTTYPE=image/jpeg:https://www.yvelines-infos.fr/content/uploads/2019/marche-noel-sous-grange-pilotis-20171217-111959.jpg
GEO:48.6453914;1.8173758
X-APPLE-STRUCTURED-LOCATION;VALUE=URI;X-ADDRESS=BERGERIE NATIONALE PARC DU CHATEAU RAMBOUILLET 78120;X-APPLE-RADIUS=500;X-TITLE=PARC DU CHATEAU:geo:1.8173758,48.6453914
END:VEVENT
BEGIN:VEVENT
DTSTART;TZID=Europe/Paris:20210130T090000
DTEND;TZID=Europe/Paris:20210130T170000
DTSTAMP:20260422T184156
CREATED:20201222T140326Z
LAST-MODIFIED:20201222T140326Z
UID:372223-1611997200-1612026000@www.yvelines-infos.fr
SUMMARY:Journée Portes ouvertes
DESCRIPTION:Le Pôle formation de la Bergerie nationale de Rambouillet ouvre ses portes le 30 janvier 2020 de 9h à 17h pour présenter toutes ses formations regroupées autour de trois filières : métiers du cheval\, de l’agriculture et de la santé animale.\nCes journées seront l’occasion de poser toutes vos questions aux formateurs\, aux apprentis mais également de découvrir l’apprentissage et la formation continue.\nUne restauration sur place sera prévue pour déguster un repas autour des produits de la bergerie.\nVous pourrez également visiter l’établissement ( locaux\, centre équestre\, exploitation agricole…) et son cadre exceptionnel.\nVoici la liste des formations proposées au Pôle formation pour la rentrée scolaire 2021 :\nhttp://www.bergerie-nationale.educagri.fr\nSelon les conditions sanitaires à cette date\, la journée pourra être proposée en distanciel avec : visite virtuelle de l’établissement\, webconférences sur chaque formation et questions/réponses avec les formateurs.\n 
URL:https://www.yvelines-infos.fr/agenda/journee-portes-ouvertes/
LOCATION:BERGERIE NATIONALE\, PARC DU CHATEAU\, RAMBOUILLET\, 78120
ATTACH;FMTTYPE=image/jpeg:https://www.yvelines-infos.fr/content/uploads/2020/imagefb-jpo2021.jpg
GEO:48.6453914;1.8173758
X-APPLE-STRUCTURED-LOCATION;VALUE=URI;X-ADDRESS=BERGERIE NATIONALE PARC DU CHATEAU RAMBOUILLET 78120;X-APPLE-RADIUS=500;X-TITLE=PARC DU CHATEAU:geo:1.8173758,48.6453914
END:VEVENT
BEGIN:VEVENT
DTSTART;TZID=Europe/Paris:20210306T090000
DTEND;TZID=Europe/Paris:20210306T180000
DTSTAMP:20260422T184156
CREATED:20210208T140548Z
LAST-MODIFIED:20210216T143057Z
UID:373075-1615021200-1615053600@www.yvelines-infos.fr
SUMMARY:Portes ouvertes Virtuelles Pôle Formation- Bergerie nationale de Rambouillet
DESCRIPTION:Le Pôle formation de la Bergerie nationale organise une journée portes ouvertes virtuelle le samedi 6 mars. Cette journée permet de découvrir les formations regroupées autour de trois filières :\n• métiers du cheval\n• métiers de l’agriculture\n• métiers de la santé animale \nProgramme :  \nDes visioconférences sont organisées toute la journée à heures fixes concernant chaque formation. Ce sera l’occasion d’échanger avec les formateurs\, des apprentis mais également de découvrir l’apprentissage et la formation continue. Vous en saurez plus sur les différents métiers qui s’offrent à vous. \nPossibilité de RDV téléphoniques individuels \nInscription à la JPO : inscription obligatoire sur le site internet de la Bergerie  \nVous devez vous inscrire sur notre site internet. Un lien sera envoyé par mail pour accéder aux visioconférences. \nhttp://www.bergerie-nationale.educagri.fr/pole…/jpo/. \nDès à présent\, informez-vous sur la page des JPO 2021 avec : \n\nVisite de l’établissement\nPrésentation des formations
URL:https://www.yvelines-infos.fr/agenda/portes-ouvertes-virtuelles-pole-formation-bergerie-nationale-de-rambouillet/
LOCATION:BERGERIE NATIONALE\, PARC DU CHATEAU\, RAMBOUILLET\, 78120
ATTACH;FMTTYPE=image/jpeg:https://www.yvelines-infos.fr/content/uploads/2021/image-facebookmars.jpg
GEO:48.6453914;1.8173758
X-APPLE-STRUCTURED-LOCATION;VALUE=URI;X-ADDRESS=BERGERIE NATIONALE PARC DU CHATEAU RAMBOUILLET 78120;X-APPLE-RADIUS=500;X-TITLE=PARC DU CHATEAU:geo:1.8173758,48.6453914
END:VEVENT
BEGIN:VEVENT
DTSTART;VALUE=DATE:20210924
DTEND;VALUE=DATE:20210927
DTSTAMP:20260422T184156
CREATED:20210914T101606Z
LAST-MODIFIED:20210914T101606Z
UID:378994-1632441600-1632700799@www.yvelines-infos.fr
SUMMARY:Festiphoto 2021
DESCRIPTION:Pour l’édition à venir\, les 24-25-26 septembre 2021\,  nous organisons avec la Bergerie nationale une université d’été sur les deux premiers jours\, les Rencontres de la Biodiversité. \nLe vendredi 24\, la première journée permettra de faire dialoguer des acteurs qui échangent habituellement assez peu : agriculteurs en transition\, photographes naturalistes\, Institutions et associations engagées dans des recherches participatives sur la biodiversité\, et enfin équipes de recherche des universités et des organismes de recherche. \nLa deuxième journée\, le samedi 25\, sera consacrée à des ateliers de terrain avec nos partenaires institutionnels et associatifs.
URL:https://www.yvelines-infos.fr/agenda/festiphoto-2021/
LOCATION:BERGERIE NATIONALE\, PARC DU CHATEAU\, RAMBOUILLET\, 78120
ATTACH;FMTTYPE=image/jpeg:https://www.yvelines-infos.fr/content/uploads/2021/affiche-2021.jpeg
GEO:48.6453914;1.8173758
X-APPLE-STRUCTURED-LOCATION;VALUE=URI;X-ADDRESS=BERGERIE NATIONALE PARC DU CHATEAU RAMBOUILLET 78120;X-APPLE-RADIUS=500;X-TITLE=PARC DU CHATEAU:geo:1.8173758,48.6453914
END:VEVENT
BEGIN:VEVENT
DTSTART;VALUE=DATE:20220604
DTEND;VALUE=DATE:20220606
DTSTAMP:20260422T184156
CREATED:20220511T103313Z
LAST-MODIFIED:20220602T131854Z
UID:386283-1654300800-1654473599@www.yvelines-infos.fr
SUMMARY:Les animaux en fête !
DESCRIPTION:Par des animations\, des ateliers et des expositions\, cet événement aux petits et aux grands de mieux connaître les animaux de la ferme pédagogique de la Bergerie nationale.
URL:https://www.yvelines-infos.fr/agenda/les-animaux-en-fete/
LOCATION:BERGERIE NATIONALE\, PARC DU CHATEAU\, RAMBOUILLET\, 78120
ATTACH;FMTTYPE=image/jpeg:https://www.yvelines-infos.fr/content/uploads/2022/flyer-illustration.jpg
GEO:48.6453914;1.8173758
X-APPLE-STRUCTURED-LOCATION;VALUE=URI;X-ADDRESS=BERGERIE NATIONALE PARC DU CHATEAU RAMBOUILLET 78120;X-APPLE-RADIUS=500;X-TITLE=PARC DU CHATEAU:geo:1.8173758,48.6453914
END:VEVENT
END:VCALENDAR