BEGIN:VCALENDAR
VERSION:2.0
PRODID:-//Yvelines Infos - ECPv6.0.2//NONSGML v1.0//EN
CALSCALE:GREGORIAN
METHOD:PUBLISH
X-WR-CALNAME:Yvelines Infos
X-ORIGINAL-URL:https://www.yvelines-infos.fr
X-WR-CALDESC:Évènements pour Yvelines Infos
REFRESH-INTERVAL;VALUE=DURATION:PT1H
X-Robots-Tag:noindex
X-PUBLISHED-TTL:PT1H
BEGIN:VTIMEZONE
TZID:Europe/Paris
BEGIN:DAYLIGHT
TZOFFSETFROM:+0100
TZOFFSETTO:+0200
TZNAME:CEST
DTSTART:20180325T010000
END:DAYLIGHT
BEGIN:STANDARD
TZOFFSETFROM:+0200
TZOFFSETTO:+0100
TZNAME:CET
DTSTART:20181028T010000
END:STANDARD
END:VTIMEZONE
BEGIN:VEVENT
DTSTART;TZID=Europe/Paris:20181110T140000
DTEND;TZID=Europe/Paris:20181110T140000
DTSTAMP:20260423T112713
CREATED:20181109T093936Z
LAST-MODIFIED:20181109T093936Z
UID:353599-1541858400-1541858400@www.yvelines-infos.fr
SUMMARY:Exposition de dinosaures
DESCRIPTION:L’exposition vous plonge dans un décor préhistorique\, accueillant des reproductions en grande taille de plus de 20 dinosaures et homme Neandertal. \nCette exposition ludique et pédagogique\, retrace l’histoire des dinosaures et propose la projection d’un documentaire\, retraçant la vie de ces géants aux enfants\, qui rend l’exposition interactive et éducative. \n  \nDes ateliers et animations sont proposé à vos enfants tout au long de votre visite\,\nVenez les découvrir sans ne plus attendre !
URL:https://www.yvelines-infos.fr/agenda/exposition-de-dinosaures/
LOCATION:Base de loisirs\, Rond Point Eric Tabarly - RD 912 78190\, Tappes\, 78190
ATTACH;FMTTYPE=image/png:https://www.yvelines-infos.fr/content/uploads/2018/d4a28a89-1d21-403c-981f-506579c0751a.png
END:VEVENT
END:VCALENDAR