BEGIN:VCALENDAR
VERSION:2.0
PRODID:-//Yvelines Infos - ECPv6.0.2//NONSGML v1.0//EN
CALSCALE:GREGORIAN
METHOD:PUBLISH
X-ORIGINAL-URL:https://www.yvelines-infos.fr
X-WR-CALDESC:Évènements pour Yvelines Infos
REFRESH-INTERVAL;VALUE=DURATION:PT1H
X-Robots-Tag:noindex
X-PUBLISHED-TTL:PT1H
BEGIN:VTIMEZONE
TZID:Europe/Paris
BEGIN:DAYLIGHT
TZOFFSETFROM:+0100
TZOFFSETTO:+0200
TZNAME:CEST
DTSTART:20170326T010000
END:DAYLIGHT
BEGIN:STANDARD
TZOFFSETFROM:+0200
TZOFFSETTO:+0100
TZNAME:CET
DTSTART:20171029T010000
END:STANDARD
BEGIN:DAYLIGHT
TZOFFSETFROM:+0100
TZOFFSETTO:+0200
TZNAME:CEST
DTSTART:20180325T010000
END:DAYLIGHT
BEGIN:STANDARD
TZOFFSETFROM:+0200
TZOFFSETTO:+0100
TZNAME:CET
DTSTART:20181028T010000
END:STANDARD
BEGIN:DAYLIGHT
TZOFFSETFROM:+0100
TZOFFSETTO:+0200
TZNAME:CEST
DTSTART:20190331T010000
END:DAYLIGHT
BEGIN:STANDARD
TZOFFSETFROM:+0200
TZOFFSETTO:+0100
TZNAME:CET
DTSTART:20191027T010000
END:STANDARD
BEGIN:DAYLIGHT
TZOFFSETFROM:+0100
TZOFFSETTO:+0200
TZNAME:CEST
DTSTART:20200329T010000
END:DAYLIGHT
BEGIN:STANDARD
TZOFFSETFROM:+0200
TZOFFSETTO:+0100
TZNAME:CET
DTSTART:20201025T010000
END:STANDARD
BEGIN:DAYLIGHT
TZOFFSETFROM:+0100
TZOFFSETTO:+0200
TZNAME:CEST
DTSTART:20210328T010000
END:DAYLIGHT
BEGIN:STANDARD
TZOFFSETFROM:+0200
TZOFFSETTO:+0100
TZNAME:CET
DTSTART:20211031T010000
END:STANDARD
BEGIN:DAYLIGHT
TZOFFSETFROM:+0100
TZOFFSETTO:+0200
TZNAME:CEST
DTSTART:20220327T010000
END:DAYLIGHT
BEGIN:STANDARD
TZOFFSETFROM:+0200
TZOFFSETTO:+0100
TZNAME:CET
DTSTART:20221030T010000
END:STANDARD
END:VTIMEZONE
BEGIN:VEVENT
DTSTART;TZID=Europe/Paris:20171112T170000
DTEND;TZID=Europe/Paris:20171112T190000
DTSTAMP:20260422T202109
CREATED:20171009T081533Z
LAST-MODIFIED:20171009T081533Z
UID:344354-1510506000-1510513200@www.yvelines-infos.fr
SUMMARY:Récital de piano aux Musicales de Croissy : Ismaël Margain
DESCRIPTION:Voilà un jeune pianiste talentueux qui commence tout juste à émerger auprès du grand public. Les mélomanes avertis l’ont pourtant déjà remarqué lors du concours Long-Thibaud 2012 (lauréat et prix du public)\, aux Victoires de la musique 2015 (révélation soliste instrumental) et dans les festivals (Pâques\, Chopin à Bagatelle\, Piano aux Jacobins). \n Une étonnante maturité\, un naturel confondant\, un sens marqué des respirations. Ses enregistrements ont été grandement salués par la presse. En particulier\, son dernier album consacré à Schubert\, lancé lors d’un concert au Théâtre de l’Athénée très remarqué par la critique musicale. \nProgramme : \n\nHaydn : Sonate nº 62 Hob. XVI:52\nSchubert : Klavierstücke D. 946 No. 2 et 3\nBrahms : Sonate N°3 Op.5\n\n« Margain sait entraîner l’auditeur dans les méandres de son rêve intérieur – avec une souveraine simplicité… Les schubertiens sont rares\, on en tient là un grand. » (Alain Cochard – ConcertClassic) \n« Un artiste avec lequel il faudra dorénavant compter » (Stéphane Friederich) \n« Elégance\, sens de la narration\, densité poétique transparaissent dans une exécution fébrile et pénétrante » (Michel le Naour – ConcertClassic)
URL:https://www.yvelines-infos.fr/agenda/recital-de-piano-aux-musicales-de-croissy-ismael-margain/
LOCATION:Auditorium Chanorier\, 12 grande rue\, Croissy-sur-Seine\, 78290\, France
ATTACH;FMTTYPE=image/jpeg:https://www.yvelines-infos.fr/content/uploads/2017/Ismael-Margain-photo12©Stephane-Delavoye.jpg
ORGANIZER;CN="Les%20Musicales%20de%20Croissy":MAILTO:accueil.admc@wanadoo.fr
GEO:48.8778341;2.1517548
X-APPLE-STRUCTURED-LOCATION;VALUE=URI;X-ADDRESS=Auditorium Chanorier 12 grande rue Croissy-sur-Seine 78290 France;X-APPLE-RADIUS=500;X-TITLE=12 grande rue:geo:2.1517548,48.8778341
END:VEVENT
BEGIN:VEVENT
DTSTART;TZID=Europe/Paris:20190324T170000
DTEND;TZID=Europe/Paris:20190324T190000
DTSTAMP:20260422T202109
CREATED:20190320T135839Z
LAST-MODIFIED:20190320T135839Z
UID:356462-1553446800-1553454000@www.yvelines-infos.fr
SUMMARY:Bruno Philippe (violoncelle) & Tanguy de Williencourt (piano)
DESCRIPTION:Concert organisé par Les Musicales de Croissy \n\nChopin : Sonate pour violoncelle et piano op. 65\nSchumann : Fantasiestücke op. 73\nRachmaninov : Sonate pour violoncelle et piano op. 19\n\nBruno Philippe s’est largement fait remarquer avec les Victoires de la Musique et le prestigieux Concours Reine Elisabeth. Passionné\, la sensibilité à fleur de peau\, il sait allier une interprétation incarnée au respect de la partition. \nTanguy de Williencourt est un soliste remarquable par la richesse et la variété des sonorités qu’il crée\, ainsi que son toucher.  \nL’entente et l’écoute entre les deux musiciens est exceptionnelle\, créant un dialogue qui tient l’auditeur en suspend.
URL:https://www.yvelines-infos.fr/agenda/bruno-philippe-violoncelle-tanguy-de-williencourt-piano/
LOCATION:Auditorium Chanorier\, 12 grande rue\, Croissy-sur-Seine\, 78290\, France
ATTACH;FMTTYPE=image/jpeg:https://www.yvelines-infos.fr/content/uploads/2019/composition1-rogne.jpg
ORGANIZER;CN="Les%20Musicales%20de%20Croissy":MAILTO:accueil.admc@wanadoo.fr
GEO:48.8778341;2.1517548
X-APPLE-STRUCTURED-LOCATION;VALUE=URI;X-ADDRESS=Auditorium Chanorier 12 grande rue Croissy-sur-Seine 78290 France;X-APPLE-RADIUS=500;X-TITLE=12 grande rue:geo:2.1517548,48.8778341
END:VEVENT
BEGIN:VEVENT
DTSTART;TZID=Europe/Paris:20200126T170000
DTEND;TZID=Europe/Paris:20200126T190000
DTSTAMP:20260422T202109
CREATED:20191209T092558Z
LAST-MODIFIED:20191209T092638Z
UID:363933-1580058000-1580065200@www.yvelines-infos.fr
SUMMARY:Bruno Philippe (violoncelle) & Tanguy de Williencourt (piano)
DESCRIPTION:Duo de violoncelle et piano\nÉminent représentant de l’école française de violoncelle\, lauréat du prestigieux Concours Reine Elisabeth en 2017 et Révélation Instrumentale aux Victoires de la Musique Classique 2018\, Bruno Philippe s’est largement fait remarquer des professionnels de la musique comme du public qui l’adule. Passionné\, la sensibilité à fleur de peau\, il sait pourtant garder l’humilité et le sens de l’analyse qui permettent d’allier une interprétation sensible et incarnée au respect de la partition et du contexte de sa création. \nTanguy de Williencourt n’est pas en reste. Son jeu aussi brillant qu’habité séduit par sa clarté\, son naturel\, sa sincérité. Ses sonorités riches et variées\, amples et colorées sont au service de l’émotion et de la narration.  Musicien complet\, ses enregistrements rencontrent un franc succès aussi bien en tant que soliste qu’en musique de chambre… notamment avec Bruno Philippe. \nIls forment un duo depuis le conservatoire et sont fidèles l’un à l’autre aussi bien en musique de chambre qu’en amitié. L’entente\, l’empathie et l’écoute entre eux sont exceptionnelles\, créant un dialogue qui tient l’auditeur en haleine. Ensemble\, ils ont déjà enregistré deux albums qui ont fait sensation\, l’un consacré à Brahms et Schumann\, qualifié par la presse d’alliance parfaite de la technique et de l’émotion\, l’autre à Beethoven et Schubert. \nProgramme \n\nSchumann : Adagio et Allegro op. 70\nBeethoven : Sonate pour violoncelle et piano n° 3 op. 69\nDebussy : Sonate pour violoncelle et piano en ré mineur\nProkofiev : Sonate pour violoncelle et piano op. 119\n\nLe concert sera suivi d’un cocktail en compagnie des artistes qui dédicaceront leurs CD\, que vous pourrez vous procurer à cette occasion. \n 
URL:https://www.yvelines-infos.fr/agenda/bruno-philippe-violoncelle-tanguy-de-williencourt-piano-2/
LOCATION:Auditorium Chanorier\, 12 grande rue\, Croissy-sur-Seine\, 78290\, France
ATTACH;FMTTYPE=image/jpeg:https://www.yvelines-infos.fr/content/uploads/2019/composition1-rogne-1.jpg
ORGANIZER;CN="Les%20Musicales%20de%20Croissy":MAILTO:accueil.admc@wanadoo.fr
GEO:48.8778341;2.1517548
X-APPLE-STRUCTURED-LOCATION;VALUE=URI;X-ADDRESS=Auditorium Chanorier 12 grande rue Croissy-sur-Seine 78290 France;X-APPLE-RADIUS=500;X-TITLE=12 grande rue:geo:2.1517548,48.8778341
END:VEVENT
BEGIN:VEVENT
DTSTART;TZID=Europe/Paris:20200322T170000
DTEND;TZID=Europe/Paris:20200322T190000
DTSTAMP:20260422T202109
CREATED:20191209T092139Z
LAST-MODIFIED:20191210T085406Z
UID:363935-1584896400-1584903600@www.yvelines-infos.fr
SUMMARY:Kotaro Fukuma - récital de piano "Appassionata"
DESCRIPTION:Kotaro Fukuma est bien connu dans les Yvelines\, que ce soit aux Musicales de Croissy ou dans d’autres villes. Ses concerts se déroulent toujours dans des salles combles et se terminent par une standing ovation ! Ce pianiste parcourt le monde et rencontre partout le même succès. Certains font plusieurs centaines de kilomètres pour l’écouter. \nAlliant l’intelligence musicale et la subtilité du jeu à une sonorité perlée et un soin extrême du détail\, sa technique prodigieuse et ses qualités artistiques ont été maintes fois saluées. Présenté comme un poète du piano dont la présence magnétise\, il établit avec les auditeurs un dialogue musical qui touche au cœur.\nSes programmes\, inventifs et toujours subtilement pensés\, racontent une histoire à la fois musicale et poétique. \nEn cette année 2020 célébrant les 250 ans de la naissance de Beethoven\, Kotaro Fukuma nous propose un programme intitulé « Appassionata » qui relie Beethoven et Schumann en mettant en exergue l’influence du premier sur le second. Dans la Fantaisie de Schumann par exemple\, on retrouve bien le style « beethovenien » ainsi que des citations de la mélodie An die ferne Geliebte. Dans ce programme\, Kotaro Fukuma met en regard la façon dont ces deux grands compositeurs ont traité les thèmes de la passion et du chant d’amour. \n\n\n\n\n\n\n\n\n\n\n\n\n\n\n\n\n\nProgramme : « Appassionata »\n\n\n\n\n\n\n\n\n\n\n\n\n\n\n\n\n\n\nBeethoven : An die ferne Geliebte op. 98 (transcription par Liszt)\nBeethoven : Sonate n° 23 op. 57 « Appassionata »\nSchumann : Widmung (transcription par Liszt)\nSchumann : Fantaisie op. 17\n\nLe concert sera suivi d’un cocktail en compagnie de l’artiste qui dédicacera ses CD que vous pourrez vous procurer à cette occasion.
URL:https://www.yvelines-infos.fr/agenda/kotaro-fukuma-recital-de-piano-appassionata/
LOCATION:Auditorium Chanorier\, 12 grande rue\, Croissy-sur-Seine\, 78290\, France
ATTACH;FMTTYPE=image/jpeg:https://www.yvelines-infos.fr/content/uploads/2019/kotaro-fukuma-jbm-8189jean-baptiste-millot-copie.jpg
ORGANIZER;CN="Les%20Musicales%20de%20Croissy":MAILTO:accueil.admc@wanadoo.fr
GEO:48.8778341;2.1517548
X-APPLE-STRUCTURED-LOCATION;VALUE=URI;X-ADDRESS=Auditorium Chanorier 12 grande rue Croissy-sur-Seine 78290 France;X-APPLE-RADIUS=500;X-TITLE=12 grande rue:geo:2.1517548,48.8778341
END:VEVENT
BEGIN:VEVENT
DTSTART;TZID=Europe/Paris:20200517T170000
DTEND;TZID=Europe/Paris:20200517T190000
DTSTAMP:20260422T202109
CREATED:20191209T092547Z
LAST-MODIFIED:20191209T092547Z
UID:363937-1589734800-1589742000@www.yvelines-infos.fr
SUMMARY:Fanny Clamagirand (violon) & David Bismuth (piano)
DESCRIPTION:Duo Violon & Piano\n\n\n\n\n\n\n\n\n\nAvec un son riche et ample\, une fluidité rare et une technique impeccable\, Fanny Clamagirand n’est plus une inconnue dans le monde du violon. Son tempérament énergique\, son jeu brillant et ses interprétations mêlant sensibilité et autorité sont salués par la presse. Elle a à son actif plusieurs enregistrements\, dont l’un consacré à Eugène Ysaÿe qui fut particulièrement remarqué. \nDavid Bismuth s’est\, lui aussi\, largement fait remarquer des Français. Il est loué pour son sens de l’architecture\, sa capacité à faire chanter les voix intermédiaires et à articuler le discours. Mais c’est surtout sa sonorité pleine et lumineuse et une grande finesse du phrasé qui le caractérisent. Sa longue collaboration avec Maria João-Pires y aurait-elle contribué ?\nDavid Bismuth affectionne autant les concerts en soliste qu’en musique de chambre. Il s’est produit avec plusieurs violonistes\, en particulier avec Fanny Clamagirand. \n\n\n\n\n\n\n\n\n\n\n\n\n\n\n\n\n\nProgramme :\n\n\n\n\n\n\n\n\n\n\n\n\n\n\n\n\n\n\nBartók : Six Danses populaires roumaines\nBeethoven : Sonate pour violon et piano n° 5 op. 24 « Le Printemps »\nBrahms : Scherzo en ut mineur (extrait de la Sonate F-A-E)\nProkofiev : Sonate pour violon et piano n° 2 op. 94a\n\nLe concert sera suivi d’un cocktail en compagnie des artistes\, qui dédicaceront les CD que vous pourrez vous procurer à cette occasion.
URL:https://www.yvelines-infos.fr/agenda/fanny-clamagirand-violon-david-bismuth-piano/
LOCATION:Auditorium Chanorier\, 12 grande rue\, Croissy-sur-Seine\, 78290\, France
ATTACH;FMTTYPE=image/jpeg:https://www.yvelines-infos.fr/content/uploads/2019/clamagirand-bismuth-600x400.jpg
ORGANIZER;CN="Les%20Musicales%20de%20Croissy":MAILTO:accueil.admc@wanadoo.fr
GEO:48.8778341;2.1517548
X-APPLE-STRUCTURED-LOCATION;VALUE=URI;X-ADDRESS=Auditorium Chanorier 12 grande rue Croissy-sur-Seine 78290 France;X-APPLE-RADIUS=500;X-TITLE=12 grande rue:geo:2.1517548,48.8778341
END:VEVENT
BEGIN:VEVENT
DTSTART;TZID=Europe/Paris:20210221T170000
DTEND;TZID=Europe/Paris:20210221T190000
DTSTAMP:20260422T202109
CREATED:20201203T134332Z
LAST-MODIFIED:20201203T134332Z
UID:371848-1613926800-1613934000@www.yvelines-infos.fr
SUMMARY:Pavel Kolesnikov – Piano
DESCRIPTION:Chaque instant d’un récital de Pavel Kolesnikov est un émerveillement\, tant il entraîne l’auditeur dans son monde intérieur par des phrasés qui aimantent l’attention.\n« Un magicien est là\, sur scène\, qui parle à chacun » (Alain Lompech dans Bachtrack). \nSa technicité sans faille et sa virtuosité certaine ne sont jamais démonstratives. Son toucher est d’une finesse et d’une légèreté exceptionnelle\, ses mains semblent caresser le clavier pour modeler le son. Il en émane une grande tendresse. \nNé en Sibérie\, c’est à Novosibirsk que Pavel Kolesnikov débuta ses études musicales\, avant de partir au Conservatoire de Moscou\, où il travailla entre autres avec Nicolaï Luganski et Pavel Nersessian. Il poursuit ensuite ses études à Londres avec Norma Fisher\, puis se perfectionne en Belgique à la Chapelle Musicale Reine Elisabeth\, avec Maria João Pires. \nEn 2012\, il remporte le concours Honens au Canada. Puis il est sélectionné par BBC Radio 3’s New Generation Artists\, qui lui apporte son soutien de 2014 à 2016. \nIl joue alors dans les salles les plus prestigieuses et avec des orchestres de premier plan. Son premier récital à Wigmore Hall en 2014\, est unanimement salué par la critique. The Telegraph lui attribua un rare cinq étoiles et le qualifia de l’un des plus mémorables que Londres ait connu depuis un certain temps. Depuis lors\, la plupart de ses récitals sont largement couverts par des articles incroyablement élogieux\, aussi bien en France qu’en Angleterre. \nSes différents enregistrements reçoivent pareil succès\, celui sur les mazurkas de Chopin en 2016 étant désigné meilleur enregistrement de l’année par au moins quatre magazines\, avec notamment le Diapason d’Or de l’année. \nProgramme : \n\nSchumann : Scènes d’enfants op. 15\nBeethoven : Sonate n° 30 en Mi M op. 109\nBach : Variations Goldberg BWV 988\n\nVisuel : Crédit photo : Colin Way
URL:https://www.yvelines-infos.fr/agenda/pavel-kolesnikov-piano/
LOCATION:Auditorium Chanorier\, 12 grande rue\, Croissy-sur-Seine\, 78290\, France
ATTACH;FMTTYPE=image/jpeg:https://www.yvelines-infos.fr/content/uploads/2020/3-pavel-kolesnikov-3-c-colin-way.jpg
ORGANIZER;CN="Les%20Musicales%20de%20Croissy":MAILTO:accueil.admc@wanadoo.fr
GEO:48.8778341;2.1517548
X-APPLE-STRUCTURED-LOCATION;VALUE=URI;X-ADDRESS=Auditorium Chanorier 12 grande rue Croissy-sur-Seine 78290 France;X-APPLE-RADIUS=500;X-TITLE=12 grande rue:geo:2.1517548,48.8778341
END:VEVENT
BEGIN:VEVENT
DTSTART;TZID=Europe/Paris:20210926T170000
DTEND;TZID=Europe/Paris:20210926T190000
DTSTAMP:20260422T202109
CREATED:20210823T123736Z
LAST-MODIFIED:20210823T123736Z
UID:378388-1632675600-1632682800@www.yvelines-infos.fr
SUMMARY:Concert classique : Brieuc Vourch & Guillaume Vincent (violon et piano)
DESCRIPTION:Les Sonates de César Franck et Richard Strauss \nMalgré son jeune âge\, le violoniste Brieuc Vourch a déjà joué dans les plus grandes salles à travers le monde. Itzhak Perlman avec qui il a travaillé\, saluait autant sa technicité que son sens artistique et sa sensibilité. \nGuillaume Vincent\, que nous avons pu entendre en récital en septembre dernier\, nous avait marqué par son toucher et son sens de la couleur. \nLes deux musiciens se désignent mutuellement comme partenaires de prédilection. Leur style s’accorde à merveille. Ensemble\, ils ont enregistré un CD dédiés aux sonates pour violon de Richard Strauss et de César Franck\, qui sort en ce mois de septembre. \nConcert suivi d’un cocktail en présence des musiciens.
URL:https://www.yvelines-infos.fr/agenda/concert-classique-brieuc-vourch-guillaume-vincent-violon-et-piano/
LOCATION:Auditorium Chanorier\, 12 grande rue\, Croissy-sur-Seine\, 78290\, France
ATTACH;FMTTYPE=image/jpeg:https://www.yvelines-infos.fr/content/uploads/2021/1-brieuc-guillaume-web.jpg
ORGANIZER;CN="Les%20Musicales%20de%20Croissy":MAILTO:accueil.admc@wanadoo.fr
GEO:48.8778341;2.1517548
X-APPLE-STRUCTURED-LOCATION;VALUE=URI;X-ADDRESS=Auditorium Chanorier 12 grande rue Croissy-sur-Seine 78290 France;X-APPLE-RADIUS=500;X-TITLE=12 grande rue:geo:2.1517548,48.8778341
END:VEVENT
BEGIN:VEVENT
DTSTART;TZID=Europe/Paris:20220130T170000
DTEND;TZID=Europe/Paris:20220130T190000
DTSTAMP:20260422T202109
CREATED:20210823T123725Z
LAST-MODIFIED:20210823T123725Z
UID:378393-1643562000-1643569200@www.yvelines-infos.fr
SUMMARY:Concert classique : Pavel Kolesnikov (piano)
DESCRIPTION:Schubert\, Couperin\, Hahn\, Fauré\, Franck \nCe jeune pianiste d’origine russe remporte un succès considérable en Angleterre où il réside et en Russie\, mais il conquiert également les cœurs partout à travers dans le monde. \nChaque instant d’un récital de Pavel Kolesnikov est un émerveillement\, tant il entraîne l’auditeur dans son monde intérieur par des phrasés qui aimantent l’attention. Sa technicité sans faille et sa virtuosité certaine ne sont jamais démonstratives. Son toucher est d’une finesse et d’une légèreté exceptionnelle\, ses mains semblent caresser le clavier pour modeler le son. Il en émane une fluidité remarquable et une infinie tendresse.\n« One of the most exciting piano talents I’ve seen in the UK in recent years” (Simon Thompson dans Bachtrack). \nConcert suivi d’un cocktail en présence de l’artiste.
URL:https://www.yvelines-infos.fr/agenda/concert-classique-pavel-kolesnikov-piano/
LOCATION:Auditorium Chanorier\, 12 grande rue\, Croissy-sur-Seine\, 78290\, France
ATTACH;FMTTYPE=image/jpeg:https://www.yvelines-infos.fr/content/uploads/2021/3-pavel-kolesnikov-3-web.jpg
ORGANIZER;CN="Les%20Musicales%20de%20Croissy":MAILTO:accueil.admc@wanadoo.fr
GEO:48.8778341;2.1517548
X-APPLE-STRUCTURED-LOCATION;VALUE=URI;X-ADDRESS=Auditorium Chanorier 12 grande rue Croissy-sur-Seine 78290 France;X-APPLE-RADIUS=500;X-TITLE=12 grande rue:geo:2.1517548,48.8778341
END:VEVENT
BEGIN:VEVENT
DTSTART;TZID=Europe/Paris:20220410T170000
DTEND;TZID=Europe/Paris:20220410T190000
DTSTAMP:20260422T202109
CREATED:20210823T123718Z
LAST-MODIFIED:20211102T083225Z
UID:378395-1649610000-1649617200@www.yvelines-infos.fr
SUMMARY:Concert classique : Thomas Enhco & Vassilena Serafimova (piano et marimba) - "Bach Mirror"
DESCRIPTION:« Bach Mirror »\, un programme s’appuyant sur des œuvres de J.S. Bach : transcriptions\, arrangements et compositions originales. \nUn programme enivrant\, un choc émotionnel revigorant\, qui enthousiasme autant les amateurs et les connaisseurs de classique que les férus de jazz\, tout en offrant une porte d’entrée pour un public bien plus large car il parle aux émotions avec une facilité déconcertante.\nEn proposant des arrangements qui vont de la simple transcription à des compositions originales prenant appui sur des œuvres de Bach\, Vassilena Serafimova et Thomas Enhco explorent avec fougue\, fantaisie et liberté l’univers intemporel de Jean-Sébastien Bach\, créant un monde sonore fascinant né de l’association du piano et du marimba\, sans pour autant dénaturer l’esprit de Bach et en respectant ses codes.\nC’est un véritable spectacle sonore\, rythmique et visuel\, qui provoque l’émotion et l’excitation de tous les publics.\nCe programme a fait l’objet d’un enregistrement sorti en mars 2021\, qui a remporté d’emblée un succès considérable. \nConcert organisé en partenariat avec le Théâtre du Vésinet\, et suivi d’un cocktail en présence des musiciens.
URL:https://www.yvelines-infos.fr/agenda/concert-classique-thomas-enhco-vassilena-serafimova-piano-et-marimba-bach-mirror/
LOCATION:Auditorium Chanorier\, 12 grande rue\, Croissy-sur-Seine\, 78290\, France
ATTACH;FMTTYPE=image/jpeg:https://www.yvelines-infos.fr/content/uploads/2021/4-thomas-enhco-vassilena-serafimova-19-web.jpg
ORGANIZER;CN="Les%20Musicales%20de%20Croissy":MAILTO:accueil.admc@wanadoo.fr
GEO:48.8778341;2.1517548
X-APPLE-STRUCTURED-LOCATION;VALUE=URI;X-ADDRESS=Auditorium Chanorier 12 grande rue Croissy-sur-Seine 78290 France;X-APPLE-RADIUS=500;X-TITLE=12 grande rue:geo:2.1517548,48.8778341
END:VEVENT
BEGIN:VEVENT
DTSTART;TZID=Europe/Paris:20220522T170000
DTEND;TZID=Europe/Paris:20220522T190000
DTSTAMP:20260422T202109
CREATED:20210823T123710Z
LAST-MODIFIED:20211102T083217Z
UID:378397-1653238800-1653246000@www.yvelines-infos.fr
SUMMARY:Concert classique : Sirba Octet - "A yiddish mame"
DESCRIPTION:Programme de musique Klezmer. \nLe Sirba Octet\, composé de musiciens issus de l’Orchestre de Paris\, a réussi le pari de former un ensemble à mi-chemin entre l’académisme classique et la musique traditionnelle d’Europe de l’Est\, et de réunir les genres en mêlant musique de chambre et instruments traditionnels\, créant ainsi un genre inédit\, appelé « Classic World ». L’ensemble a acquis une réputation enviable\, se produisant dans les plus grands festivals et les grandes salles en Europe\, en Russie et même en Asie. \n« A Yiddish Mame »\, programme composé pour quatre instruments\, violon\, contrebasse\, clarinette et cymbalum\, est une lecture originale des répertoires klezmer\, yiddish et tzigane\, une plongée intimiste au cœur des mélodies d’Europe de l’Est\, aux accents slaves et yiddish\, souvenirs des ambiances festives et familiales de son fondateur. L’atmosphère jubilatoire du concert électrise le public conquis par la virtuosité et la sensibilité rare qu’exaltent les artistes. \nConcert suivi d’un cocktail en présence des artistes.
URL:https://www.yvelines-infos.fr/agenda/concert-classique-sirba-octet-a-yiddish-mame/
LOCATION:Auditorium Chanorier\, 12 grande rue\, Croissy-sur-Seine\, 78290\, France
ATTACH;FMTTYPE=image/jpeg:https://www.yvelines-infos.fr/content/uploads/2021/5-ensemble-sirba-libre-de-droits-rogne3.jpg
ORGANIZER;CN="Les%20Musicales%20de%20Croissy":MAILTO:accueil.admc@wanadoo.fr
GEO:48.8778341;2.1517548
X-APPLE-STRUCTURED-LOCATION;VALUE=URI;X-ADDRESS=Auditorium Chanorier 12 grande rue Croissy-sur-Seine 78290 France;X-APPLE-RADIUS=500;X-TITLE=12 grande rue:geo:2.1517548,48.8778341
END:VEVENT
END:VCALENDAR