BEGIN:VCALENDAR
VERSION:2.0
PRODID:-//Yvelines Infos - ECPv6.0.2//NONSGML v1.0//EN
CALSCALE:GREGORIAN
METHOD:PUBLISH
X-ORIGINAL-URL:https://www.yvelines-infos.fr
X-WR-CALDESC:Évènements pour Yvelines Infos
REFRESH-INTERVAL;VALUE=DURATION:PT1H
X-Robots-Tag:noindex
X-PUBLISHED-TTL:PT1H
BEGIN:VTIMEZONE
TZID:Europe/Paris
BEGIN:DAYLIGHT
TZOFFSETFROM:+0100
TZOFFSETTO:+0200
TZNAME:CEST
DTSTART:20180325T010000
END:DAYLIGHT
BEGIN:STANDARD
TZOFFSETFROM:+0200
TZOFFSETTO:+0100
TZNAME:CET
DTSTART:20181028T010000
END:STANDARD
END:VTIMEZONE
BEGIN:VEVENT
DTSTART;VALUE=DATE:20180624
DTEND;VALUE=DATE:20180625
DTSTAMP:20260423T092535
CREATED:20180604T074428Z
LAST-MODIFIED:20180604T074428Z
UID:350718-1529798400-1529884799@www.yvelines-infos.fr
SUMMARY:Fête du sport nature
DESCRIPTION:Le gateball se joue sur un court de 15 x 20 m à l’intérieur duquel sont placés trois arceaux. Le joueur doit faire passer sa boule sous chacun d’entre eux pour au final aller heurter le poteau du but. C’est une compétition où les points sont comptés. Les 2 équipes\, chacune composée de cinq joueurs\, s’affrontent à tour de rôle\, les joueurs heurtant la boule portant leur numéro. C’est un jeu stratégique\, car il ne s’agit pas seulement de faire passer sa boule sous les arceaux\, mais aussi de la placer dans une position avantageuse pour son équipe et de faire sortir du court les boules des adversaires. \nVenez découvrir le gateball\, activité benue du Japon\, lors dela fête du sport nature avec l’UFOLEP à l’Abbaye de Maubuisson – Saint Ouen l’Aumone \nAssociation France Maillets
URL:https://www.yvelines-infos.fr/agenda/fete-sport-nature/
LOCATION:Abbaye de Maubuisson\, Avenue Richard de Tour\, Saint-Ouen-l'Aumône\, 95310
ATTACH;FMTTYPE=image/jpeg:https://www.yvelines-infos.fr/content/uploads/2018/p1160433.jpg
GEO:49.047182;2.1133341
X-APPLE-STRUCTURED-LOCATION;VALUE=URI;X-ADDRESS=Abbaye de Maubuisson Avenue Richard de Tour Saint-Ouen-l'Aumône 95310;X-APPLE-RADIUS=500;X-TITLE=Avenue Richard de Tour:geo:2.1133341,49.047182
END:VEVENT
END:VCALENDAR