BEGIN:VCALENDAR
VERSION:2.0
PRODID:-//Yvelines Infos - ECPv6.0.2//NONSGML v1.0//EN
CALSCALE:GREGORIAN
METHOD:PUBLISH
X-WR-CALNAME:Yvelines Infos
X-ORIGINAL-URL:https://www.yvelines-infos.fr
X-WR-CALDESC:Évènements pour Yvelines Infos
REFRESH-INTERVAL;VALUE=DURATION:PT1H
X-Robots-Tag:noindex
X-PUBLISHED-TTL:PT1H
BEGIN:VTIMEZONE
TZID:Europe/Paris
BEGIN:DAYLIGHT
TZOFFSETFROM:+0100
TZOFFSETTO:+0200
TZNAME:CEST
DTSTART:20200329T010000
END:DAYLIGHT
BEGIN:STANDARD
TZOFFSETFROM:+0200
TZOFFSETTO:+0100
TZNAME:CET
DTSTART:20201025T010000
END:STANDARD
END:VTIMEZONE
BEGIN:VEVENT
DTSTART;VALUE=DATE:20201126
DTEND;VALUE=DATE:20201127
DTSTAMP:20260423T151544
CREATED:20201203T134009Z
LAST-MODIFIED:20201203T134009Z
UID:371678-1606348800-1606435199@www.yvelines-infos.fr
SUMMARY:Défi Énergie sud Yvelines : déjà la 8ème édition
DESCRIPTION:Agissons ensemble pour le climat… Venez relever les «Défis Citoyens Locaux d’Implication pour le Climat et la Sobriété» (DéCLICS) avec l’ALEC SQY… le recrutement a commencé !\nPour la 8ème année consécutive\, l’ALEC animera à partir du 1er décembre 2020 et jusqu’au 30 avril 2021\, le défi Énergie de l’ensemble DéCLICS. DéCLICS ça veut dire Défis Citoyens Locaux d’Implication pour le Climat et la Sobriété\, avec au menu toujours plus d’économies d’énergie\, d’eau\, de déchets…\n\nAvoir le « déclic – énergie » c’est réduire ses consommations en équipe\nL’objectif principal du défi est de réussir à baisser d’au moins 8% sa consommation énergétique au sein de son logement en l’espace d’une saison hivernale.\nAucun investissement\, mais le plein d’astuces et d’éco-gestes pour y parvenir. Et au final on agit ensemble pour le climat.\nLa recette est simple : moins de kilowattheures\, moins de CO2\, moins de dépenses\, autant de confort\, des écogestes et plus de convivialité : des rencontres\, et des évènements pour les adultes et les enfants ! L’important pour avancer étant le collectif et le partage\, pas de défi sans équipes… collègues\, amis\, voisins\, famille… mobilisez autour de vous\, ayez le déclic et sautez le pas vers la sobriété énergétique !\n\nA chacun ses déclics\n• En famille\, vous souhaitez trouver un moyen ludique de sensibiliser petits et grands !\n• En colocation vous souhaitez vous challenger pour réduire votre impact sur le climat !\n• En entreprise\, vous souhaitez vous engager entre collègues pour créer du lien au sein de l’équipe tout en participant à la transition énergétique !\n• En association\, vous souhaitez relayer le défi pour partager votre engagement citoyen pour le climat avec vos membres !\n• En tant qu’élu ou agent d’une commune\, vous souhaitez accompagner et engager les habitants de votre territoire à participer à la sobriété énergétique !\n\nVous êtes seuls maîtres de vos économies !\nEn participant au défi DéCLICS – Énergie\, vous aurez accès à une plateforme numérique qui vous permettra de participer à des défis collectifs du sud et centre Yvelines. Vous pourrez suivre vos consommations\, et bénéficier de conseils pour faire évoluer vos pratiques quotidiennes vers plus de sobriété. Vous pourrez aussi comparer vos consommations avec celles d’autres participants. Enfin vous aurez accès aux actualités locales en lien avec les défis citoyens que vous relèverez.\nEt pour l’animation\, l’ALEC SQY s’occupe de tout…\nÉvènements\, infos techniques\, guide des 100 éco-gestes\, mise à disposition du « kit énergie » aux équipes\, formations et soutien… L’ALEC SQY et son équipe d’animation s’occupe de tout pour que votre défi soit relevé dans les meilleures conditions ! \nContact : Maria Diaz-Munoz – ALEC SQY – defi-declics@alecsqy.org – 01 34 52 26 34\nhttps://defis-declics.org/fr/mes-defis/defi-energie-sud-yvelines/
URL:https://www.yvelines-infos.fr/agenda/defi-energie-sud-yvelines-deja-la-8eme-edition/
LOCATION:A domicile
ATTACH;FMTTYPE=image/jpeg:https://www.yvelines-infos.fr/content/uploads/2020/faep23052014.jpg
ORGANIZER;CN="ALEC%20SQY":MAILTO:conseil@alecsqy.org
END:VEVENT
END:VCALENDAR