BEGIN:VCALENDAR
VERSION:2.0
PRODID:-//Yvelines Infos - ECPv6.0.2//NONSGML v1.0//EN
CALSCALE:GREGORIAN
METHOD:PUBLISH
X-WR-CALNAME:Yvelines Infos
X-ORIGINAL-URL:https://www.yvelines-infos.fr
X-WR-CALDESC:Évènements pour Yvelines Infos
REFRESH-INTERVAL;VALUE=DURATION:PT1H
X-Robots-Tag:noindex
X-PUBLISHED-TTL:PT1H
BEGIN:VTIMEZONE
TZID:Europe/Paris
BEGIN:DAYLIGHT
TZOFFSETFROM:+0100
TZOFFSETTO:+0200
TZNAME:CEST
DTSTART:20170326T010000
END:DAYLIGHT
BEGIN:STANDARD
TZOFFSETFROM:+0200
TZOFFSETTO:+0100
TZNAME:CET
DTSTART:20171029T010000
END:STANDARD
END:VTIMEZONE
BEGIN:VEVENT
DTSTART;TZID=Europe/Paris:20171007T193000
DTEND;TZID=Europe/Paris:20171106T213000
DTSTAMP:20260423T081021
CREATED:20171129T100628Z
LAST-MODIFIED:20171129T100628Z
UID:345515-1507404600-1510003800@www.yvelines-infos.fr
SUMMARY:Rencontre - Karina Bisch
DESCRIPTION:Dans le cadre de son exposition « Les Tableaux vivants » à l’Onde jusqu’au 22 décembre\, Karina Bisch rencontre Marie-Sophie Carron de la Carrière\, conservatrice en chef au département mode et textile du musée des Arts Décoratifs de Paris\, pour dialoguer autour de son travail et de ses références aux avant-gardes du XXe siècle. \nNavette gratuite au départ de Paris-Concorde\, 18h30.
URL:https://www.yvelines-infos.fr/agenda/rencontre-karina-bisch/
LOCATION:8 bis avenue Louis Breguet\, 8 bis\, avenue Louis Breguet\, Vélizy-Villacoublay\, 78140\, France
ATTACH;FMTTYPE=image/jpeg:https://www.yvelines-infos.fr/content/uploads/2017/CAMO-2017-Karina-Bisch-002-bis.jpg
ORGANIZER;CN="L%27Onde%20Th%C3%A9%C3%A2tre%20Centre%20d%27art":MAILTO:labilletterie@londe.fr
GEO:48.7822173;2.1800377
X-APPLE-STRUCTURED-LOCATION;VALUE=URI;X-ADDRESS=8 bis avenue Louis Breguet 8 bis avenue Louis Breguet Vélizy-Villacoublay 78140 France;X-APPLE-RADIUS=500;X-TITLE=8 bis\, avenue Louis Breguet:geo:2.1800377,48.7822173
END:VEVENT
END:VCALENDAR