BEGIN:VCALENDAR
VERSION:2.0
PRODID:-//Yvelines Infos - ECPv6.0.2//NONSGML v1.0//EN
CALSCALE:GREGORIAN
METHOD:PUBLISH
X-WR-CALNAME:Yvelines Infos
X-ORIGINAL-URL:https://www.yvelines-infos.fr
X-WR-CALDESC:Évènements pour Yvelines Infos
REFRESH-INTERVAL;VALUE=DURATION:PT1H
X-Robots-Tag:noindex
X-PUBLISHED-TTL:PT1H
BEGIN:VTIMEZONE
TZID:Europe/Paris
BEGIN:DAYLIGHT
TZOFFSETFROM:+0100
TZOFFSETTO:+0200
TZNAME:CEST
DTSTART:20220327T010000
END:DAYLIGHT
BEGIN:STANDARD
TZOFFSETFROM:+0200
TZOFFSETTO:+0100
TZNAME:CET
DTSTART:20221030T010000
END:STANDARD
END:VTIMEZONE
BEGIN:VEVENT
DTSTART;TZID=Europe/Paris:20220609T150000
DTEND;TZID=Europe/Paris:20220609T170000
DTSTAMP:20260421T161644
CREATED:20220511T120457Z
LAST-MODIFIED:20220511T120457Z
UID:386078-1654786800-1654794000@www.yvelines-infos.fr
SUMMARY:ATELIER PEINTURE - LA VILLA JULIEN
DESCRIPTION:Apprenez à peindre avec Antoine Fayolle\, peintre Lyonnais. Le 9 juin prochain\, rendez-vous à Maurepas !\n\n\n\n\n\n\n\nDéveloppez votre talent artistique lors de notre premier atelier de peinture animé par l’artiste Antoine Fayolle. \nNous vous accueillions dans la Villa Julien à Maurepas (78310) de 15h à 17h le 9 juin ! \nTarif : 40€ / personne \nNavette chauffeur disponible depuis Paris. \nVenez partager un moment convivial et chaleureux en alliant plaisir et apprentissage. \nNous avons hâte de vous recevoir !! \n\nRéservation : askmefrance@gmail.com
URL:https://www.yvelines-infos.fr/agenda/atelier-peinture-la-villa-julien/
LOCATION:3\, 3 rue de la butte rouge\, Maurepas\, 78310
ATTACH;FMTTYPE=image/jpeg:https://www.yvelines-infos.fr/content/uploads/2022/atelier-peinture-ask-me-france.jpg
ORGANIZER;CN="ASK%20ME%20FRANCE%20-%20La%20villa%20Julien":MAILTO:askmefrance@gmail.com
END:VEVENT
END:VCALENDAR