BEGIN:VCALENDAR
VERSION:2.0
PRODID:-//Yvelines Infos - ECPv6.0.2//NONSGML v1.0//EN
CALSCALE:GREGORIAN
METHOD:PUBLISH
X-ORIGINAL-URL:https://www.yvelines-infos.fr
X-WR-CALDESC:Évènements pour Yvelines Infos
REFRESH-INTERVAL;VALUE=DURATION:PT1H
X-Robots-Tag:noindex
X-PUBLISHED-TTL:PT1H
BEGIN:VTIMEZONE
TZID:Europe/Paris
BEGIN:DAYLIGHT
TZOFFSETFROM:+0100
TZOFFSETTO:+0200
TZNAME:CEST
DTSTART:20170326T010000
END:DAYLIGHT
BEGIN:STANDARD
TZOFFSETFROM:+0200
TZOFFSETTO:+0100
TZNAME:CET
DTSTART:20171029T010000
END:STANDARD
END:VTIMEZONE
BEGIN:VEVENT
DTSTART;TZID=Europe/Paris:20170916T100000
DTEND;TZID=Europe/Paris:20170916T180000
DTSTAMP:20260423T032503
CREATED:20170915T081143Z
LAST-MODIFIED:20170915T081143Z
UID:343531-1505556000-1505584800@www.yvelines-infos.fr
SUMMARY:Journée du Patrimoine : Le lycée Jules-Verne de Sartrouville
DESCRIPTION:Que savez-vous du lycée Jules-Verne ? A l’occasion de la journée du Patrimoine et de son 50ème anniversaire\, l’établissement\, fleuron de l’enseignement professionnel d’Ile-de-France\, vous ouvre ses portes\, le samedi 16 septembre. \nUn peu d’histoire \nAutrefois Centre féminin d’apprentissage (1952)\, consacré aux métiers de la couture\, le site a hébergé un lycée « Pailleron » (1967) pendant deux décennies avant de devenir Lycée d’Enseignement Professionnel en 1975 puis Lycée Professionnel en 1977. Un incendie en 1998 ravage en grande partie les anciens ateliers et donne le départ de la construction du nouvel établissement\, le lycée polyvalent Jules-Verne que nous connaissons aujourd’hui et qui sera inauguré le 10 décembre 2001.\nLa devise du lycée \n« Tourner les clefs du savoir\, c’est s’ouvrir les portes du monde. » Aujourd’hui\, le lycée polyvalent Jules-Verne propose trois filières d’enseignement : industrielle et métiers de l’art\, commerce et vente\, administratives et sécurité – prévention\, allant du CAP au BTS en passant par le Diplôme des métiers d’art. \nLa journée du Patrimoine à Sartrouville \nAu programme : \nDéfilé de costumes\nVisites libres des ateliers métiers d’art – costumes\nExposition des travaux de broderie d’art\nExposition d’accessoires réalisés sur place\nDécouverte des métiers de l’industrie\nDécouverte des métiers de la sécurité avec une intervention incendie en extérieur…. \nUn programme qui devrait ravir les curieux\, intéresser les historiens\, étonner les visiteurs et ne laisser personne indifférent ! \nPlus d’infos\nJournée du Patrimoine\nLe lycée Jules-Verne à 50 ans\nSamedi 16 septembre\, de 10h à 18h\nEntrée par le 2 rue de la Constituante
URL:https://www.yvelines-infos.fr/agenda/journee-patrimoine-lycee-jules-verne-de-sartrouville/
LOCATION:2 rue de la constituante\, sartrouville\, 2 rue de la Constituante\, Sartrouville\, 78500\, France
ATTACH;FMTTYPE=image/jpeg:https://www.yvelines-infos.fr/content/uploads/2017/Patrimoine-Affiche-Sartrouville.jpg
GEO:48.9427967;2.16025
X-APPLE-STRUCTURED-LOCATION;VALUE=URI;X-ADDRESS=2 rue de la constituante sartrouville 2 rue de la Constituante Sartrouville 78500 France;X-APPLE-RADIUS=500;X-TITLE=2 rue de la Constituante:geo:2.16025,48.9427967
END:VEVENT
END:VCALENDAR