BEGIN:VCALENDAR
VERSION:2.0
PRODID:-//Yvelines Infos - ECPv6.0.2//NONSGML v1.0//EN
CALSCALE:GREGORIAN
METHOD:PUBLISH
X-ORIGINAL-URL:https://www.yvelines-infos.fr
X-WR-CALDESC:Évènements pour Yvelines Infos
REFRESH-INTERVAL;VALUE=DURATION:PT1H
X-Robots-Tag:noindex
X-PUBLISHED-TTL:PT1H
BEGIN:VTIMEZONE
TZID:Europe/Paris
BEGIN:DAYLIGHT
TZOFFSETFROM:+0100
TZOFFSETTO:+0200
TZNAME:CEST
DTSTART:20220327T010000
END:DAYLIGHT
BEGIN:STANDARD
TZOFFSETFROM:+0200
TZOFFSETTO:+0100
TZNAME:CET
DTSTART:20221030T010000
END:STANDARD
END:VTIMEZONE
BEGIN:VEVENT
DTSTART;TZID=Europe/Paris:20220315T180000
DTEND;TZID=Europe/Paris:20220315T200000
DTSTAMP:20260423T101515
CREATED:20220126T133308Z
LAST-MODIFIED:20220126T133316Z
UID:382699-1647367200-1647374400@www.yvelines-infos.fr
SUMMARY:Trouvez une idée de projet entrepreneurial
DESCRIPTION:Vous êtes salariée et vous envisagez de créer votre entreprise\, vous n’avez pas d’idée précise ?\n\n\nVenez réfléchir à un projet qui correspond à vos compétences\, vos motivations mais surtout à un choix de vie.
URL:https://www.yvelines-infos.fr/agenda/trouvez-une-idee-de-projet-entrepreneurial/2022-03-15/
LOCATION:1 rue des Hêtres\, Trappes\, 1 rue des Hêtres ZA du Buisson de la Couldre\, TRAPPES\, 78190
ATTACH;FMTTYPE=image/jpeg:https://www.yvelines-infos.fr/content/uploads/2022/ofc-creation-entreprise-yvelinesjpg-scaled.jpg
END:VEVENT
BEGIN:VEVENT
DTSTART;TZID=Europe/Paris:20220208T100000
DTEND;TZID=Europe/Paris:20220208T120000
DTSTAMP:20260423T101515
CREATED:20220126T133308Z
LAST-MODIFIED:20220126T133315Z
UID:382696-1644314400-1644321600@www.yvelines-infos.fr
SUMMARY:Trouvez une idée de projet entrepreneurial
DESCRIPTION:Vous êtes salariée et vous envisagez de créer votre entreprise\, vous n’avez pas d’idée précise ?\n\n\nVenez réfléchir à un projet qui correspond à vos compétences\, vos motivations mais surtout à un choix de vie.
URL:https://www.yvelines-infos.fr/agenda/trouvez-une-idee-de-projet-entrepreneurial/2022-02-08/
LOCATION:1 rue des Hêtres\, Trappes\, 1 rue des Hêtres ZA du Buisson de la Couldre\, TRAPPES\, 78190
ATTACH;FMTTYPE=image/jpeg:https://www.yvelines-infos.fr/content/uploads/2022/ofc-creation-entreprise-yvelinesjpg-scaled.jpg
END:VEVENT
END:VCALENDAR