BEGIN:VCALENDAR
VERSION:2.0
PRODID:-//Yvelines Infos - ECPv6.0.2//NONSGML v1.0//EN
CALSCALE:GREGORIAN
METHOD:PUBLISH
X-ORIGINAL-URL:https://www.yvelines-infos.fr
X-WR-CALDESC:Évènements pour Yvelines Infos
REFRESH-INTERVAL;VALUE=DURATION:PT1H
X-Robots-Tag:noindex
X-PUBLISHED-TTL:PT1H
BEGIN:VTIMEZONE
TZID:Europe/Paris
BEGIN:DAYLIGHT
TZOFFSETFROM:+0100
TZOFFSETTO:+0200
TZNAME:CEST
DTSTART:20220327T010000
END:DAYLIGHT
BEGIN:STANDARD
TZOFFSETFROM:+0200
TZOFFSETTO:+0100
TZNAME:CET
DTSTART:20221030T010000
END:STANDARD
END:VTIMEZONE
BEGIN:VEVENT
DTSTART;TZID=Europe/Paris:20220316T203000
DTEND;TZID=Europe/Paris:20220316T203000
DTSTAMP:20260422T155416
CREATED:20220216T103044Z
LAST-MODIFIED:20220216T103049Z
UID:383782-1647462600-1647462600@www.yvelines-infos.fr
SUMMARY:Soulèvement
DESCRIPTION:Quel est le point commun entre le voguing\, Albert Camus\, Mai 68 et Mylène Farmer ? Réponse dans ce solo explosif sur le pouvoir de la révolte ! \nEngagée sur un parquet de danse aussi étroit qu’un podium de défilé de mode\, Tatiana Julien nous montre la façon dont les corps et les esprits se soulèvent. Du soulèvement de la jeunesse à celui d’Occupy Wall Street\, la chorégraphe et danseuse enchaîne les mouvements comme sur un ring\, invite les voix d’André Malraux\, d’Edgar Morin\, de Patti Smith… « La danse est un moyen de gagner sa liberté\, affirme-t-elle. De résister aussi. Elle contamine les gens\, et le soulèvement peut devenir une fête. » \nDans un engagement physique et politique total\, Soulèvement mélange krump\, voguing\, hip hop\, macarena et références au célèbre jeu vidéo Fortnite. Les voix de grands intellectuels se mêlent aux sons enregistrés lors de manifestations\, avec une question de fond : où trouver la force de se révolter face à la faillite de notre système ? « J’ai créé cette pièce dans un seul élan. J’ai ressenti un désir fort de me révolter\, comme une femme qui porte des sacs trop lourds et qui tout d’un coup a envie de se libérer. » Entre audace et rythmes endiablés\, un vent de liberté souffle dans la salle !
URL:https://www.yvelines-infos.fr/agenda/soulevement/2022-03-16/
LOCATION:Le théâtre de Saint-Quentin-en-Yvelines\, 3 Place Georges Pompidou\, Montigny le Bretonneux\, 78180
ATTACH;FMTTYPE=image/jpeg:https://www.yvelines-infos.fr/content/uploads/2022/50---soulevement-6915-herve-goluza-550-550.jpg
ORGANIZER;CN="th%26eacute%3B%26acirc%3Btre%20de%20Saint-Quentin-en-Yvelines":MAILTO:administration@tsqy.org
END:VEVENT
BEGIN:VEVENT
DTSTART;TZID=Europe/Paris:20220315T203000
DTEND;TZID=Europe/Paris:20220315T203000
DTSTAMP:20260422T155416
CREATED:20220216T103044Z
LAST-MODIFIED:20220216T103048Z
UID:383781-1647376200-1647376200@www.yvelines-infos.fr
SUMMARY:Soulèvement
DESCRIPTION:Quel est le point commun entre le voguing\, Albert Camus\, Mai 68 et Mylène Farmer ? Réponse dans ce solo explosif sur le pouvoir de la révolte ! \nEngagée sur un parquet de danse aussi étroit qu’un podium de défilé de mode\, Tatiana Julien nous montre la façon dont les corps et les esprits se soulèvent. Du soulèvement de la jeunesse à celui d’Occupy Wall Street\, la chorégraphe et danseuse enchaîne les mouvements comme sur un ring\, invite les voix d’André Malraux\, d’Edgar Morin\, de Patti Smith… « La danse est un moyen de gagner sa liberté\, affirme-t-elle. De résister aussi. Elle contamine les gens\, et le soulèvement peut devenir une fête. » \nDans un engagement physique et politique total\, Soulèvement mélange krump\, voguing\, hip hop\, macarena et références au célèbre jeu vidéo Fortnite. Les voix de grands intellectuels se mêlent aux sons enregistrés lors de manifestations\, avec une question de fond : où trouver la force de se révolter face à la faillite de notre système ? « J’ai créé cette pièce dans un seul élan. J’ai ressenti un désir fort de me révolter\, comme une femme qui porte des sacs trop lourds et qui tout d’un coup a envie de se libérer. » Entre audace et rythmes endiablés\, un vent de liberté souffle dans la salle !
URL:https://www.yvelines-infos.fr/agenda/soulevement/2022-03-15/
LOCATION:Le théâtre de Saint-Quentin-en-Yvelines\, 3 Place Georges Pompidou\, Montigny le Bretonneux\, 78180
ATTACH;FMTTYPE=image/jpeg:https://www.yvelines-infos.fr/content/uploads/2022/50---soulevement-6915-herve-goluza-550-550.jpg
ORGANIZER;CN="th%26eacute%3B%26acirc%3Btre%20de%20Saint-Quentin-en-Yvelines":MAILTO:administration@tsqy.org
END:VEVENT
END:VCALENDAR