BEGIN:VCALENDAR
VERSION:2.0
PRODID:-//Yvelines Infos - ECPv6.0.2//NONSGML v1.0//EN
CALSCALE:GREGORIAN
METHOD:PUBLISH
X-WR-CALNAME:Yvelines Infos
X-ORIGINAL-URL:https://www.yvelines-infos.fr
X-WR-CALDESC:Évènements pour Yvelines Infos
REFRESH-INTERVAL;VALUE=DURATION:PT1H
X-Robots-Tag:noindex
X-PUBLISHED-TTL:PT1H
BEGIN:VTIMEZONE
TZID:Europe/Paris
BEGIN:DAYLIGHT
TZOFFSETFROM:+0100
TZOFFSETTO:+0200
TZNAME:CEST
DTSTART:20220327T010000
END:DAYLIGHT
BEGIN:STANDARD
TZOFFSETFROM:+0200
TZOFFSETTO:+0100
TZNAME:CET
DTSTART:20221030T010000
END:STANDARD
END:VTIMEZONE
BEGIN:VEVENT
DTSTART;TZID=Europe/Paris:20220508T160000
DTEND;TZID=Europe/Paris:20220508T160000
DTSTAMP:20260423T064227
CREATED:20220401T131103Z
LAST-MODIFIED:20220401T131103Z
UID:385122-1652025600-1652025600@www.yvelines-infos.fr
SUMMARY:SMELLS LIKE TEEN SPIRIT
DESCRIPTION:Nouveau spectacle de la compagnie LARSEN d’après une idée originale de Stéphane Rousseau.\nUn jour\, il décide d’en finir. Et puis\, sans savoir pourquoi ni pour qui\, il découvre que son propre fantôme erre encore ici-bas en ignorant ce qui lui reste à accomplir. Bienvenue dans les limbes de Kurt Cobain. Imaginez la surprise d’un rasta (marabout à ses heures)\, lorsque poussant la porte d’un sordide club\, il tombe nez à nez avec ce fantôme illustre que lui seul peut voir ! S’enchaîne alors un road trip musical entre polar et quête mystique où des personnages hauts en couleur composent le tableau d’une épopée fantasque. Partagez l’histoire tourmentée de Kurt\, Barney\, Sam\, Molly et les autres. Un voyage entre drogue et mafia\, entre amour et amitié. \n-Report :\nLe spectacle SMELLS LIKE TEEN SPIRIT qui devait avoir lieu les 06\, 07 et 11 novembre 2021 sont reporté les 06\, 07 et 08 mai 2022:\nLes billets achetés pour le jeudi 11/11/21 sont valables pour le vendredi 6 mai 2022 à 20h45 (Nouvel Horaire)\,\nLes billets achetés pour le samedi 06/11/21 sont valables pour le samedi 7 mai 2022 à 20h45\,\nLes billets achetés pour le dimanche 07/11/21 sont valables pour le dimanche 8 mai 2022 à 16h.
URL:https://www.yvelines-infos.fr/agenda/smells-like-teen-spirit/2022-05-08/
LOCATION:Espace Culturel Jacques Brel\, 21 Rue des Merisiers\, Mantes la Ville\, 78711
ATTACH;FMTTYPE=image/jpeg:https://www.yvelines-infos.fr/content/uploads/2022/9fq2b-4771363754936214314.jpg
ORGANIZER;CN="Espace%20culturel%20Jacques%20Brel":MAILTO:culture@manteslaville.fr
END:VEVENT
BEGIN:VEVENT
DTSTART;TZID=Europe/Paris:20220507T204500
DTEND;TZID=Europe/Paris:20220507T204500
DTSTAMP:20260423T064227
CREATED:20220401T131103Z
LAST-MODIFIED:20220401T131103Z
UID:385121-1651956300-1651956300@www.yvelines-infos.fr
SUMMARY:SMELLS LIKE TEEN SPIRIT
DESCRIPTION:Nouveau spectacle de la compagnie LARSEN d’après une idée originale de Stéphane Rousseau.\nUn jour\, il décide d’en finir. Et puis\, sans savoir pourquoi ni pour qui\, il découvre que son propre fantôme erre encore ici-bas en ignorant ce qui lui reste à accomplir. Bienvenue dans les limbes de Kurt Cobain. Imaginez la surprise d’un rasta (marabout à ses heures)\, lorsque poussant la porte d’un sordide club\, il tombe nez à nez avec ce fantôme illustre que lui seul peut voir ! S’enchaîne alors un road trip musical entre polar et quête mystique où des personnages hauts en couleur composent le tableau d’une épopée fantasque. Partagez l’histoire tourmentée de Kurt\, Barney\, Sam\, Molly et les autres. Un voyage entre drogue et mafia\, entre amour et amitié. \n-Report :\nLe spectacle SMELLS LIKE TEEN SPIRIT qui devait avoir lieu les 06\, 07 et 11 novembre 2021 sont reporté les 06\, 07 et 08 mai 2022:\nLes billets achetés pour le jeudi 11/11/21 sont valables pour le vendredi 6 mai 2022 à 20h45 (Nouvel Horaire)\,\nLes billets achetés pour le samedi 06/11/21 sont valables pour le samedi 7 mai 2022 à 20h45\,\nLes billets achetés pour le dimanche 07/11/21 sont valables pour le dimanche 8 mai 2022 à 16h.
URL:https://www.yvelines-infos.fr/agenda/smells-like-teen-spirit/2022-05-07/
LOCATION:Espace Culturel Jacques Brel\, 21 Rue des Merisiers\, Mantes la Ville\, 78711
ATTACH;FMTTYPE=image/jpeg:https://www.yvelines-infos.fr/content/uploads/2022/9fq2b-4771363754936214314.jpg
ORGANIZER;CN="Espace%20culturel%20Jacques%20Brel":MAILTO:culture@manteslaville.fr
END:VEVENT
BEGIN:VEVENT
DTSTART;TZID=Europe/Paris:20220506T204500
DTEND;TZID=Europe/Paris:20220506T204500
DTSTAMP:20260423T064227
CREATED:20220401T131103Z
LAST-MODIFIED:20220401T131103Z
UID:385120-1651869900-1651869900@www.yvelines-infos.fr
SUMMARY:SMELLS LIKE TEEN SPIRIT
DESCRIPTION:Nouveau spectacle de la compagnie LARSEN d’après une idée originale de Stéphane Rousseau.\nUn jour\, il décide d’en finir. Et puis\, sans savoir pourquoi ni pour qui\, il découvre que son propre fantôme erre encore ici-bas en ignorant ce qui lui reste à accomplir. Bienvenue dans les limbes de Kurt Cobain. Imaginez la surprise d’un rasta (marabout à ses heures)\, lorsque poussant la porte d’un sordide club\, il tombe nez à nez avec ce fantôme illustre que lui seul peut voir ! S’enchaîne alors un road trip musical entre polar et quête mystique où des personnages hauts en couleur composent le tableau d’une épopée fantasque. Partagez l’histoire tourmentée de Kurt\, Barney\, Sam\, Molly et les autres. Un voyage entre drogue et mafia\, entre amour et amitié. \n-Report :\nLe spectacle SMELLS LIKE TEEN SPIRIT qui devait avoir lieu les 06\, 07 et 11 novembre 2021 sont reporté les 06\, 07 et 08 mai 2022:\nLes billets achetés pour le jeudi 11/11/21 sont valables pour le vendredi 6 mai 2022 à 20h45 (Nouvel Horaire)\,\nLes billets achetés pour le samedi 06/11/21 sont valables pour le samedi 7 mai 2022 à 20h45\,\nLes billets achetés pour le dimanche 07/11/21 sont valables pour le dimanche 8 mai 2022 à 16h.
URL:https://www.yvelines-infos.fr/agenda/smells-like-teen-spirit/2022-05-06/
LOCATION:Espace Culturel Jacques Brel\, 21 Rue des Merisiers\, Mantes la Ville\, 78711
ATTACH;FMTTYPE=image/jpeg:https://www.yvelines-infos.fr/content/uploads/2022/9fq2b-4771363754936214314.jpg
ORGANIZER;CN="Espace%20culturel%20Jacques%20Brel":MAILTO:culture@manteslaville.fr
END:VEVENT
END:VCALENDAR