BEGIN:VCALENDAR
VERSION:2.0
PRODID:-//Yvelines Infos - ECPv6.0.2//NONSGML v1.0//EN
CALSCALE:GREGORIAN
METHOD:PUBLISH
X-ORIGINAL-URL:https://www.yvelines-infos.fr
X-WR-CALDESC:Évènements pour Yvelines Infos
REFRESH-INTERVAL;VALUE=DURATION:PT1H
X-Robots-Tag:noindex
X-PUBLISHED-TTL:PT1H
BEGIN:VTIMEZONE
TZID:Europe/Paris
BEGIN:DAYLIGHT
TZOFFSETFROM:+0100
TZOFFSETTO:+0200
TZNAME:CEST
DTSTART:20200329T010000
END:DAYLIGHT
BEGIN:STANDARD
TZOFFSETFROM:+0200
TZOFFSETTO:+0100
TZNAME:CET
DTSTART:20201025T010000
END:STANDARD
END:VTIMEZONE
BEGIN:VEVENT
DTSTART;TZID=Europe/Paris:20200725T140000
DTEND;TZID=Europe/Paris:20200725T153000
DTSTAMP:20260424T120316
CREATED:20200805T135201Z
LAST-MODIFIED:20200805T135337Z
UID:368465-1595685600-1595691000@www.yvelines-infos.fr
SUMMARY:Séance d'initiation à la relaxologie / gestion du stress
DESCRIPTION:Bonjour\, \nJe vous propose une séance découverte individuelle d’1h30 pour gérer votre stress.\nLe but étant que vous repartiez avec des outils concrets à intégrer au quotidien. \nDurant la séance\, vous expérimenterez plusieurs techniques de relaxation et ainsi retiendrez celles qui vous conviennent le mieux. \nAu plaisir de vous accueillir.\nLaura Barsamian\nRelaxologue\, spécialisée dans la gestion du stress \n— \nHabilitée par l’Ecole du stress\, j’utilise la méthode Biosappia®\, qui signifie « la vie en mouvement » et qui existe depuis les années 70. Celle-ci propose un choix d’outils qui œuvre à tous les niveaux (physique\, mental\, émotionnel\, sensitif) et permet d’être autonome dans sa gestion du stress. \nDurant cette séance individuelle découverte\, vous expérimenterez différentes techniques éprouvées : \n– Postures corporelles\, type Yoga\, Qi Gong…\n– Relaxations guidées\, type Sophrologie\n– Exercices sensoriels (Méthode Dr Vittoz)\n– Rythmes respiratoires\n– Des temps d’écoute active \nBénéfices tirés des séances Biosappia® :\nGestion du stress\, meilleur sommeil\, relâcher les zones de tension\, maîtriser la respiration\, contrôler les pensées envahissantes\, améliorer la communication et relations inter-personnelles\, gagner en énergie\, augmenter la concentration\, stimuler la mémoire\, retrouver confiance…​ \nQuelques témoignages : \nFlorentive V.\n« Laura est à l’écoute\, elle prend son temps et elle a une voix très apaisante. Je suis ressortie de ces séances avec le sentiment d’avoir su lâcher prise sur mes angoisses et de mieux pouvoir les maîtriser. Encore merci ! » \nCéline P.\n« Très bonne expérience\, séances bénéfiques. Je me sens plus zen et dors mieux depuis. Laura est très pro et elle personnalise les exercices. Je recommande ! » \n– Note : Merci de prévoir une tenue confortable \nEn cas de questions\, n’hésitez surtout pas à me contacter.
URL:https://www.yvelines-infos.fr/agenda/seance-dinitiation-a-la-relaxologie-gestion-du-stress/2020-07-25/
LOCATION:2A rue gaucher\, 2A rue Gaucher\, Saint-Germain-en-Laye\, 78100\, France
ATTACH;FMTTYPE=image/jpeg:https://www.yvelines-infos.fr/content/uploads/2020/89299474-140498180781945-7126154740466974720-n.jpg
ORGANIZER;CN="Laura%20Barsamian":MAILTO:laura.barsamian@gmail.com
END:VEVENT
END:VCALENDAR