BEGIN:VCALENDAR
VERSION:2.0
PRODID:-//Yvelines Infos - ECPv6.0.2//NONSGML v1.0//EN
CALSCALE:GREGORIAN
METHOD:PUBLISH
X-WR-CALNAME:Yvelines Infos
X-ORIGINAL-URL:https://www.yvelines-infos.fr
X-WR-CALDESC:Évènements pour Yvelines Infos
REFRESH-INTERVAL;VALUE=DURATION:PT1H
X-Robots-Tag:noindex
X-PUBLISHED-TTL:PT1H
BEGIN:VTIMEZONE
TZID:Europe/Paris
BEGIN:DAYLIGHT
TZOFFSETFROM:+0100
TZOFFSETTO:+0200
TZNAME:CEST
DTSTART:20170326T010000
END:DAYLIGHT
BEGIN:STANDARD
TZOFFSETFROM:+0200
TZOFFSETTO:+0100
TZNAME:CET
DTSTART:20171029T010000
END:STANDARD
END:VTIMEZONE
BEGIN:VEVENT
DTSTART;TZID=Europe/Paris:20171109T200000
DTEND;TZID=Europe/Paris:20171109T213000
DTSTAMP:20260423T121558
CREATED:20170718T125349Z
LAST-MODIFIED:20170718T125349Z
UID:341105-1510257600-1510263000@www.yvelines-infos.fr
SUMMARY:Rivages / Compagnie Le Temps de Vivre
DESCRIPTION:Inspiré du personnage de Mohsen Lihidheb qui collecte des milliers d’objets ramenés par la mer\, Rivages met en scène l’interview d’Hatem\, le jardinier de la mer\, par une journaliste en quête d’un reportage sur les migrants.\nMais la fable s’invite dans la réalité : ces hommes et ces femmes venus de partout\, sont-ils des âmes errantes sorties de l’imagination d’Hatem ou des personnages réels ? Avec une langue vibrante qui manie l’humour et la poésie\, ces hommes et ces femmes affirment leur soif de liberté et leur droit de circuler. Ils dessinent la carte d’un monde pluriel et polyphonique. \nà partir de 14 ans \nDistribution :\nAvec : Rachid Akbal\, Marcel Mankita\, Abdon Fortuné Koumbha Kaf\, Christine Guênon (en cours)\nTexte et mise en scène : Rachid Akbal\nAssistanat à la mise en scène : Camille Behr\nCréation Lumière : Hervé Bontemps\nScénographie : Blandine Vieillot\nCréation musicale : Clément Roussillat\nCostumes : Fabienne Desflèches\nRemerciement : Gustave Akakpo
URL:https://www.yvelines-infos.fr/agenda/rivages-compagnie-le-temps-de-vivre/2017-11-09/
LOCATION:Collectif 12\, 174 boulevard du Maréchal Juin\, Mantes-la-Jolie\, 78200
ATTACH;FMTTYPE=image/jpeg:https://www.yvelines-infos.fr/content/uploads/2017/rivages-jobard-olivier-jobard_web.jpg
GEO:48.9940911;1.6983974
X-APPLE-STRUCTURED-LOCATION;VALUE=URI;X-ADDRESS=Collectif 12 174 boulevard du Maréchal Juin Mantes-la-Jolie 78200;X-APPLE-RADIUS=500;X-TITLE=174 boulevard du Maréchal Juin:geo:1.6983974,48.9940911
END:VEVENT
END:VCALENDAR