BEGIN:VCALENDAR
VERSION:2.0
PRODID:-//Yvelines Infos - ECPv6.0.2//NONSGML v1.0//EN
CALSCALE:GREGORIAN
METHOD:PUBLISH
X-WR-CALNAME:Yvelines Infos
X-ORIGINAL-URL:https://www.yvelines-infos.fr
X-WR-CALDESC:Évènements pour Yvelines Infos
REFRESH-INTERVAL;VALUE=DURATION:PT1H
X-Robots-Tag:noindex
X-PUBLISHED-TTL:PT1H
BEGIN:VTIMEZONE
TZID:Europe/Paris
BEGIN:DAYLIGHT
TZOFFSETFROM:+0100
TZOFFSETTO:+0200
TZNAME:CEST
DTSTART:20220327T010000
END:DAYLIGHT
BEGIN:STANDARD
TZOFFSETFROM:+0200
TZOFFSETTO:+0100
TZNAME:CET
DTSTART:20221030T010000
END:STANDARD
END:VTIMEZONE
BEGIN:VEVENT
DTSTART;TZID=Europe/Paris:20220415T203000
DTEND;TZID=Europe/Paris:20220415T203000
DTSTAMP:20260422T140237
CREATED:20220322T150100Z
LAST-MODIFIED:20220322T150127Z
UID:384217-1650054600-1650054600@www.yvelines-infos.fr
SUMMARY:MÖBIUS
DESCRIPTION:Vols planés\, portés acrobatiques\, pyramides humaines… Pour ce nouveau spectacle\, les 19 acrobates de la compagnie XY se lancent dans un ballet aérien qui porte très haut l’art de la chute ! \nAvec Möbius\, le collectif repousse les limites de notre humanité. Qui aurait cru que le corps humain puisse accomplir de telles prouesses ? Jouant sur un effet domino à donner le vertige\, ils forment un tout\, aussi limpide qu’une nuée d’oiseaux. Si un équilibre s’effondre\, c’est pour mieux se reconstruire ailleurs. Avec un seul et même désir en toile de fond : s’élever ensemble. \nQu’est-ce qui nous anime ? Vers où allons-nous ? C’est à partir de ces questions universelles\, et en s’inspirant du merveilleux spectacle de la nature\, que la compagnie XY et le chorégraphe Rachid Ouramdane ont développé cette performance de haut vol. À l’image d’une envolée d’étourneaux\, les corps reprennent ici  » Ces formidables chorégraphies aériennes qui semblent si harmonieuses et dont on ne comprend pas le fonctionnement.  »\nAccompagnés de sons qui semblent venir des entrailles de la terre\, ils célèbrent la condition humaine\, dans toute sa fragilité ! \nDurée : 1h10 sans entracte
URL:https://www.yvelines-infos.fr/agenda/mobius/2022-04-15/
LOCATION:Le théâtre de Saint-Quentin-en-Yvelines\, 3 Place Georges Pompidou\, Montigny le Bretonneux\, 78180
ATTACH;FMTTYPE=image/jpeg:https://www.yvelines-infos.fr/content/uploads/2022/mobius---cie-xy-christophe-raynaud-de-lage1-550-550.jpg
ORGANIZER;CN="th%26eacute%3B%26acirc%3Btre%20de%20Saint-Quentin-en-Yvelines":MAILTO:administration@tsqy.org
END:VEVENT
BEGIN:VEVENT
DTSTART;TZID=Europe/Paris:20220414T203000
DTEND;TZID=Europe/Paris:20220414T203000
DTSTAMP:20260422T140237
CREATED:20220322T150100Z
LAST-MODIFIED:20220322T150122Z
UID:384216-1649968200-1649968200@www.yvelines-infos.fr
SUMMARY:MÖBIUS
DESCRIPTION:Vols planés\, portés acrobatiques\, pyramides humaines… Pour ce nouveau spectacle\, les 19 acrobates de la compagnie XY se lancent dans un ballet aérien qui porte très haut l’art de la chute ! \nAvec Möbius\, le collectif repousse les limites de notre humanité. Qui aurait cru que le corps humain puisse accomplir de telles prouesses ? Jouant sur un effet domino à donner le vertige\, ils forment un tout\, aussi limpide qu’une nuée d’oiseaux. Si un équilibre s’effondre\, c’est pour mieux se reconstruire ailleurs. Avec un seul et même désir en toile de fond : s’élever ensemble. \nQu’est-ce qui nous anime ? Vers où allons-nous ? C’est à partir de ces questions universelles\, et en s’inspirant du merveilleux spectacle de la nature\, que la compagnie XY et le chorégraphe Rachid Ouramdane ont développé cette performance de haut vol. À l’image d’une envolée d’étourneaux\, les corps reprennent ici  » Ces formidables chorégraphies aériennes qui semblent si harmonieuses et dont on ne comprend pas le fonctionnement.  »\nAccompagnés de sons qui semblent venir des entrailles de la terre\, ils célèbrent la condition humaine\, dans toute sa fragilité ! \nDurée : 1h10 sans entracte
URL:https://www.yvelines-infos.fr/agenda/mobius/2022-04-14/
LOCATION:Le théâtre de Saint-Quentin-en-Yvelines\, 3 Place Georges Pompidou\, Montigny le Bretonneux\, 78180
ATTACH;FMTTYPE=image/jpeg:https://www.yvelines-infos.fr/content/uploads/2022/mobius---cie-xy-christophe-raynaud-de-lage1-550-550.jpg
ORGANIZER;CN="th%26eacute%3B%26acirc%3Btre%20de%20Saint-Quentin-en-Yvelines":MAILTO:administration@tsqy.org
END:VEVENT
BEGIN:VEVENT
DTSTART;TZID=Europe/Paris:20220413T203000
DTEND;TZID=Europe/Paris:20220413T203000
DTSTAMP:20260422T140237
CREATED:20220322T150100Z
LAST-MODIFIED:20220322T150122Z
UID:384215-1649881800-1649881800@www.yvelines-infos.fr
SUMMARY:MÖBIUS
DESCRIPTION:Vols planés\, portés acrobatiques\, pyramides humaines… Pour ce nouveau spectacle\, les 19 acrobates de la compagnie XY se lancent dans un ballet aérien qui porte très haut l’art de la chute ! \nAvec Möbius\, le collectif repousse les limites de notre humanité. Qui aurait cru que le corps humain puisse accomplir de telles prouesses ? Jouant sur un effet domino à donner le vertige\, ils forment un tout\, aussi limpide qu’une nuée d’oiseaux. Si un équilibre s’effondre\, c’est pour mieux se reconstruire ailleurs. Avec un seul et même désir en toile de fond : s’élever ensemble. \nQu’est-ce qui nous anime ? Vers où allons-nous ? C’est à partir de ces questions universelles\, et en s’inspirant du merveilleux spectacle de la nature\, que la compagnie XY et le chorégraphe Rachid Ouramdane ont développé cette performance de haut vol. À l’image d’une envolée d’étourneaux\, les corps reprennent ici  » Ces formidables chorégraphies aériennes qui semblent si harmonieuses et dont on ne comprend pas le fonctionnement.  »\nAccompagnés de sons qui semblent venir des entrailles de la terre\, ils célèbrent la condition humaine\, dans toute sa fragilité ! \nDurée : 1h10 sans entracte
URL:https://www.yvelines-infos.fr/agenda/mobius/2022-04-13/
LOCATION:Le théâtre de Saint-Quentin-en-Yvelines\, 3 Place Georges Pompidou\, Montigny le Bretonneux\, 78180
ATTACH;FMTTYPE=image/jpeg:https://www.yvelines-infos.fr/content/uploads/2022/mobius---cie-xy-christophe-raynaud-de-lage1-550-550.jpg
ORGANIZER;CN="th%26eacute%3B%26acirc%3Btre%20de%20Saint-Quentin-en-Yvelines":MAILTO:administration@tsqy.org
END:VEVENT
END:VCALENDAR