BEGIN:VCALENDAR
VERSION:2.0
PRODID:-//Yvelines Infos - ECPv6.0.2//NONSGML v1.0//EN
CALSCALE:GREGORIAN
METHOD:PUBLISH
X-WR-CALNAME:Yvelines Infos
X-ORIGINAL-URL:https://www.yvelines-infos.fr
X-WR-CALDESC:Évènements pour Yvelines Infos
REFRESH-INTERVAL;VALUE=DURATION:PT1H
X-Robots-Tag:noindex
X-PUBLISHED-TTL:PT1H
BEGIN:VTIMEZONE
TZID:Europe/Paris
BEGIN:DAYLIGHT
TZOFFSETFROM:+0100
TZOFFSETTO:+0200
TZNAME:CEST
DTSTART:20220327T010000
END:DAYLIGHT
BEGIN:STANDARD
TZOFFSETFROM:+0200
TZOFFSETTO:+0100
TZNAME:CET
DTSTART:20221030T010000
END:STANDARD
END:VTIMEZONE
BEGIN:VEVENT
DTSTART;TZID=Europe/Paris:20220209T203000
DTEND;TZID=Europe/Paris:20220209T203000
DTSTAMP:20260422T193256
CREATED:20220126T135128Z
LAST-MODIFIED:20220126T135133Z
UID:382809-1644438600-1644438600@www.yvelines-infos.fr
SUMMARY:LOU / LOULOU (la petite pelisse)
DESCRIPTION:Le baroque\, ici et maintenant ! Avec Lou et Loulou (la petite pelisse)\, les chorégraphes Mickaël Phelippeau et Gaëlle Bourges interprètent chacun à leur façon la Belle Danse\, pour mieux la réinventer. \nSensible au devenir de la danse baroque\, désireuse de bâtir un pont entre les esthétiques des XIIe et celles du XXIe siècles\, Béatrice Massin a imaginé La Fabrique des Ecritures\, un terrain de jeu ludique et créatif qui convie des chorégraphes reconnus et d’horizons divers à s’emparer des matières baroques au travers des corps des interprètes de la comapgnie Fêtes galantes. Le chorégraphe-portraitiste Mickaël Phelippeau en a été le premier invité. Avec Lou\, qui ouvre la soirée\, il dresse le portrait plein de fraîcheur et d’espièglerie de Lou Cantor\, interprète emblématique de la compagnie Fêtes galantes. Entre récit autobiographique et écriture chorégraphique\, histoire de la danse et parcours individuel\, baroque et contemporain\, elle dessine – au sens propre et au sens figuré – sa trajectoire de danseuse\, tombée dans le baroque dès l’enfance. \nDans Loulou\, Gaëlle Bourges propose une approche de l’art baroque par le biais de la peinture. En articulant sa réflexion autour de la nudité et plus spécifiquement autour du rapport du nu avec la fourrure à travers La Petite Pelisse de Pierre Paul Rubens\, la chorégraphe met en scène une performance atypique avec deux disciplies de Béatrice Massin\, Philippe Lebhar et Lou Cantor. Une mise à nu qui célèbre l’art tel que Rubens le concevait : « un effort patient pour ne pas donner son consentement à l’ordre du monde. »
URL:https://www.yvelines-infos.fr/agenda/lou-loulou-la-petite-pelisse/2022-02-09/
LOCATION:Le théâtre de Saint-Quentin-en-Yvelines\, 3 Place Georges Pompidou\, Montigny le Bretonneux\, 78180
ATTACH;FMTTYPE=image/jpeg:https://www.yvelines-infos.fr/content/uploads/2022/dsc-4341-550-550.jpg
ORGANIZER;CN="th%26eacute%3B%26acirc%3Btre%20de%20Saint-Quentin-en-Yvelines":MAILTO:administration@tsqy.org
END:VEVENT
BEGIN:VEVENT
DTSTART;TZID=Europe/Paris:20220208T203000
DTEND;TZID=Europe/Paris:20220208T203000
DTSTAMP:20260422T193256
CREATED:20220126T135128Z
LAST-MODIFIED:20220126T135133Z
UID:382808-1644352200-1644352200@www.yvelines-infos.fr
SUMMARY:LOU / LOULOU (la petite pelisse)
DESCRIPTION:Le baroque\, ici et maintenant ! Avec Lou et Loulou (la petite pelisse)\, les chorégraphes Mickaël Phelippeau et Gaëlle Bourges interprètent chacun à leur façon la Belle Danse\, pour mieux la réinventer. \nSensible au devenir de la danse baroque\, désireuse de bâtir un pont entre les esthétiques des XIIe et celles du XXIe siècles\, Béatrice Massin a imaginé La Fabrique des Ecritures\, un terrain de jeu ludique et créatif qui convie des chorégraphes reconnus et d’horizons divers à s’emparer des matières baroques au travers des corps des interprètes de la comapgnie Fêtes galantes. Le chorégraphe-portraitiste Mickaël Phelippeau en a été le premier invité. Avec Lou\, qui ouvre la soirée\, il dresse le portrait plein de fraîcheur et d’espièglerie de Lou Cantor\, interprète emblématique de la compagnie Fêtes galantes. Entre récit autobiographique et écriture chorégraphique\, histoire de la danse et parcours individuel\, baroque et contemporain\, elle dessine – au sens propre et au sens figuré – sa trajectoire de danseuse\, tombée dans le baroque dès l’enfance. \nDans Loulou\, Gaëlle Bourges propose une approche de l’art baroque par le biais de la peinture. En articulant sa réflexion autour de la nudité et plus spécifiquement autour du rapport du nu avec la fourrure à travers La Petite Pelisse de Pierre Paul Rubens\, la chorégraphe met en scène une performance atypique avec deux disciplies de Béatrice Massin\, Philippe Lebhar et Lou Cantor. Une mise à nu qui célèbre l’art tel que Rubens le concevait : « un effort patient pour ne pas donner son consentement à l’ordre du monde. »
URL:https://www.yvelines-infos.fr/agenda/lou-loulou-la-petite-pelisse/2022-02-08/
LOCATION:Le théâtre de Saint-Quentin-en-Yvelines\, 3 Place Georges Pompidou\, Montigny le Bretonneux\, 78180
ATTACH;FMTTYPE=image/jpeg:https://www.yvelines-infos.fr/content/uploads/2022/dsc-4341-550-550.jpg
ORGANIZER;CN="th%26eacute%3B%26acirc%3Btre%20de%20Saint-Quentin-en-Yvelines":MAILTO:administration@tsqy.org
END:VEVENT
END:VCALENDAR