BEGIN:VCALENDAR
VERSION:2.0
PRODID:-//Yvelines Infos - ECPv6.0.2//NONSGML v1.0//EN
CALSCALE:GREGORIAN
METHOD:PUBLISH
X-ORIGINAL-URL:https://www.yvelines-infos.fr
X-WR-CALDESC:Évènements pour Yvelines Infos
REFRESH-INTERVAL;VALUE=DURATION:PT1H
X-Robots-Tag:noindex
X-PUBLISHED-TTL:PT1H
BEGIN:VTIMEZONE
TZID:Europe/Paris
BEGIN:DAYLIGHT
TZOFFSETFROM:+0100
TZOFFSETTO:+0200
TZNAME:CEST
DTSTART:20220327T010000
END:DAYLIGHT
BEGIN:STANDARD
TZOFFSETFROM:+0200
TZOFFSETTO:+0100
TZNAME:CET
DTSTART:20221030T010000
END:STANDARD
END:VTIMEZONE
BEGIN:VEVENT
DTSTART;TZID=Europe/Paris:20220312T180000
DTEND;TZID=Europe/Paris:20220312T180000
DTSTAMP:20260422T175258
CREATED:20220126T132552Z
LAST-MODIFIED:20220126T132604Z
UID:382912-1647108000-1647108000@www.yvelines-infos.fr
SUMMARY:J'AI TROP D'AMIS
DESCRIPTION:Après J’ai trop peur\, David Lescot nous fait à nouveau partager les tribulations de la pré-adolescence. Cette fois-ci\, notre jeune héros est en 6ème et les vrais problèmes commencent… Bienvenue dans la jungle du collège ! \nCa y est\, c’est la rentrée pour « Moi » ! Et c’est bien pire que dans ses cauchemars ! Comment faire quand on se fait classer direct bolos par ses camarades ? Quand on a ni portable\, ni sneakers de marque et qu’on vient de se faire élir délégué ? Heureusement\, il y a Marguerite ! À eux deux\, ils vont trouver les armes pour faire leur place dans le monde hostile du collège. Avec le même dispositif gigogne qui permet de changer de décor en un claquement de doigt et 3 comédiennes irrésistibles qui interprètent tour à tour les différents protagonistes\, David Lescot reprend l’histoire là où il l’avait laissée\, croquant avec toujours autant d’inteligence et d’humour l’univers impitoyable de la vie des ados. \nSi l’on se réjouit de retrouver ce format aussi sérieusement drôle que drôlement sérieux\, les questions existentielles abordées dans ce nouveau cadre évoluent. Comment avoir bonne réputation ? Qui est populaire et qui ne l’est pas ? Et ça veut dire quoi être populaire ? Qui sont mes amis et mes ennemis ? Pour quels délégués de classe faut-il voter ? Autant de questionnements donnant lieu à des situations tragi-comiques. L’auteur et metteur en scène David Lescot n’a pas son pareil pour faire résonner la langue des enfants\, leurs expressions\, leur façon de communiquer. À découvrir\, même sans avoir vu le premier épisode.
URL:https://www.yvelines-infos.fr/agenda/jai-trop-damis/2022-03-12/
LOCATION:Le théâtre de Saint-Quentin-en-Yvelines\, 3 Place Georges Pompidou\, Montigny le Bretonneux\, 78180
ATTACH;FMTTYPE=image/jpeg:https://www.yvelines-infos.fr/content/uploads/2022/200721-rdl-0395-original-1-550-550.jpg
ORGANIZER;CN="th%26eacute%3B%26acirc%3Btre%20de%20Saint-Quentin-en-Yvelines":MAILTO:administration@tsqy.org
END:VEVENT
BEGIN:VEVENT
DTSTART;TZID=Europe/Paris:20220311T203000
DTEND;TZID=Europe/Paris:20220311T203000
DTSTAMP:20260422T175258
CREATED:20220126T132552Z
LAST-MODIFIED:20220126T132603Z
UID:382911-1647030600-1647030600@www.yvelines-infos.fr
SUMMARY:J'AI TROP D'AMIS
DESCRIPTION:Après J’ai trop peur\, David Lescot nous fait à nouveau partager les tribulations de la pré-adolescence. Cette fois-ci\, notre jeune héros est en 6ème et les vrais problèmes commencent… Bienvenue dans la jungle du collège ! \nCa y est\, c’est la rentrée pour « Moi » ! Et c’est bien pire que dans ses cauchemars ! Comment faire quand on se fait classer direct bolos par ses camarades ? Quand on a ni portable\, ni sneakers de marque et qu’on vient de se faire élir délégué ? Heureusement\, il y a Marguerite ! À eux deux\, ils vont trouver les armes pour faire leur place dans le monde hostile du collège. Avec le même dispositif gigogne qui permet de changer de décor en un claquement de doigt et 3 comédiennes irrésistibles qui interprètent tour à tour les différents protagonistes\, David Lescot reprend l’histoire là où il l’avait laissée\, croquant avec toujours autant d’inteligence et d’humour l’univers impitoyable de la vie des ados. \nSi l’on se réjouit de retrouver ce format aussi sérieusement drôle que drôlement sérieux\, les questions existentielles abordées dans ce nouveau cadre évoluent. Comment avoir bonne réputation ? Qui est populaire et qui ne l’est pas ? Et ça veut dire quoi être populaire ? Qui sont mes amis et mes ennemis ? Pour quels délégués de classe faut-il voter ? Autant de questionnements donnant lieu à des situations tragi-comiques. L’auteur et metteur en scène David Lescot n’a pas son pareil pour faire résonner la langue des enfants\, leurs expressions\, leur façon de communiquer. À découvrir\, même sans avoir vu le premier épisode.
URL:https://www.yvelines-infos.fr/agenda/jai-trop-damis/2022-03-11/
LOCATION:Le théâtre de Saint-Quentin-en-Yvelines\, 3 Place Georges Pompidou\, Montigny le Bretonneux\, 78180
ATTACH;FMTTYPE=image/jpeg:https://www.yvelines-infos.fr/content/uploads/2022/200721-rdl-0395-original-1-550-550.jpg
ORGANIZER;CN="th%26eacute%3B%26acirc%3Btre%20de%20Saint-Quentin-en-Yvelines":MAILTO:administration@tsqy.org
END:VEVENT
END:VCALENDAR