BEGIN:VCALENDAR
VERSION:2.0
PRODID:-//Yvelines Infos - ECPv6.0.2//NONSGML v1.0//EN
CALSCALE:GREGORIAN
METHOD:PUBLISH
X-WR-CALNAME:Yvelines Infos
X-ORIGINAL-URL:https://www.yvelines-infos.fr
X-WR-CALDESC:Évènements pour Yvelines Infos
REFRESH-INTERVAL;VALUE=DURATION:PT1H
X-Robots-Tag:noindex
X-PUBLISHED-TTL:PT1H
BEGIN:VTIMEZONE
TZID:Europe/Paris
BEGIN:DAYLIGHT
TZOFFSETFROM:+0100
TZOFFSETTO:+0200
TZNAME:CEST
DTSTART:20220327T010000
END:DAYLIGHT
BEGIN:STANDARD
TZOFFSETFROM:+0200
TZOFFSETTO:+0100
TZNAME:CET
DTSTART:20221030T010000
END:STANDARD
END:VTIMEZONE
BEGIN:VEVENT
DTSTART;TZID=Europe/Paris:20220312T203000
DTEND;TZID=Europe/Paris:20220312T203000
DTSTAMP:20260422T160110
CREATED:20220126T132512Z
LAST-MODIFIED:20220126T132517Z
UID:382931-1647117000-1647117000@www.yvelines-infos.fr
SUMMARY:HORA
DESCRIPTION:Retour très attendu d’un monument de la danse contemporaine. Créé en 2009 par le légendaire chorégraphe israélien Ohad Naharin\, Hora célèbre la liberté des corps\, pour un moment d’abandon savamment maîtrisé ! \nSur un plateau vert fluorescent\, 11 interprètes vêtus de noir exécutent à la perfection une gestuelle insolite\, puissante et aiguisée\, sur une bande sonore qui adapte de façon surprenante des grandes œuvres classiques (Strauss\, Wagner\, Grieg\, Debussy…). Insectes agiles\, animaux gracieux\, les danseurs époustouflants de la Batsheva Dance Company viennent éclabousser l’espace nu\, parfois seul\, souvent à plusieurs\, tel un véritable corps collectif.
URL:https://www.yvelines-infos.fr/agenda/hora/2022-03-12/
LOCATION:L'Onde Théâtre Centre d'art\, 8 bis\, avenue Louis Breguet\, Vélizy-Villacoublay\, France\, 78140
ATTACH;FMTTYPE=image/jpeg:https://www.yvelines-infos.fr/content/uploads/2022/48---hora-c-gadi-dagon-550-550.jpg
ORGANIZER;CN="th%26eacute%3B%26acirc%3Btre%20de%20Saint-Quentin-en-Yvelines":MAILTO:administration@tsqy.org
GEO:48.7822173;2.1800377
X-APPLE-STRUCTURED-LOCATION;VALUE=URI;X-ADDRESS=L'Onde Théâtre Centre d'art 8 bis avenue Louis Breguet Vélizy-Villacoublay France 78140;X-APPLE-RADIUS=500;X-TITLE=8 bis\, avenue Louis Breguet:geo:2.1800377,48.7822173
END:VEVENT
BEGIN:VEVENT
DTSTART;TZID=Europe/Paris:20220311T203000
DTEND;TZID=Europe/Paris:20220311T203000
DTSTAMP:20260422T160110
CREATED:20220126T132512Z
LAST-MODIFIED:20220126T132517Z
UID:382930-1647030600-1647030600@www.yvelines-infos.fr
SUMMARY:HORA
DESCRIPTION:Retour très attendu d’un monument de la danse contemporaine. Créé en 2009 par le légendaire chorégraphe israélien Ohad Naharin\, Hora célèbre la liberté des corps\, pour un moment d’abandon savamment maîtrisé ! \nSur un plateau vert fluorescent\, 11 interprètes vêtus de noir exécutent à la perfection une gestuelle insolite\, puissante et aiguisée\, sur une bande sonore qui adapte de façon surprenante des grandes œuvres classiques (Strauss\, Wagner\, Grieg\, Debussy…). Insectes agiles\, animaux gracieux\, les danseurs époustouflants de la Batsheva Dance Company viennent éclabousser l’espace nu\, parfois seul\, souvent à plusieurs\, tel un véritable corps collectif.
URL:https://www.yvelines-infos.fr/agenda/hora/2022-03-11/
LOCATION:L'Onde Théâtre Centre d'art\, 8 bis\, avenue Louis Breguet\, Vélizy-Villacoublay\, France\, 78140
ATTACH;FMTTYPE=image/jpeg:https://www.yvelines-infos.fr/content/uploads/2022/48---hora-c-gadi-dagon-550-550.jpg
ORGANIZER;CN="th%26eacute%3B%26acirc%3Btre%20de%20Saint-Quentin-en-Yvelines":MAILTO:administration@tsqy.org
GEO:48.7822173;2.1800377
X-APPLE-STRUCTURED-LOCATION;VALUE=URI;X-ADDRESS=L'Onde Théâtre Centre d'art 8 bis avenue Louis Breguet Vélizy-Villacoublay France 78140;X-APPLE-RADIUS=500;X-TITLE=8 bis\, avenue Louis Breguet:geo:2.1800377,48.7822173
END:VEVENT
END:VCALENDAR