BEGIN:VCALENDAR
VERSION:2.0
PRODID:-//Yvelines Infos - ECPv6.0.2//NONSGML v1.0//EN
CALSCALE:GREGORIAN
METHOD:PUBLISH
X-ORIGINAL-URL:https://www.yvelines-infos.fr
X-WR-CALDESC:Évènements pour Yvelines Infos
REFRESH-INTERVAL;VALUE=DURATION:PT1H
X-Robots-Tag:noindex
X-PUBLISHED-TTL:PT1H
BEGIN:VTIMEZONE
TZID:Europe/Paris
BEGIN:DAYLIGHT
TZOFFSETFROM:+0100
TZOFFSETTO:+0200
TZNAME:CEST
DTSTART:20180325T010000
END:DAYLIGHT
BEGIN:STANDARD
TZOFFSETFROM:+0200
TZOFFSETTO:+0100
TZNAME:CET
DTSTART:20181028T010000
END:STANDARD
END:VTIMEZONE
BEGIN:VEVENT
DTSTART;TZID=Europe/Paris:20181207T170000
DTEND;TZID=Europe/Paris:20181207T210000
DTSTAMP:20260423T041824
CREATED:20181113T101906Z
LAST-MODIFIED:20181113T101906Z
UID:353833-1544202000-1544216400@www.yvelines-infos.fr
SUMMARY:Exposition petits formats et objets d’artistes à l’atelier Didier BONNOT de Versailles
DESCRIPTION:Marché de Noël à l’atelier Didier BONNOT \n  \nPendant trois jours\, du 7 au 9 décembre\, le marché de Noël de l’atelier Didier BONNOT\, va reléguer celui de Strasbourg à l’état d’anecdote locale !! \n  \n9 artistes investissent l’atelier pour présenter des petits formats et des objets d’artistes\, vous proposant des idées de cadeaux pour  Noël\, originaux\, uniques\, insolites et de qualité. \nPeintures\, sculptures\, photographies bien sur\, mais aussi de la céramique\, des objets et bijoux en verre\, des créations sur tissus imprimés de tableaux\, ou encore des objets dérivés. \n  \nVous pouvez vous offrir\, des petites toiles ou sculptures pour un prix très modique\, un nœud papillon original\, un service à dessert revisité\, des boules de Noël peintes\, des oiseaux de papier\, des confitures de mots….et de nombreuses autres surprises. \n  \nDidier BONNOT\, Lucile BOLOT\, Jean Louis FILOCHE\, ELISA\, KORE\, Nat’MO\, Nathalie TRICOT\, Sabine JEANNOT\, Noémie GALLET seront heureux de vous retrouver \nVendredi 7 décembre de 17 à 21 heures \nSamedi 8 décembre de 11 à 19 heures \nDimanche 8 décembre de 11 à 19 heures \n  \nA l’Atelier Didier BONNOT \n20 rue François Boucher \n78000 VERSAILLES
URL:https://www.yvelines-infos.fr/agenda/exposition-petits-formats-et-objets-dartistes-a-latelier-didier-bonnot-de-versailles/2018-12-07/
LOCATION:atelier Didier BONNOT\, 20 rue François Boucher\, Versailles\, 78000
ATTACH;FMTTYPE=image/jpeg:https://www.yvelines-infos.fr/content/uploads/2018/petits-formats-et-objets-dartistes-2018-4-copie-1.jpg
ORGANIZER;CN="Didier%20BONNOT":MAILTO:didbonnot@gmail.com
GEO:48.8055357;2.159335
X-APPLE-STRUCTURED-LOCATION;VALUE=URI;X-ADDRESS=atelier Didier BONNOT 20 rue François Boucher Versailles 78000;X-APPLE-RADIUS=500;X-TITLE=20 rue François Boucher:geo:2.159335,48.8055357
END:VEVENT
END:VCALENDAR