BEGIN:VCALENDAR
VERSION:2.0
PRODID:-//Yvelines Infos - ECPv6.0.2//NONSGML v1.0//EN
CALSCALE:GREGORIAN
METHOD:PUBLISH
X-WR-CALNAME:Yvelines Infos
X-ORIGINAL-URL:https://www.yvelines-infos.fr
X-WR-CALDESC:Évènements pour Yvelines Infos
REFRESH-INTERVAL;VALUE=DURATION:PT1H
X-Robots-Tag:noindex
X-PUBLISHED-TTL:PT1H
BEGIN:VTIMEZONE
TZID:Europe/Paris
BEGIN:DAYLIGHT
TZOFFSETFROM:+0100
TZOFFSETTO:+0200
TZNAME:CEST
DTSTART:20170326T010000
END:DAYLIGHT
BEGIN:STANDARD
TZOFFSETFROM:+0200
TZOFFSETTO:+0100
TZNAME:CET
DTSTART:20171029T010000
END:STANDARD
END:VTIMEZONE
BEGIN:VEVENT
DTSTART;TZID=Europe/Paris:20171007T110000
DTEND;TZID=Europe/Paris:20171222T183000
DTSTAMP:20260423T110638
CREATED:20171002T145539Z
LAST-MODIFIED:20171002T145736Z
UID:344056-1507374000-1513967400@www.yvelines-infos.fr
SUMMARY:Expo : Les Tableaux vivants - Karina Bisch
DESCRIPTION:Karina Bisch laisse sa peinture envahir le décor. Foulards\, tableaux\, costumes ou parapluies\, rien ne semble échapper au grand carambolage de formes et de couleurs qu’elle met en scène avec joie et détermination. \nMalicieusement\, elle détricote le grand jeu de l’art moderne — une maille à l’envers de l’art géométrique\, une maille à l’endroit de l’expression débridée — et tire en diagonale le fil du temps présent. Sa peinture est vivante\, ses tableaux sont vivants. Pour cette exposition\, elle réalise trois tableaux monumentaux qui sont à la fois la scène\, le décor et le rideau. Véritables peintures d’histoires\, « Les Tableaux vivants » nous entraînent dans l’éternelle danse des formes et content à nos yeux les primitifs plaisirs de la couleur.
URL:https://www.yvelines-infos.fr/agenda/expo-tableaux-vivants-karina-bisch/2017-10-07/
LOCATION:L’Onde Théâtre Centre d’art\, 8 bis\, avenue Louis Breguet\, Vélizy-Villacoublay\, 78140\, France
ATTACH;FMTTYPE=image/jpeg:https://www.yvelines-infos.fr/content/uploads/2017/Karina-Bisch_visuel_Les-tableaux-vivants-bis-paysage.jpg
ORGANIZER;CN="L%27Onde%20Th%C3%A9%C3%A2tre%20Centre%20d%27art":MAILTO:labilletterie@londe.fr
GEO:48.7822173;2.1800377
X-APPLE-STRUCTURED-LOCATION;VALUE=URI;X-ADDRESS=L’Onde Théâtre Centre d’art 8 bis avenue Louis Breguet Vélizy-Villacoublay 78140 France;X-APPLE-RADIUS=500;X-TITLE=8 bis\, avenue Louis Breguet:geo:2.1800377,48.7822173
END:VEVENT
END:VCALENDAR