BEGIN:VCALENDAR
VERSION:2.0
PRODID:-//Yvelines Infos - ECPv6.0.2//NONSGML v1.0//EN
CALSCALE:GREGORIAN
METHOD:PUBLISH
X-WR-CALNAME:Yvelines Infos
X-ORIGINAL-URL:https://www.yvelines-infos.fr
X-WR-CALDESC:Évènements pour Yvelines Infos
REFRESH-INTERVAL;VALUE=DURATION:PT1H
X-Robots-Tag:noindex
X-PUBLISHED-TTL:PT1H
BEGIN:VTIMEZONE
TZID:Europe/Paris
BEGIN:DAYLIGHT
TZOFFSETFROM:+0100
TZOFFSETTO:+0200
TZNAME:CEST
DTSTART:20220327T010000
END:DAYLIGHT
BEGIN:STANDARD
TZOFFSETFROM:+0200
TZOFFSETTO:+0100
TZNAME:CET
DTSTART:20221030T010000
END:STANDARD
END:VTIMEZONE
BEGIN:VEVENT
DTSTART;TZID=Europe/Paris:20220129T203000
DTEND;TZID=Europe/Paris:20220129T203000
DTSTAMP:20260422T203457
CREATED:20220126T133142Z
LAST-MODIFIED:20220126T133156Z
UID:382777-1643488200-1643488200@www.yvelines-infos.fr
SUMMARY:Ça Dada
DESCRIPTION:Un siècle après la création du mouvement Dada\, peut-on encore jouer avec ? Plus que jamais ! Avec un humour féroce et une créativité débordante\, 3 acteurs survoltés mettent le plateau sens dessus dessous. \nÀ grand renfort de peinture qui gicle\, d’outils qui fracassent et machines qui grondent\, rien ne sera de trop pour recréer sur scène l’univers explosif du cri de révolte artistique que fut Dada il ya 100 ans. Dans une atmosphère de grande fête où petits et grands rient à gorge déployée\, le théâtre d’Alice Laloy est une joyeuse invitation à détruire un vieux monde. Pour en reconstruire un nouveau ? \nAprès le désastre de la Première Guerre mondiale\, les Dadaïstes veulent en finir avec la morale bourgeoise. Et quitte à tout détruire\, autant le faire dans la joie ! Au rythme d’un cheval qui galope à tout allure ( et en musique !)\, un comédien et deux comédiennes cassent les murs. Bricolent des mondes qui s’effondrent\, avant de danser comme des fous. Avec son théâtre peuplé d’images\, Alice Laloy nous fait (re)découvrir la folie du dadaïsme. Si aujourd ‘hui la guerre a changé de visage\, ce spectacle est la preuve vivante que l’art peut encore sauver !
URL:https://www.yvelines-infos.fr/agenda/ca-dada/2022-01-29/
LOCATION:Le théâtre de Saint-Quentin-en-Yvelines\, 3 Place Georges Pompidou\, Montigny le Bretonneux\, 78180
ATTACH;FMTTYPE=image/jpeg:https://www.yvelines-infos.fr/content/uploads/2022/02-28da350-550-550.jpg
ORGANIZER;CN="th%26eacute%3B%26acirc%3Btre%20de%20Saint-Quentin-en-Yvelines":MAILTO:administration@tsqy.org
END:VEVENT
BEGIN:VEVENT
DTSTART;TZID=Europe/Paris:20220128T203000
DTEND;TZID=Europe/Paris:20220128T203000
DTSTAMP:20260422T203457
CREATED:20220126T133142Z
LAST-MODIFIED:20220126T133156Z
UID:382776-1643401800-1643401800@www.yvelines-infos.fr
SUMMARY:Ça Dada
DESCRIPTION:Un siècle après la création du mouvement Dada\, peut-on encore jouer avec ? Plus que jamais ! Avec un humour féroce et une créativité débordante\, 3 acteurs survoltés mettent le plateau sens dessus dessous. \nÀ grand renfort de peinture qui gicle\, d’outils qui fracassent et machines qui grondent\, rien ne sera de trop pour recréer sur scène l’univers explosif du cri de révolte artistique que fut Dada il ya 100 ans. Dans une atmosphère de grande fête où petits et grands rient à gorge déployée\, le théâtre d’Alice Laloy est une joyeuse invitation à détruire un vieux monde. Pour en reconstruire un nouveau ? \nAprès le désastre de la Première Guerre mondiale\, les Dadaïstes veulent en finir avec la morale bourgeoise. Et quitte à tout détruire\, autant le faire dans la joie ! Au rythme d’un cheval qui galope à tout allure ( et en musique !)\, un comédien et deux comédiennes cassent les murs. Bricolent des mondes qui s’effondrent\, avant de danser comme des fous. Avec son théâtre peuplé d’images\, Alice Laloy nous fait (re)découvrir la folie du dadaïsme. Si aujourd ‘hui la guerre a changé de visage\, ce spectacle est la preuve vivante que l’art peut encore sauver !
URL:https://www.yvelines-infos.fr/agenda/ca-dada/2022-01-28/
LOCATION:Le théâtre de Saint-Quentin-en-Yvelines\, 3 Place Georges Pompidou\, Montigny le Bretonneux\, 78180
ATTACH;FMTTYPE=image/jpeg:https://www.yvelines-infos.fr/content/uploads/2022/02-28da350-550-550.jpg
ORGANIZER;CN="th%26eacute%3B%26acirc%3Btre%20de%20Saint-Quentin-en-Yvelines":MAILTO:administration@tsqy.org
END:VEVENT
BEGIN:VEVENT
DTSTART;TZID=Europe/Paris:20220127T203000
DTEND;TZID=Europe/Paris:20220127T203000
DTSTAMP:20260422T203457
CREATED:20220126T133142Z
LAST-MODIFIED:20220126T133155Z
UID:382775-1643315400-1643315400@www.yvelines-infos.fr
SUMMARY:Ça Dada
DESCRIPTION:Un siècle après la création du mouvement Dada\, peut-on encore jouer avec ? Plus que jamais ! Avec un humour féroce et une créativité débordante\, 3 acteurs survoltés mettent le plateau sens dessus dessous. \nÀ grand renfort de peinture qui gicle\, d’outils qui fracassent et machines qui grondent\, rien ne sera de trop pour recréer sur scène l’univers explosif du cri de révolte artistique que fut Dada il ya 100 ans. Dans une atmosphère de grande fête où petits et grands rient à gorge déployée\, le théâtre d’Alice Laloy est une joyeuse invitation à détruire un vieux monde. Pour en reconstruire un nouveau ? \nAprès le désastre de la Première Guerre mondiale\, les Dadaïstes veulent en finir avec la morale bourgeoise. Et quitte à tout détruire\, autant le faire dans la joie ! Au rythme d’un cheval qui galope à tout allure ( et en musique !)\, un comédien et deux comédiennes cassent les murs. Bricolent des mondes qui s’effondrent\, avant de danser comme des fous. Avec son théâtre peuplé d’images\, Alice Laloy nous fait (re)découvrir la folie du dadaïsme. Si aujourd ‘hui la guerre a changé de visage\, ce spectacle est la preuve vivante que l’art peut encore sauver !
URL:https://www.yvelines-infos.fr/agenda/ca-dada/2022-01-27/
LOCATION:Le théâtre de Saint-Quentin-en-Yvelines\, 3 Place Georges Pompidou\, Montigny le Bretonneux\, 78180
ATTACH;FMTTYPE=image/jpeg:https://www.yvelines-infos.fr/content/uploads/2022/02-28da350-550-550.jpg
ORGANIZER;CN="th%26eacute%3B%26acirc%3Btre%20de%20Saint-Quentin-en-Yvelines":MAILTO:administration@tsqy.org
END:VEVENT
END:VCALENDAR