BEGIN:VCALENDAR
VERSION:2.0
PRODID:-//Yvelines Infos - ECPv6.0.2//NONSGML v1.0//EN
CALSCALE:GREGORIAN
METHOD:PUBLISH
X-ORIGINAL-URL:https://www.yvelines-infos.fr
X-WR-CALDESC:Évènements pour Yvelines Infos
REFRESH-INTERVAL;VALUE=DURATION:PT1H
X-Robots-Tag:noindex
X-PUBLISHED-TTL:PT1H
BEGIN:VTIMEZONE
TZID:Europe/Paris
BEGIN:DAYLIGHT
TZOFFSETFROM:+0100
TZOFFSETTO:+0200
TZNAME:CEST
DTSTART:20200329T010000
END:DAYLIGHT
BEGIN:STANDARD
TZOFFSETFROM:+0200
TZOFFSETTO:+0100
TZNAME:CET
DTSTART:20201025T010000
END:STANDARD
BEGIN:DAYLIGHT
TZOFFSETFROM:+0100
TZOFFSETTO:+0200
TZNAME:CEST
DTSTART:20210328T010000
END:DAYLIGHT
BEGIN:STANDARD
TZOFFSETFROM:+0200
TZOFFSETTO:+0100
TZNAME:CET
DTSTART:20211031T010000
END:STANDARD
BEGIN:DAYLIGHT
TZOFFSETFROM:+0100
TZOFFSETTO:+0200
TZNAME:CEST
DTSTART:20220327T010000
END:DAYLIGHT
BEGIN:STANDARD
TZOFFSETFROM:+0200
TZOFFSETTO:+0100
TZNAME:CET
DTSTART:20221030T010000
END:STANDARD
END:VTIMEZONE
BEGIN:VEVENT
DTSTART;VALUE=DATE:20200225
DTEND;VALUE=DATE:20210816
DTSTAMP:20260422T235234
CREATED:20201014T121307Z
LAST-MODIFIED:20201014T121307Z
UID:370104-1582588800-1629071999@www.yvelines-infos.fr
SUMMARY:Gabrielle\, modèle préféré de Renoir
DESCRIPTION:« Gabrielle modèle préféré de Renoir»\, la nouvelle exposition du Musée de la Grenouillère \nPoursuivant son hommage à Pierre-Auguste Renoir initié en 2019 pour le centenaire de la mort de l’artiste\, le Musée de la Grenouillère nous invite à un voyage de charme avec l’exposition\n« Gabrielle modèle préféré de Renoir».\nRéalisée grâce au concours du Centre culturel Renoir et de la Commune d’Essoyes\, dans l’Aube\, cette exposition rassemble des œuvres issues de collections particulières et évoque la destinée hors du commun de Gabrielle Renard\, fille de la campagne champenoise qui\, de Paris à Grasse et jusqu’aux Etats-Unis\, sera tour à tour employée de maison\, nourrice\, muse et figure féminine incontournable de deux artistes majeurs du XXe siècle : le peintre Auguste Renoir et le cinéaste Jean Renoir.\nMERCREDI ET DIMANCHE DU 23 FEVRIER À FIN AOUT 2021. \nMusée de la Grenouillère\, Chanorier – 12 Grande rue\, 78290 Croissy-sur Seine\, A 10 minutes à pied de la gare Chatou-Croissy\, RER A. Ouverture mercredi et dimanche de 14h30 à 18h00\, et tous les jours pour les groupes sur réservation.  Tarif normal : 5 € – Tarif réduit : 3 € – Tarif groupe visite guidée et commentée : 6 € Exposition réalisée grâce au concours du Centre culturel Renoir et de la Commune d’Essoyes. \nInformation : Musée de la Grenouillère\, tél. : 01 30 53 61 02\, mail : grenouillere@orange.fr \nTarif normal : 5 € – Tarif réduit : 3 € – Tarif groupe visite guidée et commentée : 6 €
URL:https://www.yvelines-infos.fr/agenda/gabrielle-modele-prefere-de-renoir/
LOCATION:Musée de la grenouillère\, 12 Grande Rue\, Croissy-sur-Seine\, 78290\, France
ATTACH;FMTTYPE=image/jpeg:https://www.yvelines-infos.fr/content/uploads/2020/a60c2f45cdd0c2410a86ee7cdd9391422b61c7092225673e01554b20bf4c225c-large.jpg
END:VEVENT
BEGIN:VEVENT
DTSTART;VALUE=DATE:20210519
DTEND;VALUE=DATE:20210920
DTSTAMP:20260422T235234
CREATED:20210622T083547Z
LAST-MODIFIED:20210622T083547Z
UID:376620-1621382400-1632095999@www.yvelines-infos.fr
SUMMARY:Willy Ronis en RDA : la vie avant tout
DESCRIPTION:Célèbre photographe humaniste français\, Willy Ronis (1910-2009) a fondé sa renommée sur ses photos sensibles de Paris\, ses illustrations des régions françaises\, ses vues engagées du monde ouvrier et des mouvements sociaux. Willy Ronis se vit rarement confier des missions à l’étranger. La Ville de Versailles lui rend hommage à l’Espace Richaud en exposant ses clichés pris en 1960 et 1967 dans l’ex-République démocratique allemande (RDA).
URL:https://www.yvelines-infos.fr/agenda/willy-ronis-en-rda-la-vie-avant-tout/
LOCATION:Espace Richaud\, 78 boulevard de la Reine\, Versailles\, 78000\, France
ATTACH;FMTTYPE=image/png:https://www.yvelines-infos.fr/content/uploads/2021/capture-decran-2021-06-22-a-10-34-09.png
END:VEVENT
BEGIN:VEVENT
DTSTART;TZID=Europe/Paris:20210519T100000
DTEND;TZID=Europe/Paris:20210630T210000
DTSTAMP:20260422T235234
CREATED:20210507T084413Z
LAST-MODIFIED:20210507T084413Z
UID:375470-1621418400-1625086800@www.yvelines-infos.fr
SUMMARY:Exposition collective Brins d'heART Versailles - Brins de France / heART in Business
DESCRIPTION:Céline Saint-Martin (Brins de France) et Agnès Janin (heART in Business) unissent leur amour pour l’art et l’émotion artistique pour présenter les artistes pour lesquels elles ont chacune un vrai coup de cœur. De cette collaboration est née l’exposition Brins d’heART qui se tiendra du 19 mai au 30 juin. \nNous présenterons le travail de 33 artistes aux sensibilités et univers très différents avec un large choix d’œuvres uniques et authentiques (Peintures\, linogravures\, tableaux sculptés\, collages et art digital\, photographies et sculptures). \nC’est un défilé d’art que l’on a imaginé sur 3 sessions : du 19 mai au 1er juin\, du 2 au 15 juin\, puis du 16 au 30 juin\, avec un renouvellement d’artistes présentés par quinzaine et toujours\, la possibilité de voir les créations de tous les artistes sur simple demande à n’importe quel moment.
URL:https://www.yvelines-infos.fr/agenda/exposition-collective-brins-dheart-versailles-brins-de-france-heart-in-business/
LOCATION:Galerie éphémère\, 5 rue du Bailliage\, cour du bailliage\, Versailles\, 78000\, France
ATTACH;FMTTYPE=image/jpeg:https://www.yvelines-infos.fr/content/uploads/2021/affiche-final-jpeg.jpg
ORGANIZER;CN="heART%20in%20Business":MAILTO:agnes@heartinbusiness.fr
END:VEVENT
BEGIN:VEVENT
DTSTART;VALUE=DATE:20210529
DTEND;VALUE=DATE:20210901
DTSTAMP:20260422T235234
CREATED:20210531T085234Z
LAST-MODIFIED:20210531T085234Z
UID:375783-1622246400-1630454399@www.yvelines-infos.fr
SUMMARY:D'un arbre\, l'autre… Balade artistique en Vallée de Chevreuse
DESCRIPTION:L’association Hélium organise un événement en plein air du 29 mai au 31 août 2021\, comme une alternative aux expositions traditionnelles\, dans l’urgence d’agir pour les artistes et le public en ces temps de privation culturelle. \nDepuis la Gare du RER B de Saint-Rémy-lès-Chevreuse jusqu’à Boullay-les-Troux\, en passant par Les Molières\, l’ancienne voie ferrée (Ligne de Sceaux) partiellement réaménagée\,  accueillera pendant 3 mois les œuvres de 56 artistes de l’association. La répartition de celles-ci le long de ces 4\,5 km (dont 2\,2 km accessibles aux personnes à mobilité réduite) donnera l’opportunité au public d’une balade artistique riche et singulière. Une application géo localisée (sur I Phone et Androïd) permettra de renseigner le visiteur au fur et à mesure de sa déambulation. \nLes artistes ont travaillé autour d’un thème commun célébrant le territoire\, l’environnement et la forêt\, les œuvres devant s’intégrer dans ce contexte : une vingtaine d’installations\, éphémères ou pérennes\, soumises à l’érosion et à l’évolution naturelle du décor (sculptures\, land art…) ainsi qu’une cinquantaine de reproductions d’œuvres sur bâche constituent cette exposition en plein air\, en pleine nature. \nTrois temps forts sont programmés lors desquels des animations\, des spectacles et des œuvres participatives seront proposés au public\, afin de susciter un maximum d’échanges : \n– le samedi 29 mai à Boullay-les-Troux  \n– dimanche 27 juin aux Molières  \n– dimanche 29 août à Saint-Rémy-lès-Chevreuse  \nPour susciter l’intérêt des jeunes publics\, des visites scolaires sont organisées. Un carnet d’activité sera disponible pour les enfants\, à retirer à l’Office du Tourisme de Saint-Rémy-lès-Chevreuse\, dans des commerces ou à télécharger sur le site internet d’Hélium. \nArtistes :   \nVéronique Arnault\, Anne-Marie Barboteau\, Alain Bert\, Corine Bouladoux\, Klasien Boulloud\, Cécile Bourgoin-Odic\, Béatrice Carré\, Stéphane Clouet\, Raphaëlle Colombi\, Daniel Convenant\, Hélène Courvoisier\, Michel Coury\, Cécile Dachary\, Diane de Chamborant\, Dorothée Delornoir\, Corinne Delusseau-Rouxel\, Ghislain Delusseau\, Michel Di Maggio\, Marie-jo Dilly\, CJ Dubreuil\, Dominique Ducouret\, Marie-Pierre Dunod\, Neige Elbaum\, Isabelle Garbil Fauve-Piot\, Catherine Gendron\, Claudine Guittet\, Flor Héliot\, Daniel Hess\, Rodger Hickmann\, Catherine Hoang\, Claude Laurent\, Marie Lavault\, Sunhee Lee\, Caroline Leite\, Valérie Loiseau\, Coline Louber\, Alice Marc\, Danielo Martin\, Joël Migneaux\, Pascal Mollet\, Jean-Paul Privat\, Bruno Raoux\, Caroline Regnaut\, Christophe Renault\, Marie Romain\, Charlotte Rouhier\, Catherine Seznec\, Chris Sharpe\, Shélah\, Bernard Sustrac\, Martine Swynghedauw\, Sylc\, Marie Taklanti\, Véronique Tiberge\, Anne Vuarnesson\, « Yaya » K. 
URL:https://www.yvelines-infos.fr/agenda/dun-arbre-lautre-balade-artistique-en-vallee-de-chevreuse/
LOCATION:Gare RER Route de Limours 78470 Saint-Rémy-lès-Chevreuse\, Route de Limours\, Saint-Rémy-lès-Chevreuse\, 78470
ATTACH;FMTTYPE=image/jpeg:https://www.yvelines-infos.fr/content/uploads/2021/dun-arbre-lautre-2021.jpg
END:VEVENT
BEGIN:VEVENT
DTSTART;VALUE=DATE:20210601
DTEND;VALUE=DATE:20210824
DTSTAMP:20260422T235234
CREATED:20210601T100141Z
LAST-MODIFIED:20210601T100141Z
UID:375990-1622505600-1629763199@www.yvelines-infos.fr
SUMMARY:Exposition Henri-Edmond Cross
DESCRIPTION:Riche d’une collection très complète de dessins et de gravures de Maximilien Luce\, le musée de l’Hôtel-Dieu initie un cycle d’expositions-dossiers qui montrera chaque année un ami et contemporain\, également réputé pour ses talents de dessinateurs. Premier invité de ce dialogue artistique : Henri-Edmond Cross (1870-1910)\, artiste phare du néo-impressionnisme et grand coloriste. \nLa présentation de 16 dessins et aquarelles dans l’espace dédié aux techniques graphiques du cabinet fait écho aux œuvres de Luce. Elle évoque ses séjours dans le Midi\, lorsqu’il visita à plusieurs reprises Cross et Signac entre 1892 et 1898 et offre ainsi une confrontation inédite avec un dessin récemment acquis par le musée\, intitulé Le Golfe de Saint-Tropez. L’accrochage permet de comprendre la variété des pratiques artistiques au sein du groupe néo-impressionniste : à la différence de Luce\, Cross a très peu illustré les faits contemporains et la presse anar-chiste. À l’inverse\, Luce n’a jamais prêté la même attention à l’aquarelle que son ami. Cross est celui qui s’est le plus approprié les théories divisionnistes dans ses œuvres noires ou ses aquarelles et pastels colorés \nVISITE GUIDEE DU MUSEE – Exposition Henri-Edmond CrossDimanche 1er août\, à 15h30 (durée 1h) | Plein tarif : 8.70€ ; tarif réduit : 4.40€ \nHoraires :Lundi\, jeudi (horaires covid) : 10h-12h ; 14h-18hMercredi\, vendredi\, samedi : 14h-18h dimanche : 15h-18hFermé le mardi. \nTarifs :- Plein tarif : 5\,10€\,- Demi-tarif : 2\,55€\,- Gratuité pour les -18 ans
URL:https://www.yvelines-infos.fr/agenda/exposition-henri-edmond-cross/
LOCATION:Musée de l’Hôtel Dieu\, 1 Rue Thiers\, Mantes-la-Jolie\, 78200\, France
ATTACH;FMTTYPE=image/jpeg:https://www.yvelines-infos.fr/content/uploads/2021/image01.jpeg
END:VEVENT
BEGIN:VEVENT
DTSTART;VALUE=DATE:20210601
DTEND;VALUE=DATE:20220601
DTSTAMP:20260422T235234
CREATED:20210625T130224Z
LAST-MODIFIED:20210924T131140Z
UID:376869-1622505600-1654041599@www.yvelines-infos.fr
SUMMARY:Accédez au replay et aux ressources de la Journée des Métiers De Demain durant 1 an !
DESCRIPTION:La transition énergétique s’impose pour un avenir durable. \n\nPour être à la hauteur des enjeux\, chaque territoire innove et accélère ses changements. Sur la Communauté Urbaine du Grand Paris Seine & Oise\, les perspectives d’emplois dans l’énergie sont nombreuses avec des métiers variés\, accessibles et épanouissants. \nC’est pourquoi SEINERGY LAB et ses partenaires organisent depuis 3 ans « La Journée des Métiers De Demain »\, un rendez-vous annuel devenu incontournable dédié à l’information\, l’innovation\, la formation et l’emploi dans les secteurs de l’énergie\, du bâtiment\, de la mobilité et de l’industrie\, pour un public en recherche d’orientation et d’insertion professionnelle. \nLe mardi 1er juin 2021 s’est déroulée la 3e édition de « La Journée des Métiers De Demain » sous un format inédit 100% digital. \nVous êtes étudiants\, en recherche d’emploi\, en reconversion professionnelle\, acteur de l’emploi ou de la formation\, voire tout simplement curieux de connaître les perspectives d’emplois\, de métiers et de formations qu’offre la transition énergétique sur votre territoire ?\nVous êtes au bon endroit ! Inscrivez-vous pour accéder au REPLAY de l’évènement et aux ESPACES RESSOURCES pendant 12 mois ! \nJe m’inscris / J’inscris un groupe / une classe \nAU PROGRAMME :\n1) Accédez aux 3 TEMPS FORTS DU REPLAY en groupe ou individuellement :\nUne édition spéciale en live sur TV78 animée par Patrice CARMOUZE pouvant être visionnée en intégralité ou par temps fort. Indépendamment des thématiques abordées\, chaque temps fort apporte un éclairage métier au travers d’interviews\, de vidéos …avec la volonté de rendre accessibles les sujets au plus grand nombre : \nEn route vers de nouvelles énergies :\n\nQu’est-ce que la transition énergétique ?\nQuels sont les enjeux ?\nQuels sont les objectifs ?\nQuelles sont les solutions qui en découlent ?\n\nDes métiers de sens et d’avenir :\n\nQuels sont les secteurs clés de la transition énergétique ?\nQuelles sont les opportunités formations\, métiers\, emplois ?\n\nMon territoire d’innovation :\n\nQuelles sont les actions et les réalisations innovantes menées sur le territoire pour accélérer ces changements ?\nQuelles sont les activités de SEINERGY LAB pour accompagner ces mutations ?\n\n2) Accédez aux 3 ESPACES RESSOURCES en groupe ou individuellement\nUn contenu multimédia varié pour aller plus loin dans l’exploration des domaines porteurs et des opportunités professionnelles (qui sera enrichi tout au long de l’année) : \nJ’expérimente et je comprends l’énergie\n\nQuizz\,\nInfographies\,\nApplications interactives\,\nEspaces pédagogiques jeunes et enseignants\,\nDossiers pédagogiques\,\nVidéos…\n\nJe m’oriente et je postule dans l’énergie\n\nFiches métiers\,\nVidéos métiers\,\nPrésentations métiers\,\nOffre de formations du territoire\,\nSites de recrutement…\n\nJe découvre mon territoire plein d’énergies\n\nPrésentations d’actions et de réalisations exemplaires\,\nVidéos…\n\nJe m’inscris / J’inscris un groupe / une classe \nJe vous parlerai d’un projet qui me tient à cœur\, qui allie performances sportives et transition énergétique. \nAlex CAIZERGUES \nDécouvrez le teaser de notre invité d’honneur\, Alex CAIZERGUES…\n\n\n\n\n\nCONTACT\nPour toute demande d’informations concernant votre inscription au replay et aux espaces ressources : \nLaurence HERPE\, cheffe de projet – l.herpe@seinergylab.fr
URL:https://www.yvelines-infos.fr/agenda/accedez-au-replay-et-aux-ressources-de-la-journee-des-metiers-de-demain-durant-1-an/
LOCATION:Seinergy Lab\, 53 avenue Paul Raoult\, Les Mureaux\, 78130\, France
ATTACH;FMTTYPE=image/jpeg:https://www.yvelines-infos.fr/content/uploads/2021/bandeau-web-jm3d-1200x450px-vlogos-plateforme-v2.jpg
ORGANIZER;CN="Seinergy%20Lab":MAILTO:contact@seinergylab.fr
GEO:48.9898992;1.9136635
X-APPLE-STRUCTURED-LOCATION;VALUE=URI;X-ADDRESS=Seinergy Lab 53 avenue Paul Raoult Les Mureaux 78130 France;X-APPLE-RADIUS=500;X-TITLE=53 avenue Paul Raoult:geo:1.9136635,48.9898992
END:VEVENT
BEGIN:VEVENT
DTSTART;VALUE=DATE:20210605
DTEND;VALUE=DATE:20210621
DTSTAMP:20260422T235234
CREATED:20210512T093526Z
LAST-MODIFIED:20210611T133916Z
UID:375563-1622851200-1624233599@www.yvelines-infos.fr
SUMMARY:Juin au jardin
DESCRIPTION:Arès 3 ans de fermeture\, le jardin du Musée départemental Maurice Denis ouvre ses portes au public. Venez découvrir ou redécouvrir cet écrin de verdure dominé par une terrasse et un ancien hôpital du XVIIe siècle\, parsemé de sculptures et planté de grands arbres. Une véritable bulle de calme et de culture au cœur de Saint‑Germain‑en-Laye. \nVous pourrez y flâner mais aussi participer à de nombreuses activités gratuites concoctées par l’équipe du musée les week-ends du 5 au 20 juin. \nLe programme\n– Le 5-6 juin\, weekend « Rendez-vous aux jardins » : ateliers autour du jardinage\, visite guidée du jardin\, activités ludiques sur la nature et le jardin\, dédicace du livre Maurice Denis\, jardins… (en partenariat avec l’association BiodiverCités78 et la Micro-Folie de Saint-Germain-en-Laye) \n– Le 12-13 juin\, weekend « Bien-Être » : yoga en musique\, contes\, atelier de fabrication de peinture naturelle… (en partenariat avec les médiathèques de Saint-Germain-en-Laye et avec la participation du musicien Klaim Nivaux) \n– Samedi 19 juin : concert \n– Dimanche 20 juin : « Kermesse chez Maurice Denis » : la Compagnie de l’Histoire et des Arts proposera de plonger dans une fête champêtre en 1896 et conviera le public à un grand pique-nique. \nLa Petit Pâtisserie de Lili proposera un assortiment de pâtisseries et boissons (produits locaux et responsables) les après-midis des dimanches 6 et 12 juin et du samedi 19 juin. \nAfin de respecter la réglementation sanitaire de vigueur\, l’accès au jardin et aux activités sera soumis à des jauges maximums de visiteurs. La billetterie en ligne\, accessible depuis le site internet du musée\, permettra de réserver ses activités à partir du 15 mai. Les places restantes seront en libre accès. \nRetrouvez toutes les informations sur le site du musée. 
URL:https://www.yvelines-infos.fr/agenda/rendez-vous-aux-jardins/
LOCATION:Musée départemental Maurice Denis\, Saint-Germain-en-Laye\, 2 bis\, rue Maurice Denis\, Saint-Germain-en-Laye\, 78100\, France
ATTACH;FMTTYPE=image/jpeg:https://www.yvelines-infos.fr/content/uploads/2021/facebook-1200x630.jpg
ORGANIZER;CN="Mus%C3%A9e%20d%C3%A9partemental%20Maurice%20Denis":MAILTO:lrimaux@yvelines.fr
GEO:48.8929785;2.0877236
X-APPLE-STRUCTURED-LOCATION;VALUE=URI;X-ADDRESS=Musée départemental Maurice Denis Saint-Germain-en-Laye 2 bis rue Maurice Denis Saint-Germain-en-Laye 78100 France;X-APPLE-RADIUS=500;X-TITLE=2 bis\, rue Maurice Denis:geo:2.0877236,48.8929785
END:VEVENT
BEGIN:VEVENT
DTSTART;TZID=Europe/Paris:20210608T080000
DTEND;TZID=Europe/Paris:20211031T170000
DTSTAMP:20260422T235234
CREATED:20210609T142259Z
LAST-MODIFIED:20210609T142259Z
UID:376254-1623139200-1635699600@www.yvelines-infos.fr
SUMMARY:"Cyclecars et voitures légères\, de 1910 à 1930"
DESCRIPTION:EXPOSITION 2021 \n« Cyclecars et voitures légères\, de 1910 à 1930 » \n5 juin > 31 octobre  \nSamedi et dimanche\, de 14h00 à 1800 \n  \nUn cyclecar ou cycle-car est une catégorie de voiture légère de 3 ou 4 roues\, de moins de 350 kg\, et 1100 cm³ maxi\, fabriquée essentiellement en Europe et en Amérique du Nord\, entre 1910 et la fin des années 1930. Ce type de véhicule économique était soumis à un régime juridique et fiscal spécifique avantageux d’entre-deux-guerres\, au même titre que les sides-cars. Certains modèles revendiquaient ouvertement leur affiliation au monde de la motocyclette\, entre autre par leur motorisation à un ou deux cylindres refroidis par air ou eau\, parfois face à la route. D’autres assumaient clairement leur statut de «petite» voiture\, étape intermédiaire sur le chemin de l’automobile. \nInéluctablement\, la démocratisation de la voiture devait amener à la disparition quasi complète des marques spécialisées dans ce type de véhicules\, hormis celles qui\, comme Salmson\, évoluèrent vers la fabrication de « vraies » autos. \n  \nSitué à Gallardon (28)\, dans une ancienne halle à marchandises de la SNCF\, les Ateliers des Pionniers ambitionnent de faire découvrir au plus grand nombre\, notamment au jeune public\, l’aventure\, l’esprit sportif\, ainsi que les défis techniques et innovations technologiques qui accompagnent les pionniers de la locomotion jusqu’à nos jours. Cette approche scientifique et ludique s’exprime grâce à une muséographie interactive.
URL:https://www.yvelines-infos.fr/agenda/cyclecars-et-voitures-legeres-de-1910-a-1930/
LOCATION:musée ateliers des pionniers\, place de la gre\, gallardon\, 28230
ATTACH;FMTTYPE=image/jpeg:https://www.yvelines-infos.fr/content/uploads/2021/affiche-expo-2021.jpg
END:VEVENT
END:VCALENDAR