BEGIN:VCALENDAR
VERSION:2.0
PRODID:-//Yvelines Infos - ECPv6.0.2//NONSGML v1.0//EN
CALSCALE:GREGORIAN
METHOD:PUBLISH
X-ORIGINAL-URL:https://www.yvelines-infos.fr
X-WR-CALDESC:Évènements pour Yvelines Infos
REFRESH-INTERVAL;VALUE=DURATION:PT1H
X-Robots-Tag:noindex
X-PUBLISHED-TTL:PT1H
BEGIN:VTIMEZONE
TZID:Europe/Paris
BEGIN:DAYLIGHT
TZOFFSETFROM:+0100
TZOFFSETTO:+0200
TZNAME:CEST
DTSTART:20200329T010000
END:DAYLIGHT
BEGIN:STANDARD
TZOFFSETFROM:+0200
TZOFFSETTO:+0100
TZNAME:CET
DTSTART:20201025T010000
END:STANDARD
BEGIN:DAYLIGHT
TZOFFSETFROM:+0100
TZOFFSETTO:+0200
TZNAME:CEST
DTSTART:20210328T010000
END:DAYLIGHT
BEGIN:STANDARD
TZOFFSETFROM:+0200
TZOFFSETTO:+0100
TZNAME:CET
DTSTART:20211031T010000
END:STANDARD
END:VTIMEZONE
BEGIN:VEVENT
DTSTART;VALUE=DATE:20200225
DTEND;VALUE=DATE:20210816
DTSTAMP:20260423T064655
CREATED:20201014T121307Z
LAST-MODIFIED:20201014T121307Z
UID:370104-1582588800-1629071999@www.yvelines-infos.fr
SUMMARY:Gabrielle\, modèle préféré de Renoir
DESCRIPTION:« Gabrielle modèle préféré de Renoir»\, la nouvelle exposition du Musée de la Grenouillère \nPoursuivant son hommage à Pierre-Auguste Renoir initié en 2019 pour le centenaire de la mort de l’artiste\, le Musée de la Grenouillère nous invite à un voyage de charme avec l’exposition\n« Gabrielle modèle préféré de Renoir».\nRéalisée grâce au concours du Centre culturel Renoir et de la Commune d’Essoyes\, dans l’Aube\, cette exposition rassemble des œuvres issues de collections particulières et évoque la destinée hors du commun de Gabrielle Renard\, fille de la campagne champenoise qui\, de Paris à Grasse et jusqu’aux Etats-Unis\, sera tour à tour employée de maison\, nourrice\, muse et figure féminine incontournable de deux artistes majeurs du XXe siècle : le peintre Auguste Renoir et le cinéaste Jean Renoir.\nMERCREDI ET DIMANCHE DU 23 FEVRIER À FIN AOUT 2021. \nMusée de la Grenouillère\, Chanorier – 12 Grande rue\, 78290 Croissy-sur Seine\, A 10 minutes à pied de la gare Chatou-Croissy\, RER A. Ouverture mercredi et dimanche de 14h30 à 18h00\, et tous les jours pour les groupes sur réservation.  Tarif normal : 5 € – Tarif réduit : 3 € – Tarif groupe visite guidée et commentée : 6 € Exposition réalisée grâce au concours du Centre culturel Renoir et de la Commune d’Essoyes. \nInformation : Musée de la Grenouillère\, tél. : 01 30 53 61 02\, mail : grenouillere@orange.fr \nTarif normal : 5 € – Tarif réduit : 3 € – Tarif groupe visite guidée et commentée : 6 €
URL:https://www.yvelines-infos.fr/agenda/gabrielle-modele-prefere-de-renoir/
LOCATION:Musée de la grenouillère\, 12 Grande Rue\, Croissy-sur-Seine\, 78290\, France
ATTACH;FMTTYPE=image/jpeg:https://www.yvelines-infos.fr/content/uploads/2020/a60c2f45cdd0c2410a86ee7cdd9391422b61c7092225673e01554b20bf4c225c-large.jpg
END:VEVENT
BEGIN:VEVENT
DTSTART;VALUE=DATE:20200912
DTEND;VALUE=DATE:20210522
DTSTAMP:20260423T064655
CREATED:20201001T092833Z
LAST-MODIFIED:20201001T092833Z
UID:369521-1599868800-1621641599@www.yvelines-infos.fr
SUMMARY:Globe-Trotters : les opérateurs d'Albert Kahn autour du monde
DESCRIPTION:Les Départements des Hauts-de-Seine et des Yvelines proposent l’exposition : « Globe-Trotters\, les opérateurs d’Albert-Kahn autour du monde (1909-1930) »\, du 12 septembre 2020 au 21 mai 2021\, au Domaine départemental de Sceaux et au parc départemental des Chanteraines dans les Hauts-de-Seine et au Domaine de Madame Elisabeth dans les Yvelines.  \nCette exposition propose un voyage photographique autour du monde à travers des autochromes issus du fonds des Archives de la Planète du Musée départemental Albert-Kahn\, à Boulogne-Billancourt. \nCette exposition inédite par son format se présente sous forme d’un road-book composé de 36 autochromes issus du fonds des Archives de la Planète du Musée départemental Albert-Kahn\, à Boulogne-Billancourt. Les autochromes\, d’une taille moyenne de 6×8 cm\, ont été numérisées en très haute définition\, puis des tirages argentiques contrecollés sur Dibond de 125×170 cm\, via agrandisseur numérique\, ont été réalisés par le laboratoire Dupon-Phidap. \nLes opérateurs d’Albert-Kahn ont sillonné différents continents\, contribuant à fixer sur leurs fragiles plaques les coutumes\, les peuples et les cités à l’heure des profonds bouleversements qui ont marqué le début du XXe siècle. Présentée comme un voyage destiné au grand public\, cette exposition offre un regard nostalgique sur des portraits\, des paysages ou des sites pour certains totalement disparus tel que le temple de Baal à Palmyre\, détruit par Daech en 2015. \nCes pionniers de la photographie en couleur font émerger au gré de leurs voyages des fragments oubliés d’un passé\, parfois étonnamment proche par la modernité de la prise de vue. \nEntrée libre
URL:https://www.yvelines-infos.fr/agenda/globe-trotters-les-operateurs-dalbert-kahn-autour-du-monde/
LOCATION:Domaine de Madame Elisabeth\, 73 avenue de Paris\, Versailles\, 78000\, France
ATTACH;FMTTYPE=image/jpeg:https://www.yvelines-infos.fr/content/uploads/2020/dp-expo-globetrotter-page-001.jpg
GEO:48.7997086;2.143848
X-APPLE-STRUCTURED-LOCATION;VALUE=URI;X-ADDRESS=Domaine de Madame Elisabeth 73 avenue de Paris Versailles 78000 France;X-APPLE-RADIUS=500;X-TITLE=73 avenue de Paris:geo:2.143848,48.7997086
END:VEVENT
BEGIN:VEVENT
DTSTART;TZID=Europe/Paris:20210311T210000
DTEND;TZID=Europe/Paris:20210313T000000
DTSTAMP:20260423T064655
CREATED:20210304T091005Z
LAST-MODIFIED:20210304T091357Z
UID:373605-1615496400-1615593600@www.yvelines-infos.fr
SUMMARY:Festival ElectroChic - édition 2021
DESCRIPTION:Le festival de musique électro ElectroChic revient du 11 au 13 mars 2021. Une 5ème édition repensée 100 % en ligne et gratuite ! \nEn 2020\, le Festival ElectroChic était partiellement amputé : nous entrions dans le premier week-end de restriction d’accès aux salles de spectacle. Cette année\, pas question de laisser portes closes ! C’est en ligne et gratuitement que l’équipe d’ElectroChic vous donne rendez-vous autour d’une programmation resserrée. \nJeudi 11 mars\, 21h\n260 ans d’histoire à Jouy-en-Josas rejoindront l’électro Acid Jazz d’Herr Krank pour un set au Musée de la Toile de Jouy\, organisé par la ville de Jouy-en-Josas et les associations Soundmotion et TBA. \nVendredi 12\, 20h\nLaake\, pianiste autodidacte et producteur électro\, se confiera au micro de Radio Sensations en collaboration avec la MJC de la Vallée à Chaville. \nVendredi 12\, 21h\nRencontre inédite entre Mokado et son univers de sons organiques et électroniques et Medium Douce qui proposera une musique aux tendances techno house dans l’architecture si typique de l’Atelier numérique de Versailles. \nSamedi 13\, 21h\nPoint d’orgue du festival : le tremplin dédié aux jeunes talents et organisé par L’Onde\, Théâtre Centre d’art de Vélizy-Villacoublay. Cette année\, chacun pourra voter via les réseaux sociaux pour son artiste préféré et élire\, peut-être\, le « Daft Punk » de demain ?! \nLe temps de la première diffusion en ligne\, les musiciens répondront aux questions des internautes en direct du Facebook. \n\nInscrivez-vous sur l’événement Facebook\nSuivez le Festival sur Instagram\nLes concerts seront aussi retransmis sur YouTube ElectroChic.\n\nLe Festival ElectroChic est organisé en partenariat avec le Département des Yvelines \nFestival ElectroChic 5
URL:https://www.yvelines-infos.fr/agenda/festival-electrochic-edition-2021/
ATTACH;FMTTYPE=image/jpeg:https://www.yvelines-infos.fr/content/uploads/2021/141106701-3326445924126215-7851370214009041133-o.jpg
END:VEVENT
END:VCALENDAR